Workbook

Sheet Policy check
A1: Employee ID | B1: Policy in brioHR | C1: Policy in your list | D1: Status
A2: BT001 | B2: DEFAULT POLICY | C2: Default Policy | D2: =IF(B2=C2,"OK","Different") -> OK
A3: BT002 | B3: DEFAULT POLICY | C3: Default Policy | D3: =IF(B3=C3,"OK","Different") -> OK
A4: BT003 | B4: SALES POLICY | C4: Sales Policy | D4: =IF(B4=C4,"OK","Different") -> OK
A5: BT004 | B5: DEFAULT POLICY | C5: Default Policy | D5: =IF(B5=C5,"OK","Different") -> OK
A6: BT005 | B6: DEFAULT POLICY | C6: Default Policy | D6: =IF(B6=C6,"OK","Different") -> OK
A7: BT006 | B7: DEFAULT POLICY | C7: Default Policy | D7: =IF(B7=C7,"OK","Different") -> OK
A8: BT007 | B8: DEFAULT POLICY | C8: Default Policy | D8: =IF(B8=C8,"OK","Different") -> OK
A9: BT008 | B9: SALES POLICY | C9: Sales Policy | D9: =IF(B9=C9,"OK","Different") -> OK
A10: BT009 | B10: DEFAULT POLICY | C10: Default Policy | D10: =IF(B10=C10,"OK","Different") -> OK
A11: BT010 | B11: DEFAULT POLICY | C11: Default Policy | D11: =IF(B11=C11,"OK","Different") -> OK
A12: BT011 | B12: DEFAULT POLICY | C12: Default Policy | D12: =IF(B12=C12,"OK","Different") -> OK
A13: BT012 | B13: DEFAULT POLICY | C13: Default Policy | D13: =IF(B13=C13,"OK","Different") -> OK
... A31: BT030 | B31: DEFAULT POLICY | C31: Default Policy | D31: =IF(B31=C31,"OK","Different") -> OK

Sheet Limits check
A1: Claim Policy | B1: Claims Type | C1: Limit per Transaction | D1: Limit per Month | E1: Limit per Year | F1: Employees with this limit | G1: Note
A2: DEFAULT POLICY | B2: Meals (Travel) | F2: =COUNTIFS(brioHR!$F$2:$F$126,A2,brioHR!$G$2:$G$126,B2,brioHR!$M$2:$M$126,"") -> 25
A3: DEFAULT POLICY | B3: Medical | E3: 1000 | F3: =COUNTIFS(brioHR!$F$2:$F$126,A3,brioHR!$G$2:$G$126,B3,brioHR!$M$2:$M$126,E3) -> 24 | G3: Two rows for the same policy and claim type: check which employee has the other limit
A4: DEFAULT POLICY | B4: Medical | E4: 1500 | F4: =COUNTIFS(brioHR!$F$2:$F$126,A4,brioHR!$G$2:$G$126,B4,brioHR!$M$2:$M$126,E4) -> 1 | G4: Two rows for the same policy and claim type: check which employee has the other limit
A5: DEFAULT POLICY | B5: Mileage | D5: 800 | F5: =COUNTIFS(brioHR!$F$2:$F$126,A5,brioHR!$G$2:$G$126,B5,brioHR!$M$2:$M$126,"") -> 25
A6: DEFAULT POLICY | B6: Parking | F6: =COUNTIFS(brioHR!$F$2:$F$126,A6,brioHR!$G$2:$G$126,B6,brioHR!$M$2:$M$126,"") -> 25
A7: SALES POLICY | B7: Meals (Travel) | F7: =COUNTIFS(brioHR!$F$2:$F$126,A7,brioHR!$G$2:$G$126,B7,brioHR!$M$2:$M$126,"") -> 5
A8: SALES POLICY | B8: Medical | E8: 1000 | F8: =COUNTIFS(brioHR!$F$2:$F$126,A8,brioHR!$G$2:$G$126,B8,brioHR!$M$2:$M$126,E8) -> 5
A9: SALES POLICY | B9: Mileage | D9: 800 | F9: =COUNTIFS(brioHR!$F$2:$F$126,A9,brioHR!$G$2:$G$126,B9,brioHR!$M$2:$M$126,"") -> 5
A10: SALES POLICY | B10: Parking | F10: =COUNTIFS(brioHR!$F$2:$F$126,A10,brioHR!$G$2:$G$126,B10,brioHR!$M$2:$M$126,"") -> 5
A11: SALES POLICY | B11: Phone | D11: 150 | F11: =COUNTIFS(brioHR!$F$2:$F$126,A11,brioHR!$G$2:$G$126,B11,brioHR!$M$2:$M$126,"") -> 5

Sheet History totals
A1: Employee ID | B1: Claim Type | C1: Key | D1: Total in your template
A2: BT001 | B2: Medical | C2: =A2&"|"&B2 -> BT001|Medical | D2: =SUMIFS('Claim history (submitted)'!$G$2:$G$82,'Claim history (submitted)'!$H$2:$H$82,C2) -> 180
A3: BT002 | B3: Mileage | C3: =A3&"|"&B3 -> BT002|Mileage | D3: =SUMIFS('Claim history (submitted)'!$G$2:$G$82,'Claim history (submitted)'!$H$2:$H$82,C3) -> 72
A4: BT003 | B4: Mileage | C4: =A4&"|"&B4 -> BT003|Mileage | D4: =SUMIFS('Claim history (submitted)'!$G$2:$G$82,'Claim history (submitted)'!$H$2:$H$82,C4) -> 324
A5: BT003 | B5: Phone | C5: =A5&"|"&B5 -> BT003|Phone | D5: =SUMIFS('Claim history (submitted)'!$G$2:$G$82,'Claim history (submitted)'!$H$2:$H$82,C5) -> 326
A6: BT004 | B6: Medical | C6: =A6&"|"&B6 -> BT004|Medical | D6: =SUMIFS('Claim history (submitted)'!$G$2:$G$82,'Claim history (submitted)'!$H$2:$H$82,C6) -> 45
A7: BT005 | B7: Medical | C7: =A7&"|"&B7 -> BT005|Medical | D7: =SUMIFS('Claim history (submitted)'!$G$2:$G$82,'Claim history (submitted)'!$H$2:$H$82,C7) -> 175
A8: BT005 | B8: Medical Claim | C8: =A8&"|"&B8 -> BT005|Medical Claim | D8: =SUMIFS('Claim history (submitted)'!$G$2:$G$82,'Claim history (submitted)'!$H$2:$H$82,C8) -> 240
A9: BT006 | B9: Medical | C9: =A9&"|"&B9 -> BT006|Medical | D9: =SUMIFS('Claim history (submitted)'!$G$2:$G$82,'Claim history (submitted)'!$H$2:$H$82,C9) -> 140
A10: BT007 | B10: Mileage | C10: =A10&"|"&B10 -> BT007|Mileage | D10: =SUMIFS('Claim history (submitted)'!$G$2:$G$82,'Claim history (submitted)'!$H$2:$H$82,C10) -> 570
A11: BT007 | B11: Medical | C11: =A11&"|"&B11 -> BT007|Medical | D11: =SUMIFS('Claim history (submitted)'!$G$2:$G$82,'Claim history (submitted)'!$H$2:$H$82,C11) -> 60
A12: BT008 | B12: Medical | C12: =A12&"|"&B12 -> BT008|Medical | D12: =SUMIFS('Claim history (submitted)'!$G$2:$G$82,'Claim history (submitted)'!$H$2:$H$82,C12) -> 215
A13: BT008 | B13: Mileage | C13: =A13&"|"&B13 -> BT008|Mileage | D13: =SUMIFS('Claim history (submitted)'!$G$2:$G$82,'Claim history (submitted)'!$H$2:$H$82,C13) -> 570
... A47: BT030 | B47: Medical | C47: =A47&"|"&B47 -> BT030|Medical | D47: =SUMIFS('Claim history (submitted)'!$G$2:$G$82,'Claim history (submitted)'!$H$2:$H$82,C47) -> 95

Sheet Totals check
A1: Item | B1: Your template | C1: brioHR | D1: Difference
A2: Employee and claim type pairs with an amount | B2: =COUNTA('History totals'!A2:A47) -> 46 | C2: =COUNTIF(brioHR!N2:N126,">0") -> 40 | D2: =C2-B2 -> -6
A3: Total used this year: Mileage | B3: =SUMIFS('Claim history (submitted)'!G2:G82,'Claim history (submitted)'!E2:E82,"Mileage") -> 4392 | C3: =SUMIFS(brioHR!N2:N126,brioHR!G2:G126,"Mileage") -> 4146 | D3: =C3-B3 -> -246
A4: Total used this year: Medical | B4: =SUMIFS('Claim history (submitted)'!G2:G82,'Claim history (submitted)'!E2:E82,"Medical") -> 4190 | C4: =SUMIFS(brioHR!N2:N126,brioHR!G2:G126,"Medical") -> 3685 | D4: =C4-B4 -> -505
A5: Total used this year: Phone | B5: =SUMIFS('Claim history (submitted)'!G2:G82,'Claim history (submitted)'!E2:E82,"Phone") -> 2193 | C5: =SUMIFS(brioHR!N2:N126,brioHR!G2:G126,"Phone") -> 1758 | D5: =C5-B5 -> -435
A6: Total of all claim history | B6: =SUM('Claim history (submitted)'!G2:G82) -> 11355 | C6: =SUM(brioHR!N2:N126) -> 9589 | D6: =C6-B6 -> -1766
A8: The template also has claim type "Medical Claim", which brioHR does not have. Its rows are in the template total but in no brioHR claim type.

Sheet Comparison
A1: Employee ID | B1: Claim Type | C1: Key | D1: Total in your template | E1: Used per Year in brioHR | F1: Difference | G1: Status
A2: ='History totals'!A2 -> BT001 | B2: ='History totals'!B2 -> Medical | C2: ='History totals'!C2 -> BT001|Medical | D2: ='History totals'!D2 -> 180 | E2: =IFERROR(INDEX(brioHR!$N$2:$N$126,MATCH(C2,brioHR!$T$2:$T$126,0)),"Missing") -> 180 | F2: =IF(ISNUMBER(E2),E2-D2,"Missing") -> 0 | G2: =IF(ISNUMBER(F2),IF(F2=0,"OK","Different"),"Missing") -> OK
A3: ='History totals'!A3 -> BT002 | B3: ='History totals'!B3 -> Mileage | C3: ='History totals'!C3 -> BT002|Mileage | D3: ='History totals'!D3 -> 72 | E3: =IFERROR(INDEX(brioHR!$N$2:$N$126,MATCH(C3,brioHR!$T$2:$T$126,0)),"Missing") -> 72 | F3: =IF(ISNUMBER(E3),E3-D3,"Missing") -> 0 | G3: =IF(ISNUMBER(F3),IF(F3=0,"OK","Different"),"Missing") -> OK
A4: ='History totals'!A4 -> BT003 | B4: ='History totals'!B4 -> Mileage | C4: ='History totals'!C4 -> BT003|Mileage | D4: ='History totals'!D4 -> 324 | E4: =IFERROR(INDEX(brioHR!$N$2:$N$126,MATCH(C4,brioHR!$T$2:$T$126,0)),"Missing") -> 324 | F4: =IF(ISNUMBER(E4),E4-D4,"Missing") -> 0 | G4: =IF(ISNUMBER(F4),IF(F4=0,"OK","Different"),"Missing") -> OK
A5: ='History totals'!A5 -> BT003 | B5: ='History totals'!B5 -> Phone | C5: ='History totals'!C5 -> BT003|Phone | D5: ='History totals'!D5 -> 326 | E5: =IFERROR(INDEX(brioHR!$N$2:$N$126,MATCH(C5,brioHR!$T$2:$T$126,0)),"Missing") -> 326 | F5: =IF(ISNUMBER(E5),E5-D5,"Missing") -> 0 | G5: =IF(ISNUMBER(F5),IF(F5=0,"OK","Different"),"Missing") -> OK
A6: ='History totals'!A6 -> BT004 | B6: ='History totals'!B6 -> Medical | C6: ='History totals'!C6 -> BT004|Medical | D6: ='History totals'!D6 -> 45 | E6: =IFERROR(INDEX(brioHR!$N$2:$N$126,MATCH(C6,brioHR!$T$2:$T$126,0)),"Missing") -> 45 | F6: =IF(ISNUMBER(E6),E6-D6,"Missing") -> 0 | G6: =IF(ISNUMBER(F6),IF(F6=0,"OK","Different"),"Missing") -> OK
A7: ='History totals'!A7 -> BT005 | B7: ='History totals'!B7 -> Medical | C7: ='History totals'!C7 -> BT005|Medical | D7: ='History totals'!D7 -> 175 | E7: =IFERROR(INDEX(brioHR!$N$2:$N$126,MATCH(C7,brioHR!$T$2:$T$126,0)),"Missing") -> 175 | F7: =IF(ISNUMBER(E7),E7-D7,"Missing") -> 0 | G7: =IF(ISNUMBER(F7),IF(F7=0,"OK","Different"),"Missing") -> OK
A8: ='History totals'!A8 -> BT005 | B8: ='History totals'!B8 -> Medical Claim | C8: ='History totals'!C8 -> BT005|Medical Claim | D8: ='History totals'!D8 -> 240 | E8: =IFERROR(INDEX(brioHR!$N$2:$N$126,MATCH(C8,brioHR!$T$2:$T$126,0)),"Missing") -> Missing | F8: =IF(ISNUMBER(E8),E8-D8,"Missing") -> Missing | G8: =IF(ISNUMBER(F8),IF(F8=0,"OK","Different"),"Missing") -> Missing
A9: ='History totals'!A9 -> BT006 | B9: ='History totals'!B9 -> Medical | C9: ='History totals'!C9 -> BT006|Medical | D9: ='History totals'!D9 -> 140 | E9: =IFERROR(INDEX(brioHR!$N$2:$N$126,MATCH(C9,brioHR!$T$2:$T$126,0)),"Missing") -> 140 | F9: =IF(ISNUMBER(E9),E9-D9,"Missing") -> 0 | G9: =IF(ISNUMBER(F9),IF(F9=0,"OK","Different"),"Missing") -> OK
A10: ='History totals'!A10 -> BT007 | B10: ='History totals'!B10 -> Mileage | C10: ='History totals'!C10 -> BT007|Mileage | D10: ='History totals'!D10 -> 570 | E10: =IFERROR(INDEX(brioHR!$N$2:$N$126,MATCH(C10,brioHR!$T$2:$T$126,0)),"Missing") -> 570 | F10: =IF(ISNUMBER(E10),E10-D10,"Missing") -> 0 | G10: =IF(ISNUMBER(F10),IF(F10=0,"OK","Different"),"Missing") -> OK
A11: ='History totals'!A11 -> BT007 | B11: ='History totals'!B11 -> Medical | C11: ='History totals'!C11 -> BT007|Medical | D11: ='History totals'!D11 -> 60 | E11: =IFERROR(INDEX(brioHR!$N$2:$N$126,MATCH(C11,brioHR!$T$2:$T$126,0)),"Missing") -> 60 | F11: =IF(ISNUMBER(E11),E11-D11,"Missing") -> 0 | G11: =IF(ISNUMBER(F11),IF(F11=0,"OK","Different"),"Missing") -> OK
A12: ='History totals'!A12 -> BT008 | B12: ='History totals'!B12 -> Medical | C12: ='History totals'!C12 -> BT008|Medical | D12: ='History totals'!D12 -> 215 | E12: =IFERROR(INDEX(brioHR!$N$2:$N$126,MATCH(C12,brioHR!$T$2:$T$126,0)),"Missing") -> 215 | F12: =IF(ISNUMBER(E12),E12-D12,"Missing") -> 0 | G12: =IF(ISNUMBER(F12),IF(F12=0,"OK","Different"),"Missing") -> OK
A13: ='History totals'!A13 -> BT008 | B13: ='History totals'!B13 -> Mileage | C13: ='History totals'!C13 -> BT008|Mileage | D13: ='History totals'!D13 -> 570 | E13: =IFERROR(INDEX(brioHR!$N$2:$N$126,MATCH(C13,brioHR!$T$2:$T$126,0)),"Missing") -> 570 | F13: =IF(ISNUMBER(E13),E13-D13,"Missing") -> 0 | G13: =IF(ISNUMBER(F13),IF(F13=0,"OK","Different"),"Missing") -> OK
... A47: ='History totals'!A47 -> BT030 | B47: ='History totals'!B47 -> Medical | C47: ='History totals'!C47 -> BT030|Medical | D47: ='History totals'!D47 -> 95 | E47: =IFERROR(INDEX(brioHR!$N$2:$N$126,MATCH(C47,brioHR!$T$2:$T$126,0)),"Missing") -> 95 | F47: =IF(ISNUMBER(E47),E47-D47,"Missing") -> 0 | G47: =IF(ISNUMBER(F47),IF(F47=0,"OK","Different"),"Missing") -> OK

Sheet Discrepancy list
A1: Employee ID | B1: Claim type | C1: What | D1: Your template | E1: brioHR | F1: Difference | G1: Likely cause
A2: BT005 | B2: Medical Claim | C2: Used per Year | D2: 240 | E2: Missing | F2: Missing | G2: Claim type typed as "Medical Claim" in the template. brioHR has no claim type with that name, so these rows were not imported.
A3: BT011 | B3: Medical Claim | C3: Used per Year | D3: 220 | E3: Missing | F3: Missing | G3: Claim type typed as "Medical Claim" in the template. brioHR has no claim type with that name, so these rows were not imported.
A4: BT012 | B4: Medical | C4: Used per Year | D4: 570 | E4: 390 | F4: -180 | G4: One claim of 420.00 (June) was imported as 240.00.
A5: BT017 | B5: Medical Claim | C5: Used per Year | D5: 120 | E5: Missing | F5: Missing | G5: Claim type typed as "Medical Claim" in the template. brioHR has no claim type with that name, so these rows were not imported.
A6: BT024 | B6: Phone | C6: Used per Year | D6: 435 | E6: Missing | F6: Missing | G6: Employee is in the Default Policy in brioHR, which has no Phone claim type, so their Phone history had nowhere to go. Your list puts them in the Sales Policy.
A7: BT027 | B7: Medical | C7: Used per Year | D7: 325 | E7: 0 | F7: -325 | G7: None of this employee's claim history was imported.
A8: BT027 | B8: Mileage | C8: Used per Year | D8: 246 | E8: 0 | F8: -246 | G8: None of this employee's claim history was imported.
A9: BT024 | B9: (policy) | C9: Claim policy | D9: Sales Policy | E9: DEFAULT POLICY | G9: Not moved to the Sales Policy. Found in the policy check (Step 2).
A10: BT009 | B10: Medical | C10: Limit per Year | D10: 1000 | E10: 1500 | F10: 500 | G10: Individual custom limit that your template doesn't ask for. Found in the limits check (Step 3).

Sheet brioHR
A1: Internal Id | B1: First Name | C1: Last Name | D1: Preferred Name | E1: Email | F1: Claim Policy | G1: Claims Type | H1: Claim Currency | I1: Limit per Transaction | J1: Limit per Month | K1: Used per Month | L1: Balance per Month | M1: Limit per Year | N1: Used per Year | O1: Balance per Year | P1: Job Title | Q1: Office | R1: Department | S1: Active/Inactive | T1: Key
A2: BT001 | B2: Aina | C2: Rahman | E2: aina.rahman@bayutech.example | F2: DEFAULT POLICY | G2: Meals (Travel) | H2: MYR | K2: 0 | N2: 0 | P2: Executive | Q2: North Branch | R2: Finance | S2: Active | T2: =A2&"|"&G2 -> BT001|Meals (Travel)
A3: BT001 | B3: Aina | C3: Rahman | E3: aina.rahman@bayutech.example | F3: DEFAULT POLICY | G3: Mileage | H3: MYR | J3: 800 | K3: 0 | L3: 800 | N3: 0 | P3: Executive | Q3: North Branch | R3: Finance | S3: Active | T3: =A3&"|"&G3 -> BT001|Mileage
A4: BT001 | B4: Aina | C4: Rahman | E4: aina.rahman@bayutech.example | F4: DEFAULT POLICY | G4: Medical | H4: MYR | K4: 0 | M4: 1000 | N4: 180 | O4: 820 | P4: Executive | Q4: North Branch | R4: Finance | S4: Active | T4: =A4&"|"&G4 -> BT001|Medical
A5: BT001 | B5: Aina | C5: Rahman | E5: aina.rahman@bayutech.example | F5: DEFAULT POLICY | G5: Parking | H5: MYR | K5: 0 | N5: 0 | P5: Executive | Q5: North Branch | R5: Finance | S5: Active | T5: =A5&"|"&G5 -> BT001|Parking
A6: BT002 | B6: Daniel | C6: Lee | E6: daniel.lee@bayutech.example | F6: DEFAULT POLICY | G6: Meals (Travel) | H6: MYR | K6: 0 | N6: 0 | P6: Executive | Q6: Head Office | R6: Engineering | S6: Active | T6: =A6&"|"&G6 -> BT002|Meals (Travel)
A7: BT002 | B7: Daniel | C7: Lee | E7: daniel.lee@bayutech.example | F7: DEFAULT POLICY | G7: Mileage | H7: MYR | J7: 800 | K7: 0 | L7: 800 | N7: 72 | P7: Executive | Q7: Head Office | R7: Engineering | S7: Active | T7: =A7&"|"&G7 -> BT002|Mileage
A8: BT002 | B8: Daniel | C8: Lee | E8: daniel.lee@bayutech.example | F8: DEFAULT POLICY | G8: Medical | H8: MYR | K8: 0 | M8: 1000 | N8: 0 | O8: 1000 | P8: Executive | Q8: Head Office | R8: Engineering | S8: Active | T8: =A8&"|"&G8 -> BT002|Medical
A9: BT002 | B9: Daniel | C9: Lee | E9: daniel.lee@bayutech.example | F9: DEFAULT POLICY | G9: Parking | H9: MYR | K9: 0 | N9: 0 | P9: Executive | Q9: Head Office | R9: Engineering | S9: Active | T9: =A9&"|"&G9 -> BT002|Parking
A10: BT003 | B10: Mei Ling | C10: Tan | E10: mei.tan@bayutech.example | F10: SALES POLICY | G10: Meals (Travel) | H10: MYR | K10: 0 | N10: 0 | P10: Executive | Q10: Head Office | R10: Sales | S10: Active | T10: =A10&"|"&G10 -> BT003|Meals (Travel)
A11: BT003 | B11: Mei Ling | C11: Tan | E11: mei.tan@bayutech.example | F11: SALES POLICY | G11: Mileage | H11: MYR | J11: 800 | K11: 0 | L11: 800 | N11: 324 | P11: Executive | Q11: Head Office | R11: Sales | S11: Active | T11: =A11&"|"&G11 -> BT003|Mileage
A12: BT003 | B12: Mei Ling | C12: Tan | E12: mei.tan@bayutech.example | F12: SALES POLICY | G12: Medical | H12: MYR | K12: 0 | M12: 1000 | N12: 0 | O12: 1000 | P12: Executive | Q12: Head Office | R12: Sales | S12: Active | T12: =A12&"|"&G12 -> BT003|Medical
A13: BT003 | B13: Mei Ling | C13: Tan | E13: mei.tan@bayutech.example | F13: SALES POLICY | G13: Parking | H13: MYR | K13: 0 | N13: 0 | P13: Executive | Q13: Head Office | R13: Sales | S13: Active | T13: =A13&"|"&G13 -> BT003|Parking
A14: BT003 | B14: Mei Ling | C14: Tan | E14: mei.tan@bayutech.example | F14: SALES POLICY | G14: Phone | H14: MYR | J14: 150 | K14: 88 | L14: 62 | N14: 326 | P14: Executive | Q14: Head Office | R14: Sales | S14: Active | T14: =A14&"|"&G14 -> BT003|Phone
A15: BT004 | B15: Ravi | C15: Kumar | E15: ravi.kumar@bayutech.example | F15: DEFAULT POLICY | G15: Meals (Travel) | H15: MYR | K15: 0 | N15: 0 | P15: Executive | Q15: North Branch | R15: HR | S15: Active | T15: =A15&"|"&G15 -> BT004|Meals (Travel)
A16: BT004 | B16: Ravi | C16: Kumar | E16: ravi.kumar@bayutech.example | F16: DEFAULT POLICY | G16: Mileage | H16: MYR | J16: 800 | K16: 0 | L16: 800 | N16: 0 | P16: Executive | Q16: North Branch | R16: HR | S16: Active | T16: =A16&"|"&G16 -> BT004|Mileage
A17: BT004 | B17: Ravi | C17: Kumar | E17: ravi.kumar@bayutech.example | F17: DEFAULT POLICY | G17: Medical | H17: MYR | K17: 45 | M17: 1000 | N17: 45 | O17: 955 | P17: Executive | Q17: North Branch | R17: HR | S17: Active | T17: =A17&"|"&G17 -> BT004|Medical
A18: BT004 | B18: Ravi | C18: Kumar | E18: ravi.kumar@bayutech.example | F18: DEFAULT POLICY | G18: Parking | H18: MYR | K18: 0 | N18: 0 | P18: Executive | Q18: North Branch | R18: HR | S18: Active | T18: =A18&"|"&G18 -> BT004|Parking
A19: BT005 | B19: Siti | C19: Aziz | E19: siti.aziz@bayutech.example | F19: DEFAULT POLICY | G19: Meals (Travel) | H19: MYR | K19: 0 | N19: 0 | P19: Executive | Q19: Head Office | R19: Marketing | S19: Active | T19: =A19&"|"&G19 -> BT005|Meals (Travel)
A20: BT005 | B20: Siti | C20: Aziz | E20: siti.aziz@bayutech.example | F20: DEFAULT POLICY | G20: Mileage | H20: MYR | J20: 800 | K20: 0 | L20: 800 | N20: 0 | P20: Executive | Q20: Head Office | R20: Marketing | S20: Active | T20: =A20&"|"&G20 -> BT005|Mileage
A21: BT005 | B21: Siti | C21: Aziz | E21: siti.aziz@bayutech.example | F21: DEFAULT POLICY | G21: Medical | H21: MYR | K21: 0 | M21: 1000 | N21: 175 | O21: 825 | P21: Executive | Q21: Head Office | R21: Marketing | S21: Active | T21: =A21&"|"&G21 -> BT005|Medical
A22: BT005 | B22: Siti | C22: Aziz | E22: siti.aziz@bayutech.example | F22: DEFAULT POLICY | G22: Parking | H22: MYR | K22: 0 | N22: 0 | P22: Executive | Q22: Head Office | R22: Marketing | S22: Active | T22: =A22&"|"&G22 -> BT005|Parking
A23: BT006 | B23: Farid | C23: Hassan | E23: farid.hassan@bayutech.example | F23: DEFAULT POLICY | G23: Meals (Travel) | H23: MYR | K23: 0 | N23: 0 | P23: Executive | Q23: Head Office | R23: Finance | S23: Active | T23: =A23&"|"&G23 -> BT006|Meals (Travel)
A24: BT006 | B24: Farid | C24: Hassan | E24: farid.hassan@bayutech.example | F24: DEFAULT POLICY | G24: Mileage | H24: MYR | J24: 800 | K24: 0 | L24: 800 | N24: 0 | P24: Executive | Q24: Head Office | R24: Finance | S24: Active | T24: =A24&"|"&G24 -> BT006|Mileage
A25: BT006 | B25: Farid | C25: Hassan | E25: farid.hassan@bayutech.example | F25: DEFAULT POLICY | G25: Medical | H25: MYR | K25: 0 | M25: 1000 | N25: 140 | O25: 860 | P25: Executive | Q25: Head Office | R25: Finance | S25: Active | T25: =A25&"|"&G25 -> BT006|Medical
A26: BT006 | B26: Farid | C26: Hassan | E26: farid.hassan@bayutech.example | F26: DEFAULT POLICY | G26: Parking | H26: MYR | K26: 0 | N26: 0 | P26: Executive | Q26: Head Office | R26: Finance | S26: Active | T26: =A26&"|"&G26 -> BT006|Parking
A27: BT007 | B27: Jason | C27: Wong | E27: jason.wong@bayutech.example | F27: DEFAULT POLICY | G27: Meals (Travel) | H27: MYR | K27: 0 | N27: 0 | P27: Executive | Q27: North Branch | R27: Engineering | S27: Active | T27: =A27&"|"&G27 -> BT007|Meals (Travel)
A28: BT007 | B28: Jason | C28: Wong | E28: jason.wong@bayutech.example | F28: DEFAULT POLICY | G28: Mileage | H28: MYR | J28: 800 | K28: 0 | L28: 800 | N28: 570 | P28: Executive | Q28: North Branch | R28: Engineering | S28: Active | T28: =A28&"|"&G28 -> BT007|Mileage
A29: BT007 | B29: Jason | C29: Wong | E29: jason.wong@bayutech.example | F29: DEFAULT POLICY | G29: Medical | H29: MYR | K29: 0 | M29: 1000 | N29: 60 | O29: 940 | P29: Executive | Q29: North Branch | R29: Engineering | S29: Active | T29: =A29&"|"&G29 -> BT007|Medical
A30: BT007 | B30: Jason | C30: Wong | E30: jason.wong@bayutech.example | F30: DEFAULT POLICY | G30: Parking | H30: MYR | K30: 0 | N30: 0 | P30: Executive | Q30: North Branch | R30: Engineering | S30: Active | T30: =A30&"|"&G30 -> BT007|Parking
A31: BT008 | B31: Nurul | C31: Huda Ismail | E31: nurul.huda@bayutech.example | F31: SALES POLICY | G31: Meals (Travel) | H31: MYR | K31: 0 | N31: 0 | P31: Executive | Q31: Head Office | R31: Sales | S31: Active | T31: =A31&"|"&G31 -> BT008|Meals (Travel)
A32: BT008 | B32: Nurul | C32: Huda Ismail | E32: nurul.huda@bayutech.example | F32: SALES POLICY | G32: Mileage | H32: MYR | J32: 800 | K32: 0 | L32: 800 | N32: 570 | P32: Executive | Q32: Head Office | R32: Sales | S32: Active | T32: =A32&"|"&G32 -> BT008|Mileage
A33: BT008 | B33: Nurul | C33: Huda Ismail | E33: nurul.huda@bayutech.example | F33: SALES POLICY | G33: Medical | H33: MYR | K33: 0 | M33: 1000 | N33: 215 | O33: 785 | P33: Executive | Q33: Head Office | R33: Sales | S33: Active | T33: =A33&"|"&G33 -> BT008|Medical
A34: BT008 | B34: Nurul | C34: Huda Ismail | E34: nurul.huda@bayutech.example | F34: SALES POLICY | G34: Parking | H34: MYR | K34: 0 | N34: 0 | P34: Executive | Q34: Head Office | R34: Sales | S34: Active | T34: =A34&"|"&G34 -> BT008|Parking
A35: BT008 | B35: Nurul | C35: Huda Ismail | E35: nurul.huda@bayutech.example | F35: SALES POLICY | G35: Phone | H35: MYR | J35: 150 | K35: 120 | L35: 30 | N35: 358 | P35: Executive | Q35: Head Office | R35: Sales | S35: Active | T35: =A35&"|"&G35 -> BT008|Phone
A36: BT009 | B36: Kumar | C36: Raj | E36: kumar.raj@bayutech.example | F36: DEFAULT POLICY | G36: Meals (Travel) | H36: MYR | K36: 0 | N36: 0 | P36: Executive | Q36: Head Office | R36: HR | S36: Active | T36: =A36&"|"&G36 -> BT009|Meals (Travel)
A37: BT009 | B37: Kumar | C37: Raj | E37: kumar.raj@bayutech.example | F37: DEFAULT POLICY | G37: Mileage | H37: MYR | J37: 800 | K37: 0 | L37: 800 | N37: 0 | P37: Executive | Q37: Head Office | R37: HR | S37: Active | T37: =A37&"|"&G37 -> BT009|Mileage
A38: BT009 | B38: Kumar | C38: Raj | E38: kumar.raj@bayutech.example | F38: DEFAULT POLICY | G38: Medical | H38: MYR | K38: 0 | M38: 1500 | N38: 220 | O38: 1280 | P38: Executive | Q38: Head Office | R38: HR | S38: Active | T38: =A38&"|"&G38 -> BT009|Medical
A39: BT009 | B39: Kumar | C39: Raj | E39: kumar.raj@bayutech.example | F39: DEFAULT POLICY | G39: Parking | H39: MYR | K39: 0 | N39: 0 | P39: Executive | Q39: Head Office | R39: HR | S39: Active | T39: =A39&"|"&G39 -> BT009|Parking
A40: BT010 | B40: Hui Min | C40: Lim | E40: hui.lim@bayutech.example | F40: DEFAULT POLICY | G40: Meals (Travel) | H40: MYR | K40: 0 | N40: 0 | P40: Executive | Q40: North Branch | R40: Marketing | S40: Active | T40: =A40&"|"&G40 -> BT010|Meals (Travel)
A41: BT010 | B41: Hui Min | C41: Lim | E41: hui.lim@bayutech.example | F41: DEFAULT POLICY | G41: Mileage | H41: MYR | J41: 800 | K41: 0 | L41: 800 | N41: 0 | P41: Executive | Q41: North Branch | R41: Marketing | S41: Active | T41: =A41&"|"&G41 -> BT010|Mileage
A42: BT010 | B42: Hui Min | C42: Lim | E42: hui.lim@bayutech.example | F42: DEFAULT POLICY | G42: Medical | H42: MYR | K42: 0 | M42: 1000 | N42: 0 | O42: 1000 | P42: Executive | Q42: North Branch | R42: Marketing | S42: Active | T42: =A42&"|"&G42 -> BT010|Medical
A43: BT010 | B43: Hui Min | C43: Lim | E43: hui.lim@bayutech.example | F43: DEFAULT POLICY | G43: Parking | H43: MYR | K43: 0 | N43: 0 | P43: Executive | Q43: North Branch | R43: Marketing | S43: Active | T43: =A43&"|"&G43 -> BT010|Parking
A44: BT011 | B44: Amir | C44: Yusof | E44: amir.yusof@bayutech.example | F44: DEFAULT POLICY | G44: Meals (Travel) | H44: MYR | K44: 0 | N44: 0 | P44: Executive | Q44: Head Office | R44: Finance | S44: Active | T44: =A44&"|"&G44 -> BT011|Meals (Travel)
A45: BT011 | B45: Amir | C45: Yusof | E45: amir.yusof@bayutech.example | F45: DEFAULT POLICY | G45: Mileage | H45: MYR | J45: 800 | K45: 0 | L45: 800 | N45: 0 | P45: Executive | Q45: Head Office | R45: Finance | S45: Active | T45: =A45&"|"&G45 -> BT011|Mileage
A46: BT011 | B46: Amir | C46: Yusof | E46: amir.yusof@bayutech.example | F46: DEFAULT POLICY | G46: Medical | H46: MYR | K46: 0 | M46: 1000 | N46: 0 | O46: 1000 | P46: Executive | Q46: Head Office | R46: Finance | S46: Active | T46: =A46&"|"&G46 -> BT011|Medical
A47: BT011 | B47: Amir | C47: Yusof | E47: amir.yusof@bayutech.example | F47: DEFAULT POLICY | G47: Parking | H47: MYR | K47: 0 | N47: 0 | P47: Executive | Q47: Head Office | R47: Finance | S47: Active | T47: =A47&"|"&G47 -> BT011|Parking
A48: BT012 | B48: Priya | C48: Nair | E48: priya.nair@bayutech.example | F48: DEFAULT POLICY | G48: Meals (Travel) | H48: MYR | K48: 0 | N48: 0 | P48: Executive | Q48: Head Office | R48: Engineering | S48: Active | T48: =A48&"|"&G48 -> BT012|Meals (Travel)
A49: BT012 | B49: Priya | C49: Nair | E49: priya.nair@bayutech.example | F49: DEFAULT POLICY | G49: Mileage | H49: MYR | J49: 800 | K49: 72 | L49: 728 | N49: 216 | P49: Executive | Q49: Head Office | R49: Engineering | S49: Active | T49: =A49&"|"&G49 -> BT012|Mileage
A50: BT012 | B50: Priya | C50: Nair | E50: priya.nair@bayutech.example | F50: DEFAULT POLICY | G50: Medical | H50: MYR | K50: 0 | M50: 1000 | N50: 390 | O50: 610 | P50: Executive | Q50: Head Office | R50: Engineering | S50: Active | T50: =A50&"|"&G50 -> BT012|Medical
A51: BT012 | B51: Priya | C51: Nair | E51: priya.nair@bayutech.example | F51: DEFAULT POLICY | G51: Parking | H51: MYR | K51: 0 | N51: 0 | P51: Executive | Q51: Head Office | R51: Engineering | S51: Active | T51: =A51&"|"&G51 -> BT012|Parking
A52: BT013 | B52: Wei Jie | C52: Ong | E52: wei.ong@bayutech.example | F52: DEFAULT POLICY | G52: Meals (Travel) | H52: MYR | K52: 0 | N52: 0 | P52: Executive | Q52: North Branch | R52: Operations | S52: Active | T52: =A52&"|"&G52 -> BT013|Meals (Travel)
A53: BT013 | B53: Wei Jie | C53: Ong | E53: wei.ong@bayutech.example | F53: DEFAULT POLICY | G53: Mileage | H53: MYR | J53: 800 | K53: 0 | L53: 800 | N53: 246 | P53: Executive | Q53: North Branch | R53: Operations | S53: Active | T53: =A53&"|"&G53 -> BT013|Mileage
A54: BT013 | B54: Wei Jie | C54: Ong | E54: wei.ong@bayutech.example | F54: DEFAULT POLICY | G54: Medical | H54: MYR | K54: 0 | M54: 1000 | N54: 0 | O54: 1000 | P54: Executive | Q54: North Branch | R54: Operations | S54: Active | T54: =A54&"|"&G54 -> BT013|Medical
A55: BT013 | B55: Wei Jie | C55: Ong | E55: wei.ong@bayutech.example | F55: DEFAULT POLICY | G55: Parking | H55: MYR | K55: 0 | N55: 0 | P55: Executive | Q55: North Branch | R55: Operations | S55: Active | T55: =A55&"|"&G55 -> BT013|Parking
A56: BT014 | B56: Zara | C56: Ali | E56: zara.ali@bayutech.example | F56: SALES POLICY | G56: Meals (Travel) | H56: MYR | K56: 0 | N56: 0 | P56: Executive | Q56: Head Office | R56: Sales | S56: Active | T56: =A56&"|"&G56 -> BT014|Meals (Travel)
A57: BT014 | B57: Zara | C57: Ali | E57: zara.ali@bayutech.example | F57: SALES POLICY | G57: Mileage | H57: MYR | J57: 800 | K57: 0 | L57: 800 | N57: 288 | P57: Executive | Q57: Head Office | R57: Sales | S57: Active | T57: =A57&"|"&G57 -> BT014|Mileage
A58: BT014 | B58: Zara | C58: Ali | E58: zara.ali@bayutech.example | F58: SALES POLICY | G58: Medical | H58: MYR | K58: 0 | M58: 1000 | N58: 225 | O58: 775 | P58: Executive | Q58: Head Office | R58: Sales | S58: Active | T58: =A58&"|"&G58 -> BT014|Medical
A59: BT014 | B59: Zara | C59: Ali | E59: zara.ali@bayutech.example | F59: SALES POLICY | G59: Parking | H59: MYR | K59: 0 | N59: 0 | P59: Executive | Q59: Head Office | R59: Sales | S59: Active | T59: =A59&"|"&G59 -> BT014|Parking
A60: BT014 | B60: Zara | C60: Ali | E60: zara.ali@bayutech.example | F60: SALES POLICY | G60: Phone | H60: MYR | J60: 150 | K60: 120 | L60: 30 | N60: 375 | P60: Executive | Q60: Head Office | R60: Sales | S60: Active | T60: =A60&"|"&G60 -> BT014|Phone
A61: BT015 | B61: Hakim | C61: Osman | E61: hakim.osman@bayutech.example | F61: DEFAULT POLICY | G61: Meals (Travel) | H61: MYR | K61: 0 | N61: 0 | P61: Executive | Q61: Head Office | R61: Marketing | S61: Active | T61: =A61&"|"&G61 -> BT015|Meals (Travel)
A62: BT015 | B62: Hakim | C62: Osman | E62: hakim.osman@bayutech.example | F62: DEFAULT POLICY | G62: Mileage | H62: MYR | J62: 800 | K62: 0 | L62: 800 | N62: 0 | P62: Executive | Q62: Head Office | R62: Marketing | S62: Active | T62: =A62&"|"&G62 -> BT015|Mileage
A63: BT015 | B63: Hakim | C63: Osman | E63: hakim.osman@bayutech.example | F63: DEFAULT POLICY | G63: Medical | H63: MYR | K63: 0 | M63: 1000 | N63: 440 | O63: 560 | P63: Executive | Q63: Head Office | R63: Marketing | S63: Active | T63: =A63&"|"&G63 -> BT015|Medical
A64: BT015 | B64: Hakim | C64: Osman | E64: hakim.osman@bayutech.example | F64: DEFAULT POLICY | G64: Parking | H64: MYR | K64: 0 | N64: 0 | P64: Executive | Q64: Head Office | R64: Marketing | S64: Active | T64: =A64&"|"&G64 -> BT015|Parking
A65: BT016 | B65: Grace | C65: Chua | E65: grace.chua@bayutech.example | F65: DEFAULT POLICY | G65: Meals (Travel) | H65: MYR | K65: 0 | N65: 0 | P65: Executive | Q65: North Branch | R65: Finance | S65: Active | T65: =A65&"|"&G65 -> BT016|Meals (Travel)
A66: BT016 | B66: Grace | C66: Chua | E66: grace.chua@bayutech.example | F66: DEFAULT POLICY | G66: Mileage | H66: MYR | J66: 800 | K66: 0 | L66: 800 | N66: 0 | P66: Executive | Q66: North Branch | R66: Finance | S66: Active | T66: =A66&"|"&G66 -> BT016|Mileage
A67: BT016 | B67: Grace | C67: Chua | E67: grace.chua@bayutech.example | F67: DEFAULT POLICY | G67: Medical | H67: MYR | K67: 0 | M67: 1000 | N67: 180 | O67: 820 | P67: Executive | Q67: North Branch | R67: Finance | S67: Active | T67: =A67&"|"&G67 -> BT016|Medical
A68: BT016 | B68: Grace | C68: Chua | E68: grace.chua@bayutech.example | F68: DEFAULT POLICY | G68: Parking | H68: MYR | K68: 0 | N68: 0 | P68: Executive | Q68: North Branch | R68: Finance | S68: Active | T68: =A68&"|"&G68 -> BT016|Parking
A69: BT017 | B69: Iskandar | C69: Malik | E69: iskandar.malik@bayutech.example | F69: DEFAULT POLICY | G69: Meals (Travel) | H69: MYR | K69: 0 | N69: 0 | P69: Executive | Q69: Head Office | R69: Engineering | S69: Active | T69: =A69&"|"&G69 -> BT017|Meals (Travel)
A70: BT017 | B70: Iskandar | C70: Malik | E70: iskandar.malik@bayutech.example | F70: DEFAULT POLICY | G70: Mileage | H70: MYR | J70: 800 | K70: 0 | L70: 800 | N70: 180 | P70: Executive | Q70: Head Office | R70: Engineering | S70: Active | T70: =A70&"|"&G70 -> BT017|Mileage
A71: BT017 | B71: Iskandar | C71: Malik | E71: iskandar.malik@bayutech.example | F71: DEFAULT POLICY | G71: Medical | H71: MYR | K71: 0 | M71: 1000 | N71: 150 | O71: 850 | P71: Executive | Q71: Head Office | R71: Engineering | S71: Active | T71: =A71&"|"&G71 -> BT017|Medical
A72: BT017 | B72: Iskandar | C72: Malik | E72: iskandar.malik@bayutech.example | F72: DEFAULT POLICY | G72: Parking | H72: MYR | K72: 0 | N72: 0 | P72: Executive | Q72: Head Office | R72: Engineering | S72: Active | T72: =A72&"|"&G72 -> BT017|Parking
A73: BT018 | B73: Lakshmi | C73: Devi | E73: lakshmi.devi@bayutech.example | F73: DEFAULT POLICY | G73: Meals (Travel) | H73: MYR | K73: 0 | N73: 0 | P73: Executive | Q73: Head Office | R73: Operations | S73: Active | T73: =A73&"|"&G73 -> BT018|Meals (Travel)
A74: BT018 | B74: Lakshmi | C74: Devi | E74: lakshmi.devi@bayutech.example | F74: DEFAULT POLICY | G74: Mileage | H74: MYR | J74: 800 | K74: 0 | L74: 800 | N74: 144 | P74: Executive | Q74: Head Office | R74: Operations | S74: Active | T74: =A74&"|"&G74 -> BT018|Mileage
A75: BT018 | B75: Lakshmi | C75: Devi | E75: lakshmi.devi@bayutech.example | F75: DEFAULT POLICY | G75: Medical | H75: MYR | K75: 0 | M75: 1000 | N75: 220 | O75: 780 | P75: Executive | Q75: Head Office | R75: Operations | S75: Active | T75: =A75&"|"&G75 -> BT018|Medical
A76: BT018 | B76: Lakshmi | C76: Devi | E76: lakshmi.devi@bayutech.example | F76: DEFAULT POLICY | G76: Parking | H76: MYR | K76: 0 | N76: 0 | P76: Executive | Q76: Head Office | R76: Operations | S76: Active | T76: =A76&"|"&G76 -> BT018|Parking
A77: BT019 | B77: Ming | C77: Goh | E77: ming.goh@bayutech.example | F77: SALES POLICY | G77: Meals (Travel) | H77: MYR | K77: 0 | N77: 0 | P77: Executive | Q77: North Branch | R77: Sales | S77: Active | T77: =A77&"|"&G77 -> BT019|Meals (Travel)
A78: BT019 | B78: Ming | C78: Goh | E78: ming.goh@bayutech.example | F78: SALES POLICY | G78: Mileage | H78: MYR | J78: 800 | K78: 0 | L78: 800 | N78: 606 | P78: Executive | Q78: North Branch | R78: Sales | S78: Active | T78: =A78&"|"&G78 -> BT019|Mileage
A79: BT019 | B79: Ming | C79: Goh | E79: ming.goh@bayutech.example | F79: SALES POLICY | G79: Medical | H79: MYR | K79: 0 | M79: 1000 | N79: 150 | O79: 850 | P79: Executive | Q79: North Branch | R79: Sales | S79: Active | T79: =A79&"|"&G79 -> BT019|Medical
A80: BT019 | B80: Ming | C80: Goh | E80: ming.goh@bayutech.example | F80: SALES POLICY | G80: Parking | H80: MYR | K80: 0 | N80: 0 | P80: Executive | Q80: North Branch | R80: Sales | S80: Active | T80: =A80&"|"&G80 -> BT019|Parking
A81: BT019 | B81: Ming | C81: Goh | E81: ming.goh@bayutech.example | F81: SALES POLICY | G81: Phone | H81: MYR | J81: 150 | K81: 150 | L81: 0 | N81: 388 | P81: Executive | Q81: North Branch | R81: Sales | S81: Active | T81: =A81&"|"&G81 -> BT019|Phone
A82: BT020 | B82: Sofia | C82: Ramli | E82: sofia.ramli@bayutech.example | F82: DEFAULT POLICY | G82: Meals (Travel) | H82: MYR | K82: 0 | N82: 0 | P82: Executive | Q82: Head Office | R82: Marketing | S82: Active | T82: =A82&"|"&G82 -> BT020|Meals (Travel)
A83: BT020 | B83: Sofia | C83: Ramli | E83: sofia.ramli@bayutech.example | F83: DEFAULT POLICY | G83: Mileage | H83: MYR | J83: 800 | K83: 0 | L83: 800 | N83: 0 | P83: Executive | Q83: Head Office | R83: Marketing | S83: Active | T83: =A83&"|"&G83 -> BT020|Mileage
A84: BT020 | B84: Sofia | C84: Ramli | E84: sofia.ramli@bayutech.example | F84: DEFAULT POLICY | G84: Medical | H84: MYR | K84: 0 | M84: 1000 | N84: 315 | O84: 685 | P84: Executive | Q84: Head Office | R84: Marketing | S84: Active | T84: =A84&"|"&G84 -> BT020|Medical
A85: BT020 | B85: Sofia | C85: Ramli | E85: sofia.ramli@bayutech.example | F85: DEFAULT POLICY | G85: Parking | H85: MYR | K85: 0 | N85: 0 | P85: Executive | Q85: Head Office | R85: Marketing | S85: Active | T85: =A85&"|"&G85 -> BT020|Parking
A86: BT021 | B86: Arjun | C86: Singh | E86: arjun.singh@bayutech.example | F86: DEFAULT POLICY | G86: Meals (Travel) | H86: MYR | K86: 0 | N86: 0 | P86: Executive | Q86: Head Office | R86: Finance | S86: Active | T86: =A86&"|"&G86 -> BT021|Meals (Travel)
A87: BT021 | B87: Arjun | C87: Singh | E87: arjun.singh@bayutech.example | F87: DEFAULT POLICY | G87: Mileage | H87: MYR | J87: 800 | K87: 0 | L87: 800 | N87: 0 | P87: Executive | Q87: Head Office | R87: Finance | S87: Active | T87: =A87&"|"&G87 -> BT021|Mileage
A88: BT021 | B88: Arjun | C88: Singh | E88: arjun.singh@bayutech.example | F88: DEFAULT POLICY | G88: Medical | H88: MYR | K88: 0 | M88: 1000 | N88: 0 | O88: 1000 | P88: Executive | Q88: Head Office | R88: Finance | S88: Active | T88: =A88&"|"&G88 -> BT021|Medical
A89: BT021 | B89: Arjun | C89: Singh | E89: arjun.singh@bayutech.example | F89: DEFAULT POLICY | G89: Parking | H89: MYR | K89: 0 | N89: 0 | P89: Executive | Q89: Head Office | R89: Finance | S89: Active | T89: =A89&"|"&G89 -> BT021|Parking
A90: BT022 | B90: Liyana | C90: Zainal | E90: liyana.zainal@bayutech.example | F90: SALES POLICY | G90: Meals (Travel) | H90: MYR | K90: 0 | N90: 0 | P90: Executive | Q90: North Branch | R90: Sales | S90: Active | T90: =A90&"|"&G90 -> BT022|Meals (Travel)
A91: BT022 | B91: Liyana | C91: Zainal | E91: liyana.zainal@bayutech.example | F91: SALES POLICY | G91: Mileage | H91: MYR | J91: 800 | K91: 108 | L91: 692 | N91: 108 | P91: Executive | Q91: North Branch | R91: Sales | S91: Active | T91: =A91&"|"&G91 -> BT022|Mileage
A92: BT022 | B92: Liyana | C92: Zainal | E92: liyana.zainal@bayutech.example | F92: SALES POLICY | G92: Medical | H92: MYR | K92: 45 | M92: 1000 | N92: 45 | O92: 955 | P92: Executive | Q92: North Branch | R92: Sales | S92: Active | T92: =A92&"|"&G92 -> BT022|Medical
A93: BT022 | B93: Liyana | C93: Zainal | E93: liyana.zainal@bayutech.example | F93: SALES POLICY | G93: Parking | H93: MYR | K93: 0 | N93: 0 | P93: Executive | Q93: North Branch | R93: Sales | S93: Active | T93: =A93&"|"&G93 -> BT022|Parking
A94: BT022 | B94: Liyana | C94: Zainal | E94: liyana.zainal@bayutech.example | F94: SALES POLICY | G94: Phone | H94: MYR | J94: 150 | K94: 88 | L94: 62 | N94: 311 | P94: Executive | Q94: North Branch | R94: Sales | S94: Active | T94: =A94&"|"&G94 -> BT022|Phone
A95: BT023 | B95: Kevin | C95: Teo | E95: kevin.teo@bayutech.example | F95: DEFAULT POLICY | G95: Meals (Travel) | H95: MYR | K95: 0 | N95: 0 | P95: Executive | Q95: Head Office | R95: Operations | S95: Active | T95: =A95&"|"&G95 -> BT023|Meals (Travel)
A96: BT023 | B96: Kevin | C96: Teo | E96: kevin.teo@bayutech.example | F96: DEFAULT POLICY | G96: Mileage | H96: MYR | J96: 800 | K96: 180 | L96: 620 | N96: 180 | P96: Executive | Q96: Head Office | R96: Operations | S96: Active | T96: =A96&"|"&G96 -> BT023|Mileage
A97: BT023 | B97: Kevin | C97: Teo | E97: kevin.teo@bayutech.example | F97: DEFAULT POLICY | G97: Medical | H97: MYR | K97: 0 | M97: 1000 | N97: 0 | O97: 1000 | P97: Executive | Q97: Head Office | R97: Operations | S97: Active | T97: =A97&"|"&G97 -> BT023|Medical
A98: BT023 | B98: Kevin | C98: Teo | E98: kevin.teo@bayutech.example | F98: DEFAULT POLICY | G98: Parking | H98: MYR | K98: 0 | N98: 0 | P98: Executive | Q98: Head Office | R98: Operations | S98: Active | T98: =A98&"|"&G98 -> BT023|Parking
A99: BT024 | B99: Hana | C99: Idris | E99: hana.idris@bayutech.example | F99: DEFAULT POLICY | G99: Meals (Travel) | H99: MYR | K99: 0 | N99: 0 | P99: Executive | Q99: Head Office | R99: Sales | S99: Active | T99: =A99&"|"&G99 -> BT024|Meals (Travel)
A100: BT024 | B100: Hana | C100: Idris | E100: hana.idris@bayutech.example | F100: DEFAULT POLICY | G100: Mileage | H100: MYR | J100: 800 | K100: 0 | L100: 800 | N100: 180 | P100: Executive | Q100: Head Office | R100: Sales | S100: Active | T100: =A100&"|"&G100 -> BT024|Mileage
...

Sheet Claim history (submitted)
A1: Employee ID | B1: Employee Name | C1: Report Name | D1: Claim Transaction Date | E1: Claim Type | F1: Currency | G1: Total Amount | H1: Key
A2: BT001 | B2: Aina Rahman | C2: Medical March | D2: 46102 | E2: Medical | F2: MYR | G2: 180 | H2: =A2&"|"&E2 -> BT001|Medical
A3: BT002 | B3: Daniel Lee | C3: Site visits Sep | D3: 46277 | E3: Mileage | F3: MYR | G3: 72 | H3: =A3&"|"&E3 -> BT002|Mileage
A4: BT003 | B4: Mei Ling Tan | C4: Site visits Jan | D4: 46030 | E4: Mileage | F4: MYR | G4: 72 | H4: =A4&"|"&E4 -> BT003|Mileage
A5: BT003 | B5: Mei Ling Tan | C5: Site visits Feb | D5: 46071 | E5: Mileage | F5: MYR | G5: 72 | H5: =A5&"|"&E5 -> BT003|Mileage
A6: BT003 | B6: Mei Ling Tan | C6: Site visits Apr | D6: 46126 | E6: Mileage | F6: MYR | G6: 180 | H6: =A6&"|"&E6 -> BT003|Mileage
A7: BT003 | B7: Mei Ling Tan | C7: Phone bill Aug | D7: 46239 | E7: Phone | F7: MYR | G7: 150 | H7: =A7&"|"&E7 -> BT003|Phone
A8: BT003 | B8: Mei Ling Tan | C8: Phone bill Sep | D8: 46270 | E8: Phone | F8: MYR | G8: 88 | H8: =A8&"|"&E8 -> BT003|Phone
A9: BT003 | B9: Mei Ling Tan | C9: Phone bill Oct | D9: 46300 | E9: Phone | F9: MYR | G9: 88 | H9: =A9&"|"&E9 -> BT003|Phone
A10: BT004 | B10: Ravi Kumar | C10: Medical October | D10: 46314 | E10: Medical | F10: MYR | G10: 45 | H10: =A10&"|"&E10 -> BT004|Medical
A11: BT005 | B11: Siti Aziz | C11: Medical January | D11: 46024 | E11: Medical | F11: MYR | G11: 95 | H11: =A11&"|"&E11 -> BT005|Medical
A12: BT005 | B12: Siti Aziz | C12: Medical March | D12: 46093 | E12: Medical Claim | F12: MYR | G12: 180 | H12: =A12&"|"&E12 -> BT005|Medical Claim
A13: BT005 | B13: Siti Aziz | C13: Medical September | D13: 46275 | E13: Medical | F13: MYR | G13: 80 | H13: =A13&"|"&E13 -> BT005|Medical
... A82: BT030 | B82: Melissa Yap | C82: Medical July | D82: 46210 | E82: Medical | F82: MYR | G82: 95 | H82: =A82&"|"&E82 -> BT030|Medical
