Workbook

Sheet Read me
B1: Answer key: checking payroll data for a large headcount (practice)
B2: Bayu Tech Sdn Bhd is a fictional company. All names, IDs and amounts are made up. Statutory amounts are simplified illustrations, not official EPF, SOCSO, EIS or PCB figures.
B4: The practice files
B5: 1. Practice_Previous_System_YTD_Payroll_Detail_Jan-Jun_2026.xlsx: the old payroll system's year-to-date report, Jan to Jun 2026, 30 employees, sorted by department.
B6: 2. Practice_brioHR_Payroll_Report_Jan-Jun_2026.xlsx: the brioHR Payroll Report (Analytics > Report Builder) for the same period, after migration.
B8: Tabs in this answer key
B9: Old system (cleaned): the old report after clean-up. Two-line columns split (E'EPF and E'VOL, etc.), group headings, subtotals and blank rows removed, one row per employee.
B10: brioHR export: the brioHR report as exported, without the Total row.
B11: Column mapping: which old system column matches which brioHR column.
B12: Totals check: Step 3 of the article. Compares headcount and column totals.
B13: Comparison: Step 4. Looks up each employee from the old system list in the brioHR export by Employee ID, and works out the differences. Filter the Status column to anything other than OK.
B14: Discrepancy list: Step 7. The list a client should send to their IM, with the pattern behind each difference.
... B17: Start the lookup from the old system list. An employee missing from brioHR then shows as Missing. If you start from the brioHR export, a missing employee simply isn't there, and only the headcount tells you.

Sheet Old system (cleaned)
A1: EMP NO. | B1: EMPLOYEE NAME | C1: DEPARTMENT | D1: BASIC | E1: NPL | F1: ADDPAY | G1: OT | H1: SHIFT | I1: BONUS | J1: OTHERS | K1: GROSS PAY | L1: E'EPF | M1: E'VOL | N1: E'SOC | O1: E'EIS | P1: E'TAX | Q1: OTHERS (DED) | R1: NETTPAY | S1: R'EPF | T1: R'VOL | U1: R'SOC | V1: R'EIS | W1: R'LEVY
A2: 001 | B2: NUR AISYAH BINTI KAMAL | C2: Accounts | D2: 40800 | E2: 0 | F2: 0 | G2: 0 | H2: 0 | I2: 6800 | J2: 1500 | K2: 49100 | L2: 5338 | M2: 0 | N2: 180 | O2: 72 | P2: 3179.9 | Q2: 0 | R2: 40330.1 | S2: 5820 | T2: 0 | U2: 630 | V2: 72 | W2: 417
A3: 002 | B3: KELVIN ONG WEI JIE | C3: Accounts | D3: 25200 | E3: 0 | F3: 0 | G3: 0 | H3: 0 | I3: 0 | J3: 900 | K3: 26100 | L3: 2874 | M3: 0 | N3: 130.5 | O3: 52.2 | P3: 426 | Q3: 0 | R3: 22617.3 | S3: 3396 | T3: 0 | U3: 456.9 | V3: 52.2 | W3: 261
A4: 003 | B4: PRIYA A/P RAJENDRAN | C4: Accounts | D4: 23400 | E4: 0 | F4: 0 | G4: 0 | H4: 0 | I4: 0 | J4: 900 | K4: 24300 | L4: 2676 | M4: 0 | N4: 121.5 | O4: 48.6 | P4: 318 | Q4: 1200 | R4: 19935.9 | S4: 3162 | T4: 0 | U4: 425.4 | V4: 48.6 | W4: 243
A5: 004 | B5: AMIRUL BIN HASSAN | C5: Accounts | D5: 18600 | E5: 0 | F5: 0 | G5: 0 | H5: 0 | I5: 0 | J5: 900 | K5: 19500 | L5: 2148 | M5: 0 | N5: 97.5 | O5: 39 | P5: 0 | Q5: 0 | R5: 17215.5 | S5: 2538 | T5: 0 | U5: 341.4 | V5: 39 | W5: 195
A6: 005 | B6: TAN MEI LING | C6: Accounts | D6: 33600 | E6: 0 | F6: 0 | G6: 0 | H6: 0 | I6: 5600 | J6: 1500 | K6: 40700 | L6: 4414 | M6: 0 | N6: 172.5 | O6: 69 | P6: 1696 | Q6: 0 | R6: 34348.5 | S6: 4812 | T6: 0 | U6: 603.9 | V6: 69 | W6: 345
A7: 006 | B7: SITI HAJAR BINTI OSMAN | C7: Accounts | D7: 16800 | E7: 215.38 | F7: 0 | G7: 0 | H7: 0 | I7: 0 | J7: 900 | K7: 17484.62 | L7: 1926 | M7: 0 | N7: 87.4 | O7: 34.95 | P7: 0 | Q7: 0 | R7: 15436.27 | S7: 2276 | T7: 0 | U7: 306.1 | V7: 34.95 | W7: 177
A8: 007 | B8: DANIEL LIM JUN HAO | C8: Accounts | D8: 21000 | E8: 0 | F8: 0 | G8: 0 | H8: 0 | I8: 0 | J8: 900 | K8: 21900 | L8: 2412 | M8: 0 | N8: 109.5 | O8: 43.8 | P8: 36.9 | Q8: 0 | R8: 19297.8 | S8: 2850 | T8: 0 | U8: 383.4 | V8: 43.8 | W8: 219
A9: 008 | B9: FARAH BINTI ZULKIFLI | C9: Accounts | D9: 15600 | E9: 0 | F9: 0 | G9: 0 | H9: 0 | I9: 0 | J9: 900 | K9: 16500 | L9: 1818 | M9: 0 | N9: 82.5 | O9: 33 | P9: 0 | Q9: 0 | R9: 14566.5 | S9: 2148 | T9: 0 | U9: 288.9 | V9: 33 | W9: 165
A10: 009 | B10: MUTHU A/L KRISHNAN | C10: Operations | D10: 14400 | E10: 0 | F10: 0 | G10: 519.23 | H10: 0 | I10: 0 | J10: 600 | K10: 15519.23 | L10: 1650 | M10: 0 | N10: 77.6 | O10: 31.05 | P10: 0 | Q10: 0 | R10: 13760.58 | S10: 1950 | T10: 0 | U10: 271.5 | V10: 31.05 | W10: 150
A11: 010 | B11: HAFIZUDDIN BIN ROSLI | C11: Operations | D11: 13800 | E11: 0 | F11: 0 | G11: 248.8 | H11: 0 | I11: 0 | J11: 600 | K11: 14648.8 | L11: 1584 | M11: 0 | N11: 73.25 | O11: 29.3 | P11: 0 | Q11: 900 | R11: 12062.25 | S11: 1872 | T11: 0 | U11: 256.35 | V11: 29.3 | W11: 144
A12: 011 | B12: CHONG KAH SENG | C12: Operations | D12: 17400 | E12: 0 | F12: 0 | G12: 188.22 | H12: 0 | I12: 0 | J12: 600 | K12: 18188.22 | L12: 1980 | M12: 0 | N12: 90.9 | O12: 36.4 | P12: 0 | Q12: 0 | R12: 16080.92 | S12: 2340 | T12: 0 | U12: 318.3 | V12: 36.4 | W12: 180
A13: 012 | B13: AINA BINTI RAMLI | C13: Operations | D13: 27480 | E13: 0 | F13: 0 | G13: 0 | H13: 0 | I13: 0 | J13: 600 | K13: 28080 | L13: 3090 | M13: 0 | N13: 140.4 | O13: 56.1 | P13: 544.8 | Q13: 0 | R13: 24248.7 | S13: 3654 | T13: 0 | U13: 491.4 | V13: 56.1 | W13: 280.8
... A31: 030 | B31: LOW SHU FEN | C31: Sales | D31: 48000 | E31: 0 | F31: 0 | G31: 0 | H31: 0 | I31: 8000 | J31: 9100 | K31: 65100 | L31: 7097 | M31: 0 | N31: 180 | O31: 72 | P31: 6714.9 | Q31: 0 | R31: 51036.1 | S31: 7740 | T31: 0 | U31: 630 | V31: 72 | W31: 489

Sheet brioHR export
A1: Internal Id | B1: First Name | C1: Last Name | D1: Email | E1: Payroll Center | F1: Basic Salary | G1: Gross Deductions | H1: Gross Additions | I1: Bonus | J1: Commission | K1: Meal Allowance (Fixed Allowance) | L1: Parking Allowance (Fixed Allowance) | M1: Overtime (Normal Day) | N1: Unpaid Leaves | O1: Overtime (Normal Day) Hours | P1: Total Remuneration | Q1: Total Allowances | R1: Total Additional Remuneration | S1: Total Overtime | T1: Total Taxable | U1: Total Non Taxable | V1: Gross Earnings | W1: Employee EPF | X1: Employee SOCSO Total | Y1: Employee EIS | Z1: Employee PCB | AA1: Total Employee Deductions | AB1: Loan | AC1: Net Deductions | AD1: Net Pay | AE1: Employer EPF | AF1: Employer SOCSO | AG1: Employer EIS | AH1: Employer HRDF | AI1: Total Employer Deductions | AJ1: Department | AK1: Joined Date | AL1: Employment End Date | AM1: Active/Inactive
A2: 001 | B2: Nur Aisyah | C2: Binti Kamal | D2: nur.kamal@bayutech.example | E2: Bayu Tech Sdn Bhd | F2: 40800 | H2: 8300 | I2: 6800 | K2: 900 | L2: 600 | P2: 40800 | Q2: 1500 | R2: 6800 | T2: 48500 | U2: 600 | V2: 49100 | W2: 4590 | X2: 180 | Y2: 72 | Z2: 3179.9 | AA2: 8021.9 | AD2: 41078.1 | AE2: 5004 | AF2: 630 | AG2: 72 | AH2: 417 | AI2: 6123 | AJ2: Accounts | AK2: 2024-03-01 | AM2: Active
A3: 002 | B3: Kelvin | C3: Ong Wei Jie | D3: kelvin.jie@bayutech.example | E3: Bayu Tech Sdn Bhd | F3: 25200 | H3: 900 | K3: 900 | P3: 25200 | Q3: 900 | T3: 26100 | V3: 26100 | W3: 2874 | X3: 130.5 | Y3: 52.2 | Z3: 426 | AA3: 3482.7 | AD3: 22617.3 | AE3: 3396 | AF3: 456.9 | AG3: 52.2 | AH3: 261 | AI3: 4166.1 | AJ3: Accounts | AK3: 2024-03-01 | AM3: Active
A4: 003 | B4: Priya | C4: A/P Rajendran | D4: priya.rajendran@bayutech.example | E4: Bayu Tech Sdn Bhd | F4: 23400 | H4: 900 | K4: 900 | P4: 23400 | Q4: 900 | T4: 24300 | V4: 24300 | W4: 2676 | X4: 121.5 | Y4: 48.6 | Z4: 318 | AA4: 3164.1 | AB4: 1200 | AC4: 1200 | AD4: 19935.9 | AE4: 3162 | AF4: 425.4 | AG4: 48.6 | AH4: 243 | AI4: 3879 | AJ4: Accounts | AK4: 2022-08-15 | AM4: Active
A5: 004 | B5: Amirul | C5: Bin Hassan | D5: amirul.hassan@bayutech.example | E5: Bayu Tech Sdn Bhd | F5: 18600 | H5: 900 | K5: 900 | P5: 18600 | Q5: 900 | T5: 19500 | V5: 19500 | W5: 2148 | X5: 97.5 | Y5: 39 | AA5: 2284.5 | AD5: 17215.5 | AE5: 2538 | AF5: 341.4 | AG5: 39 | AH5: 195 | AI5: 3113.4 | AJ5: Accounts | AK5: 2024-03-01 | AM5: Active
A6: 005 | B6: Tan | C6: Mei Ling | D6: tan.ling@bayutech.example | E6: Bayu Tech Sdn Bhd | F6: 33600 | H6: 7100 | I6: 5600 | K6: 900 | L6: 600 | P6: 33600 | Q6: 1500 | R6: 5600 | T6: 40100 | U6: 600 | V6: 40700 | W6: 3798 | X6: 172.5 | Y6: 69 | Z6: 1696 | AA6: 5735.5 | AD6: 34964.5 | AE6: 4140 | AF6: 603.9 | AG6: 69 | AH6: 345 | AI6: 5157.9 | AJ6: Accounts | AK6: 2024-03-01 | AM6: Active
A7: 006 | B7: Siti Hajar | C7: Binti Osman | D7: siti.osman@bayutech.example | E7: Bayu Tech Sdn Bhd | F7: 16800 | G7: 215.38 | H7: 900 | K7: 900 | N7: 215.38 | P7: 16800 | Q7: 900 | T7: 17484.62 | V7: 17484.62 | W7: 1926 | X7: 87.4 | Y7: 34.95 | AA7: 2048.35 | AD7: 15436.27 | AE7: 2276 | AF7: 306.1 | AG7: 34.95 | AH7: 177 | AI7: 2794.05 | AJ7: Accounts | AK7: 2022-08-15 | AM7: Active
A8: 007 | B8: Daniel | C8: Lim Jun Hao | D8: daniel.hao@bayutech.example | E8: Bayu Tech Sdn Bhd | F8: 21000 | H8: 900 | K8: 900 | P8: 21000 | Q8: 900 | T8: 21900 | V8: 21900 | W8: 2412 | X8: 109.5 | Y8: 43.8 | Z8: 36.9 | AA8: 2602.2 | AD8: 19297.8 | AE8: 2850 | AF8: 383.4 | AG8: 43.8 | AH8: 219 | AI8: 3496.2 | AJ8: Accounts | AK8: 2024-03-01 | AM8: Active
A9: 008 | B9: Farah | C9: Binti Zulkifli | D9: farah.zulkifli@bayutech.example | E9: Bayu Tech Sdn Bhd | F9: 15600 | H9: 900 | K9: 900 | P9: 15600 | Q9: 900 | T9: 16500 | V9: 16500 | W9: 1818 | X9: 82.5 | Y9: 33 | AA9: 1933.5 | AD9: 14566.5 | AE9: 2148 | AF9: 288.9 | AG9: 33 | AH9: 165 | AI9: 2634.9 | AJ9: Accounts | AK9: 2024-03-01 | AM9: Active
A10: 009 | B10: Muthu | C10: A/L Krishnan | D10: muthu.krishnan@bayutech.example | E10: Bayu Tech Sdn Bhd | F10: 14400 | H10: 1119.23 | K10: 600 | M10: 519.23 | O10: 30 | P10: 14400 | Q10: 600 | S10: 519.23 | T10: 15519.23 | V10: 15519.23 | W10: 1650 | X10: 77.6 | Y10: 31.05 | AA10: 1758.65 | AD10: 13760.58 | AE10: 1950 | AF10: 271.5 | AG10: 31.05 | AH10: 150 | AI10: 2402.55 | AJ10: Operations | AK10: 2022-08-15 | AM10: Active
A11: 010 | B11: Hafizuddin | C11: Bin Rosli | D11: hafizuddin.rosli@bayutech.example | E11: Bayu Tech Sdn Bhd | F11: 13800 | H11: 848.8 | K11: 600 | M11: 248.8 | O11: 15 | P11: 13800 | Q11: 600 | S11: 248.8 | T11: 14648.8 | V11: 14648.8 | W11: 1584 | X11: 73.25 | Y11: 29.3 | AA11: 1686.55 | AB11: 900 | AC11: 900 | AD11: 12062.25 | AE11: 1872 | AF11: 256.35 | AG11: 29.3 | AH11: 144 | AI11: 2301.65 | AJ11: Operations | AK11: 2024-03-01 | AM11: Active
A12: 011 | B12: Chong | C12: Kah Seng | D12: chong.seng@bayutech.example | E12: Bayu Tech Sdn Bhd | F12: 17400 | H12: 788.22 | K12: 600 | M12: 188.22 | O12: 9 | P12: 17400 | Q12: 600 | S12: 188.22 | T12: 18188.22 | V12: 18188.22 | W12: 1980 | X12: 90.9 | Y12: 36.4 | AA12: 2107.3 | AD12: 16080.92 | AE12: 2340 | AF12: 318.3 | AG12: 36.4 | AH12: 180 | AI12: 2874.7 | AJ12: Operations | AK12: 2024-03-01 | AM12: Active
A13: 012 | B13: Aina | C13: Binti Ramli | D13: aina.ramli@bayutech.example | E13: Bayu Tech Sdn Bhd | F13: 27750 | H13: 600 | K13: 600 | P13: 27750 | Q13: 600 | T13: 28350 | V13: 28350 | W13: 3090 | X13: 140.4 | Y13: 56.1 | Z13: 544.8 | AA13: 3831.3 | AD13: 24518.7 | AE13: 3654 | AF13: 491.4 | AG13: 56.1 | AH13: 280.8 | AI13: 4482.3 | AJ13: Operations | AK13: 2022-08-15 | AM13: Active
A14: 013 | B14: Ravi | C14: A/L Subramaniam | D14: ravi.subramaniam@bayutech.example | E14: Bayu Tech Sdn Bhd | F14: 15000 | G14: 96.15 | H14: 1014.66 | K14: 600 | M14: 414.66 | N14: 96.15 | O14: 23 | P14: 15000 | Q14: 600 | S14: 414.66 | T14: 15918.51 | V14: 15918.51 | W14: 1706 | X14: 79.55 | Y14: 31.85 | AA14: 1817.4 | AD14: 14101.11 | AE14: 2016 | AF14: 278.6 | AG14: 31.85 | AH14: 156 | AI14: 2482.45 | AJ14: Operations | AK14: 2024-03-01 | AM14: Active
A15: 014 | B15: Wong | C15: Siew Lan | D15: wong.lan@bayutech.example | E15: Bayu Tech Sdn Bhd | F15: 19800 | H15: 600 | K15: 600 | P15: 19800 | Q15: 600 | T15: 20400 | V15: 20400 | W15: 2244 | X15: 102 | Y15: 40.8 | AA15: 2386.8 | AD15: 18013.2 | AE15: 2652 | AF15: 357 | AG15: 40.8 | AH15: 204 | AI15: 3253.8 | AJ15: Operations | AK15: 2024-03-01 | AM15: Active
A16: 015 | B16: Zulhilmi | C16: Bin Ahmad | D16: zulhilmi.ahmad@bayutech.example | E16: Bayu Tech Sdn Bhd | F16: 11000 | H16: 500 | K16: 500 | P16: 11000 | Q16: 500 | T16: 11500 | V16: 11500 | W16: 1265 | X16: 57.5 | Y16: 23 | AA16: 1345.5 | AD16: 10154.5 | AE16: 1495 | AF16: 201.25 | AG16: 23 | AH16: 115 | AI16: 1834.25 | AJ16: Operations | AK16: 2022-08-15 | AL16: 2026-05-31 | AM16: Inactive
A17: 016 | B17: Lee | C17: Chun Kit | D17: lee.kit@bayutech.example | E17: Bayu Tech Sdn Bhd | F17: 45000 | H17: 8700 | I17: 7500 | K17: 600 | L17: 600 | P17: 45000 | Q17: 1200 | R17: 7500 | T17: 53100 | U17: 600 | V17: 53700 | W17: 5016 | X17: 180 | Y17: 72 | Z17: 4053.9 | AA17: 9321.9 | AD17: 44378.1 | AE17: 5472 | AF17: 630 | AG17: 72 | AH17: 456 | AI17: 6630 | AJ17: Operations | AK17: 2024-03-01 | AM17: Active
A18: 017 | B18: Nadia | C18: Binti Yusof | D18: nadia.yusof@bayutech.example | E18: Bayu Tech Sdn Bhd | F18: 14700 | G18: 94.23 | H18: 900.36 | K18: 600 | M18: 300.36 | N18: 94.23 | O18: 17 | P18: 14700 | Q18: 600 | S18: 300.36 | T18: 15506.13 | V18: 15506.13 | W18: 1676 | X18: 77.55 | Y18: 31 | AA18: 1784.55 | AD18: 13721.58 | AE18: 1980 | AF18: 271.4 | AG18: 31 | AH18: 153 | AI18: 2435.4 | AJ18: Operations | AK18: 2024-03-01 | AM18: Active
A19: 018 | B19: Gan | C19: Boon Huat | D19: gan.huat@bayutech.example | E19: Bayu Tech Sdn Bhd | F19: 16500 | H19: 1234.62 | K19: 600 | M19: 634.62 | O19: 32 | P19: 16500 | Q19: 600 | S19: 634.62 | T19: 17734.62 | V19: 17734.62 | W19: 1884 | X19: 88.7 | Y19: 35.45 | AA19: 2008.15 | AD19: 15726.47 | AE19: 2226 | AF19: 310.3 | AG19: 35.45 | AH19: 171 | AI19: 2742.75 | AJ19: Operations | AK19: 2022-08-15 | AM19: Active
A20: 019 | B20: Kavitha | C20: A/P Muniandy | D20: kavitha.muniandy@bayutech.example | E20: Bayu Tech Sdn Bhd | F20: 21600 | H20: 600 | K20: 600 | P20: 21600 | Q20: 600 | T20: 22200 | V20: 22200 | W20: 2442 | X20: 111 | Y20: 44.4 | Z20: 45.9 | AA20: 2643.3 | AD20: 19556.7 | AE20: 2886 | AF20: 388.5 | AG20: 44.4 | AH20: 222 | AI20: 3540.9 | AJ20: Operations | AK20: 2024-03-01 | AM20: Active
A21: 020 | B21: Azlan | C21: Bin Mokhtar | D21: azlan.mokhtar@bayutech.example | E21: Bayu Tech Sdn Bhd | F21: 31200 | H21: 6400 | I21: 5200 | K21: 600 | L21: 600 | P21: 31200 | Q21: 1200 | R21: 5200 | T21: 37000 | U21: 600 | V21: 37600 | W21: 3498 | X21: 159 | Y21: 63.6 | Z21: 1355 | AA21: 5075.6 | AD21: 32524.4 | AE21: 3816 | AF21: 556.5 | AG21: 63.6 | AH21: 318 | AI21: 4754.1 | AJ21: Operations | AK21: 2024-03-01 | AM21: Active
A22: 021 | B22: Teoh | C22: Jia Hui | D22: teoh.hui@bayutech.example | E22: Bayu Tech Sdn Bhd | F22: 24000 | H22: 5200 | J22: 3700 | K22: 900 | L22: 600 | P22: 24000 | Q22: 1500 | R22: 3700 | T22: 28600 | U22: 600 | V22: 29200 | W22: 3148 | X22: 143 | Y22: 57.2 | Z22: 576 | AA22: 3924.2 | AD22: 25275.8 | AE22: 3720 | AF22: 500.6 | AG22: 57.2 | AH22: 249 | AI22: 4526.8 | AJ22: Sales | AK22: 2022-08-15 | AM22: Active
A23: 022 | B23: Shafiq | C23: Bin Ismail | D23: shafiq.ismail@bayutech.example | E23: Bayu Tech Sdn Bhd | F23: 19200 | G23: 369.23 | H23: 2950 | J23: 2050 | K23: 900 | N23: 369.23 | P23: 19200 | Q23: 900 | R23: 2050 | T23: 21780.77 | V23: 21780.77 | W23: 2397 | X23: 108.9 | Y23: 43.55 | Z23: 35.25 | AA23: 2584.7 | AD23: 19196.07 | AE23: 2833 | AF23: 381.2 | AG23: 43.55 | AH23: 201 | AI23: 3458.75 | AJ23: Sales | AK23: 2024-03-01 | AM23: Active
A24: 023 | B24: Melissa | C24: Chan Pei Wen | D24: melissa.wen@bayutech.example | E24: Bayu Tech Sdn Bhd | F24: 22800 | H24: 4100 | J24: 3200 | K24: 900 | P24: 22800 | Q24: 900 | R24: 3200 | T24: 26900 | V24: 26900 | W24: 2961 | X24: 134.5 | Y24: 53.8 | Z24: 474 | AA24: 3623.3 | AB24: 1800 | AC24: 1800 | AD24: 21476.7 | AE24: 3499 | AF24: 470.85 | AG24: 53.8 | AH24: 237 | AI24: 4260.65 | AJ24: Sales | AK24: 2024-03-01 | AM24: Active
A25: 024 | B25: Arjun | C25: A/L Nair | D25: arjun.nair@bayutech.example | E25: Bayu Tech Sdn Bhd | F25: 57000 | H25: 20200 | I25: 9500 | J25: 9200 | K25: 900 | L25: 600 | P25: 57000 | Q25: 1500 | R25: 18700 | T25: 76600 | U25: 600 | V25: 77200 | W25: 7384 | X25: 180 | Y25: 72 | Z25: 9724.9 | AA25: 17360.9 | AD25: 59839.1 | AE25: 8052 | AF25: 630 | AG25: 72 | AH25: 579 | AI25: 9333 | AJ25: Sales | AK25: 2022-08-15 | AM25: Active
A26: 025 | B26: Hidayah | C26: Binti Salleh | D26: hidayah.salleh@bayutech.example | E26: Bayu Tech Sdn Bhd | F26: 18000 | H26: 2550 | J26: 1650 | K26: 900 | P26: 18000 | Q26: 900 | R26: 1650 | T26: 20550 | V26: 20550 | W26: 2262 | X26: 102.75 | Y26: 41.1 | Z26: 1.95 | AA26: 2407.8 | AD26: 18142.2 | AE26: 2673 | AF26: 359.7 | AG26: 41.1 | AH26: 189 | AI26: 3262.8 | AJ26: Sales | AK26: 2024-03-01 | AM26: Active
A27: 026 | B27: Yap | C27: Zhi Wei | D27: yap.wei@bayutech.example | E27: Bayu Tech Sdn Bhd | F27: 37200 | H27: 13500 | I27: 6200 | J27: 5800 | K27: 900 | L27: 600 | P27: 37200 | Q27: 1500 | R27: 12000 | T27: 50100 | U27: 600 | V27: 50700 | W27: 4831 | X27: 180 | Y27: 72 | Z27: 3483.9 | AA27: 8566.9 | AD27: 42133.1 | AE27: 5268 | AF27: 630 | AG27: 72 | AH27: 381 | AI27: 6351 | AJ27: Sales | AK27: 2024-03-01 | AM27: Active
A28: 027 | B28: Izzati | C28: Binti Harun | D28: izzati.harun@bayutech.example | E28: Bayu Tech Sdn Bhd | F28: 17400 | H28: 2400 | J28: 1500 | K28: 900 | P28: 17400 | Q28: 900 | R28: 1500 | T28: 19800 | V28: 19800 | W28: 2180 | X28: 99 | Y28: 39.6 | AA28: 2318.6 | AD28: 17481.4 | AE28: 2576 | AF28: 346.6 | AG28: 39.6 | AH28: 183 | AI28: 3145.2 | AJ28: Sales | AK28: 2022-08-15 | AM28: Active
A29: 028 | B29: Marcus | C29: Tay Kok Leong | D29: marcus.leong@bayutech.example | E29: Bayu Tech Sdn Bhd | F29: 13500 | H29: 1700 | J29: 1250 | K29: 450 | P29: 13500 | Q29: 450 | R29: 1250 | T29: 15200 | V29: 15200 | W29: 1673 | X29: 76 | Y29: 30.4 | Z29: 342 | AA29: 2121.4 | AD29: 13078.6 | AE29: 1874 | AF29: 266.05 | AG29: 30.4 | AH29: 139.5 | AI29: 2309.95 | AJ29: Sales | AK29: 2026-04-01 | AM29: Active
A30: 030 | B30: Low | C30: Shu Fen | D30: low.fen@bayutech.example | E30: Bayu Tech Sdn Bhd | F30: 48000 | H30: 17100 | I30: 8000 | J30: 7600 | K30: 900 | L30: 600 | P30: 48000 | Q30: 1500 | R30: 15600 | T30: 64500 | U30: 600 | V30: 65100 | W30: 6217 | X30: 180 | Y30: 72 | Z30: 6714.9 | AA30: 13183.9 | AD30: 51916.1 | AE30: 6780 | AF30: 630 | AG30: 72 | AH30: 489 | AI30: 7971 | AJ30: Sales | AK30: 2022-08-15 | AM30: Active

Sheet Column mapping
A1: What it is | B1: Old system column(s) | C1: brioHR column(s) | D1: Note
A2: Basic salary | B2: BASIC | C2: Basic Salary
A3: Unpaid leave | B3: NPL | C3: Unpaid Leaves
A4: Overtime | B4: OT | C4: Total Overtime
A5: Bonus | B5: BONUS | C5: Bonus
A6: Allowances and commission | B6: OTHERS | C6: Total Allowances + Commission | D6: Old OTHERS = meal + parking + commission. In brioHR, add Total Allowances and Commission.
A7: Gross pay | B7: GROSS PAY | C7: Gross Earnings
A8: Employee EPF | B8: E'EPF + E'VOL | C8: Employee EPF | D8: Add E'VOL if the company has voluntary EPF contributions (none here).
A9: Employee SOCSO | B9: E'SOC | C9: Employee SOCSO Total | D9: Use SOCSO Total, not SOCSO Only.
A10: Employee EIS | B10: E'EIS | C10: Employee EIS
A11: PCB | B11: E'TAX | C11: Employee PCB
A12: Other deductions | B12: OTHERS (DED) | C12: Net Deductions | D12: Loan repayments in this example.
A13: Net pay | B13: NETTPAY | C13: Net Pay
A14: Employer EPF | B14: R'EPF + R'VOL | C14: Employer EPF
A15: Employer SOCSO | B15: R'SOC | C15: Employer SOCSO
A16: Employer EIS | B16: R'EIS | C16: Employer EIS
A17: HRDF | B17: R'LEVY | C17: Employer HRDF

Sheet Totals check
A1: Step 3: compare the totals first
A3: Item | B3: Old system | C3: brioHR | D3: Difference | E3: Match?
A4: Headcount | B4: =COUNTA('Old system (cleaned)'!A2:A31) -> 30 | C4: =COUNTA('brioHR export'!A2:A30) -> 29 | D4: =C4-B4 -> -1 | E4: =IF(D4=0,"Yes","No") -> No
A5: Basic salary | B5: =SUM('Old system (cleaned)'!D2:D31) -> 706780 | C5: =SUM('brioHR export'!F2:F30) -> 700250 | D5: =ROUND(C5-B5,2) -> -6530 | E5: =IF(D5=0,"Yes","No") -> No
A6: Unpaid leave | B6: =SUM('Old system (cleaned)'!E2:E31) -> 774.99 | C6: =SUM('brioHR export'!N2:N30) -> 774.99 | D6: =ROUND(C6-B6,2) -> 0 | E6: =IF(D6=0,"Yes","No") -> Yes
A7: Overtime | B7: =SUM('Old system (cleaned)'!G2:G31) -> 2305.89 | C7: =SUM('brioHR export'!S2:S30) -> 2305.89 | D7: =ROUND(C7-B7,2) -> 0 | E7: =IF(D7=0,"Yes","No") -> Yes
A8: Bonus | B8: =SUM('Old system (cleaned)'!I2:I31) -> 48800 | C8: =SUM('brioHR export'!I2:I30) -> 48800 | D8: =ROUND(C8-B8,2) -> 0 | E8: =IF(D8=0,"Yes","No") -> Yes
A9: Allowances and commission | B9: =SUM('Old system (cleaned)'!J2:J31) -> 63650 | C9: =SUM('brioHR export'!Q2:Q30)+SUM('brioHR export'!J2:J30) -> 62700 | D9: =ROUND(C9-B9,2) -> -950 | E9: =IF(D9=0,"Yes","No") -> No
A10: Gross pay | B10: =SUM('Old system (cleaned)'!K2:K31) -> 820760.9 | C10: =SUM('brioHR export'!V2:V30) -> 813280.9 | D10: =ROUND(C10-B10,2) -> -7480 | E10: =IF(D10=0,"Yes","No") -> No
A11: Employee EPF | B11: =SUM('Old system (cleaned)'!L2:L31)+SUM('Old system (cleaned)'!M2:M31) -> 89551 | C11: =SUM('brioHR export'!W2:W30) -> 83330 | D11: =ROUND(C11-B11,2) -> -6221 | E11: =IF(D11=0,"Yes","No") -> No
A12: Employee SOCSO | B12: =SUM('Old system (cleaned)'!N2:N31) -> 3461.75 | C12: =SUM('brioHR export'!X2:X30) -> 3423 | D12: =ROUND(C12-B12,2) -> -38.75 | E12: =IF(D12=0,"Yes","No") -> No
A13: Employee EIS | B13: =SUM('Old system (cleaned)'!O2:O31) -> 1384.65 | C13: =SUM('brioHR export'!Y2:Y30) -> 1369.15 | D13: =ROUND(C13-B13,2) -> -15.5 | E13: =IF(D13=0,"Yes","No") -> No
A14: PCB | B14: =SUM('Old system (cleaned)'!P2:P31) -> 33035.1 | C14: =SUM('brioHR export'!Z2:Z30) -> 33009.3 | D14: =ROUND(C14-B14,2) -> -25.8 | E14: =IF(D14=0,"Yes","No") -> No
A15: Other deductions | B15: =SUM('Old system (cleaned)'!Q2:Q31) -> 3900 | C15: =SUM('brioHR export'!AC2:AC30) -> 3900 | D15: =ROUND(C15-B15,2) -> 0 | E15: =IF(D15=0,"Yes","No") -> Yes
A16: Net pay | B16: =SUM('Old system (cleaned)'!R2:R31) -> 689428.4 | C16: =SUM('brioHR export'!AD2:AD30) -> 688249.45 | D16: =ROUND(C16-B16,2) -> -1178.95 | E16: =IF(D16=0,"Yes","No") -> No
A17: Employer EPF | B17: =SUM('Old system (cleaned)'!S2:S31)+SUM('Old system (cleaned)'!T2:T31) -> 102012 | C17: =SUM('brioHR export'!AE2:AE30) -> 95148 | D17: =ROUND(C17-B17,2) -> -6864 | E17: =IF(D17=0,"Yes","No") -> No
A18: Employer SOCSO | B18: =SUM('Old system (cleaned)'!U2:U31) -> 12117.75 | C18: =SUM('brioHR export'!AF2:AF30) -> 11982.1 | D18: =ROUND(C18-B18,2) -> -135.65 | E18: =IF(D18=0,"Yes","No") -> No
A19: Employer EIS | B19: =SUM('Old system (cleaned)'!V2:V31) -> 1384.65 | C19: =SUM('brioHR export'!AG2:AG30) -> 1369.15 | D19: =ROUND(C19-B19,2) -> -15.5 | E19: =IF(D19=0,"Yes","No") -> No
A20: HRDF | B20: =SUM('Old system (cleaned)'!W2:W31) -> 7290.3 | C20: =SUM('brioHR export'!AH2:AH30) -> 7219.3 | D20: =ROUND(C20-B20,2) -> -71 | E20: =IF(D20=0,"Yes","No") -> No
A22: Headcount and several totals don't match, so go on to the Comparison tab to find which employees cause it.

Sheet Comparison
A1: Step 4: match employees by Employee ID and find the differences
A2: brioHR values are looked up from the brioHR export with INDEX and MATCH on the Employee ID. Filter the Status column to anything other than OK.
D3: brioHR | P3: Old system | AB3: Difference (brioHR minus old system)
A4: Employee ID | B4: Name | C4: Department | D4: Basic | E4: Bonus | F4: Gross pay | G4: Ee EPF | H4: Ee SOCSO | I4: Ee EIS | J4: PCB | K4: Net pay | L4: Er EPF | M4: Er SOCSO | N4: Er EIS | O4: HRDF | P4: Basic | Q4: Bonus | R4: Gross pay | S4: Ee EPF | T4: Ee SOCSO | U4: Ee EIS | V4: PCB | W4: Net pay | X4: Er EPF | Y4: Er SOCSO | Z4: Er EIS | AA4: HRDF | AB4: Basic | AC4: Bonus | AD4: Gross pay | AE4: Ee EPF | AF4: Ee SOCSO | AG4: Ee EIS | AH4: PCB | AI4: Net pay | AJ4: Er EPF | AK4: Er SOCSO | AL4: Er EIS | AM4: HRDF | AN4: Status
A5: ='Old system (cleaned)'!A2 -> 001 | B5: ='Old system (cleaned)'!B2 -> NUR AISYAH BINTI KAMAL | C5: ='Old system (cleaned)'!C2 -> Accounts | D5: =IFERROR(N(INDEX('brioHR export'!$F$2:$F$30,MATCH($A5,'brioHR export'!$A$2:$A$30,0))),"Missing") -> 40800 | E5: =IFERROR(N(INDEX('brioHR export'!$I$2:$I$30,MATCH($A5,'brioHR export'!$A$2:$A$30,0))),"Missing") -> 6800 | F5: =IFERROR(N(INDEX('brioHR export'!$V$2:$V$30,MATCH($A5,'brioHR export'!$A$2:$A$30,0))),"Missing") -> 49100 | G5: =IFERROR(N(INDEX('brioHR export'!$W$2:$W$30,MATCH($A5,'brioHR export'!$A$2:$A$30,0))),"Missing") -> 4590 | H5: =IFERROR(N(INDEX('brioHR export'!$X$2:$X$30,MATCH($A5,'brioHR export'!$A$2:$A$30,0))),"Missing") -> 180 | I5: =IFERROR(N(INDEX('brioHR export'!$Y$2:$Y$30,MATCH($A5,'brioHR export'!$A$2:$A$30,0))),"Missing") -> 72 | J5: =IFERROR(N(INDEX('brioHR export'!$Z$2:$Z$30,MATCH($A5,'brioHR export'!$A$2:$A$30,0))),"Missing") -> 3179.9 | K5: =IFERROR(N(INDEX('brioHR export'!$AD$2:$AD$30,MATCH($A5,'brioHR export'!$A$2:$A$30,0))),"Missing") -> 41078.1 | L5: =IFERROR(N(INDEX('brioHR export'!$AE$2:$AE$30,MATCH($A5,'brioHR export'!$A$2:$A$30,0))),"Missing") -> 5004 | M5: =IFERROR(N(INDEX('brioHR export'!$AF$2:$AF$30,MATCH($A5,'brioHR export'!$A$2:$A$30,0))),"Missing") -> 630 | N5: =IFERROR(N(INDEX('brioHR export'!$AG$2:$AG$30,MATCH($A5,'brioHR export'!$A$2:$A$30,0))),"Missing") -> 72 | O5: =IFERROR(N(INDEX('brioHR export'!$AH$2:$AH$30,MATCH($A5,'brioHR export'!$A$2:$A$30,0))),"Missing") -> 417 | P5: ='Old system (cleaned)'!D2 -> 40800 | Q5: ='Old system (cleaned)'!I2 -> 6800 | R5: ='Old system (cleaned)'!K2 -> 49100 | S5: ='Old system (cleaned)'!L2 -> 5338 | T5: ='Old system (cleaned)'!N2 -> 180 | U5: ='Old system (cleaned)'!O2 -> 72 | V5: ='Old system (cleaned)'!P2 -> 3179.9 | W5: ='Old system (cleaned)'!R2 -> 40330.1 | X5: ='Old system (cleaned)'!S2 -> 5820 | Y5: ='Old system (cleaned)'!U2 -> 630 | Z5: ='Old system (cleaned)'!V2 -> 72 | AA5: ='Old system (cleaned)'!W2 -> 417 | AB5: =IF(ISNUMBER(D5),ROUND(D5-P5,2),"Missing") -> 0 | AC5: =IF(ISNUMBER(E5),ROUND(E5-Q5,2),"Missing") -> 0 | AD5: =IF(ISNUMBER(F5),ROUND(F5-R5,2),"Missing") -> 0 | AE5: =IF(ISNUMBER(G5),ROUND(G5-S5,2),"Missing") -> -748 | AF5: =IF(ISNUMBER(H5),ROUND(H5-T5,2),"Missing") -> 0 | AG5: =IF(ISNUMBER(I5),ROUND(I5-U5,2),"Missing") -> 0 | AH5: =IF(ISNUMBER(J5),ROUND(J5-V5,2),"Missing") -> 0 | AI5: =IF(ISNUMBER(K5),ROUND(K5-W5,2),"Missing") -> 748 | ... AM5: =IF(ISNUMBER(O5),ROUND(O5-AA5,2),"Missing") -> 0 | AN5: =IF(COUNTIF(AB5:AM5,"Missing")>0,"Missing in brioHR",IF(COUNTIF(AB5:AM5,"<>0")>0,"Check","OK")) -> Check
A6: ='Old system (cleaned)'!A3 -> 002 | B6: ='Old system (cleaned)'!B3 -> KELVIN ONG WEI JIE | C6: ='Old system (cleaned)'!C3 -> Accounts | D6: =IFERROR(N(INDEX('brioHR export'!$F$2:$F$30,MATCH($A6,'brioHR export'!$A$2:$A$30,0))),"Missing") -> 25200 | E6: =IFERROR(N(INDEX('brioHR export'!$I$2:$I$30,MATCH($A6,'brioHR export'!$A$2:$A$30,0))),"Missing") -> 0 | F6: =IFERROR(N(INDEX('brioHR export'!$V$2:$V$30,MATCH($A6,'brioHR export'!$A$2:$A$30,0))),"Missing") -> 26100 | G6: =IFERROR(N(INDEX('brioHR export'!$W$2:$W$30,MATCH($A6,'brioHR export'!$A$2:$A$30,0))),"Missing") -> 2874 | H6: =IFERROR(N(INDEX('brioHR export'!$X$2:$X$30,MATCH($A6,'brioHR export'!$A$2:$A$30,0))),"Missing") -> 130.5 | I6: =IFERROR(N(INDEX('brioHR export'!$Y$2:$Y$30,MATCH($A6,'brioHR export'!$A$2:$A$30,0))),"Missing") -> 52.2 | J6: =IFERROR(N(INDEX('brioHR export'!$Z$2:$Z$30,MATCH($A6,'brioHR export'!$A$2:$A$30,0))),"Missing") -> 426 | K6: =IFERROR(N(INDEX('brioHR export'!$AD$2:$AD$30,MATCH($A6,'brioHR export'!$A$2:$A$30,0))),"Missing") -> 22617.3 | L6: =IFERROR(N(INDEX('brioHR export'!$AE$2:$AE$30,MATCH($A6,'brioHR export'!$A$2:$A$30,0))),"Missing") -> 3396 | M6: =IFERROR(N(INDEX('brioHR export'!$AF$2:$AF$30,MATCH($A6,'brioHR export'!$A$2:$A$30,0))),"Missing") -> 456.9 | N6: =IFERROR(N(INDEX('brioHR export'!$AG$2:$AG$30,MATCH($A6,'brioHR export'!$A$2:$A$30,0))),"Missing") -> 52.2 | O6: =IFERROR(N(INDEX('brioHR export'!$AH$2:$AH$30,MATCH($A6,'brioHR export'!$A$2:$A$30,0))),"Missing") -> 261 | P6: ='Old system (cleaned)'!D3 -> 25200 | Q6: ='Old system (cleaned)'!I3 -> 0 | R6: ='Old system (cleaned)'!K3 -> 26100 | S6: ='Old system (cleaned)'!L3 -> 2874 | T6: ='Old system (cleaned)'!N3 -> 130.5 | U6: ='Old system (cleaned)'!O3 -> 52.2 | V6: ='Old system (cleaned)'!P3 -> 426 | W6: ='Old system (cleaned)'!R3 -> 22617.3 | X6: ='Old system (cleaned)'!S3 -> 3396 | Y6: ='Old system (cleaned)'!U3 -> 456.9 | Z6: ='Old system (cleaned)'!V3 -> 52.2 | AA6: ='Old system (cleaned)'!W3 -> 261 | AB6: =IF(ISNUMBER(D6),ROUND(D6-P6,2),"Missing") -> 0 | AC6: =IF(ISNUMBER(E6),ROUND(E6-Q6,2),"Missing") -> 0 | AD6: =IF(ISNUMBER(F6),ROUND(F6-R6,2),"Missing") -> 0 | AE6: =IF(ISNUMBER(G6),ROUND(G6-S6,2),"Missing") -> 0 | AF6: =IF(ISNUMBER(H6),ROUND(H6-T6,2),"Missing") -> 0 | AG6: =IF(ISNUMBER(I6),ROUND(I6-U6,2),"Missing") -> 0 | AH6: =IF(ISNUMBER(J6),ROUND(J6-V6,2),"Missing") -> 0 | AI6: =IF(ISNUMBER(K6),ROUND(K6-W6,2),"Missing") -> 0 | ... AM6: =IF(ISNUMBER(O6),ROUND(O6-AA6,2),"Missing") -> 0 | AN6: =IF(COUNTIF(AB6:AM6,"Missing")>0,"Missing in brioHR",IF(COUNTIF(AB6:AM6,"<>0")>0,"Check","OK")) -> OK
A7: ='Old system (cleaned)'!A4 -> 003 | B7: ='Old system (cleaned)'!B4 -> PRIYA A/P RAJENDRAN | C7: ='Old system (cleaned)'!C4 -> Accounts | D7: =IFERROR(N(INDEX('brioHR export'!$F$2:$F$30,MATCH($A7,'brioHR export'!$A$2:$A$30,0))),"Missing") -> 23400 | E7: =IFERROR(N(INDEX('brioHR export'!$I$2:$I$30,MATCH($A7,'brioHR export'!$A$2:$A$30,0))),"Missing") -> 0 | F7: =IFERROR(N(INDEX('brioHR export'!$V$2:$V$30,MATCH($A7,'brioHR export'!$A$2:$A$30,0))),"Missing") -> 24300 | G7: =IFERROR(N(INDEX('brioHR export'!$W$2:$W$30,MATCH($A7,'brioHR export'!$A$2:$A$30,0))),"Missing") -> 2676 | H7: =IFERROR(N(INDEX('brioHR export'!$X$2:$X$30,MATCH($A7,'brioHR export'!$A$2:$A$30,0))),"Missing") -> 121.5 | I7: =IFERROR(N(INDEX('brioHR export'!$Y$2:$Y$30,MATCH($A7,'brioHR export'!$A$2:$A$30,0))),"Missing") -> 48.6 | J7: =IFERROR(N(INDEX('brioHR export'!$Z$2:$Z$30,MATCH($A7,'brioHR export'!$A$2:$A$30,0))),"Missing") -> 318 | K7: =IFERROR(N(INDEX('brioHR export'!$AD$2:$AD$30,MATCH($A7,'brioHR export'!$A$2:$A$30,0))),"Missing") -> 19935.9 | L7: =IFERROR(N(INDEX('brioHR export'!$AE$2:$AE$30,MATCH($A7,'brioHR export'!$A$2:$A$30,0))),"Missing") -> 3162 | M7: =IFERROR(N(INDEX('brioHR export'!$AF$2:$AF$30,MATCH($A7,'brioHR export'!$A$2:$A$30,0))),"Missing") -> 425.4 | N7: =IFERROR(N(INDEX('brioHR export'!$AG$2:$AG$30,MATCH($A7,'brioHR export'!$A$2:$A$30,0))),"Missing") -> 48.6 | O7: =IFERROR(N(INDEX('brioHR export'!$AH$2:$AH$30,MATCH($A7,'brioHR export'!$A$2:$A$30,0))),"Missing") -> 243 | P7: ='Old system (cleaned)'!D4 -> 23400 | Q7: ='Old system (cleaned)'!I4 -> 0 | R7: ='Old system (cleaned)'!K4 -> 24300 | S7: ='Old system (cleaned)'!L4 -> 2676 | T7: ='Old system (cleaned)'!N4 -> 121.5 | U7: ='Old system (cleaned)'!O4 -> 48.6 | V7: ='Old system (cleaned)'!P4 -> 318 | W7: ='Old system (cleaned)'!R4 -> 19935.9 | X7: ='Old system (cleaned)'!S4 -> 3162 | Y7: ='Old system (cleaned)'!U4 -> 425.4 | Z7: ='Old system (cleaned)'!V4 -> 48.6 | AA7: ='Old system (cleaned)'!W4 -> 243 | AB7: =IF(ISNUMBER(D7),ROUND(D7-P7,2),"Missing") -> 0 | AC7: =IF(ISNUMBER(E7),ROUND(E7-Q7,2),"Missing") -> 0 | AD7: =IF(ISNUMBER(F7),ROUND(F7-R7,2),"Missing") -> 0 | AE7: =IF(ISNUMBER(G7),ROUND(G7-S7,2),"Missing") -> 0 | AF7: =IF(ISNUMBER(H7),ROUND(H7-T7,2),"Missing") -> 0 | AG7: =IF(ISNUMBER(I7),ROUND(I7-U7,2),"Missing") -> 0 | AH7: =IF(ISNUMBER(J7),ROUND(J7-V7,2),"Missing") -> 0 | AI7: =IF(ISNUMBER(K7),ROUND(K7-W7,2),"Missing") -> 0 | ... AM7: =IF(ISNUMBER(O7),ROUND(O7-AA7,2),"Missing") -> 0 | AN7: =IF(COUNTIF(AB7:AM7,"Missing")>0,"Missing in brioHR",IF(COUNTIF(AB7:AM7,"<>0")>0,"Check","OK")) -> OK
A8: ='Old system (cleaned)'!A5 -> 004 | B8: ='Old system (cleaned)'!B5 -> AMIRUL BIN HASSAN | C8: ='Old system (cleaned)'!C5 -> Accounts | D8: =IFERROR(N(INDEX('brioHR export'!$F$2:$F$30,MATCH($A8,'brioHR export'!$A$2:$A$30,0))),"Missing") -> 18600 | E8: =IFERROR(N(INDEX('brioHR export'!$I$2:$I$30,MATCH($A8,'brioHR export'!$A$2:$A$30,0))),"Missing") -> 0 | F8: =IFERROR(N(INDEX('brioHR export'!$V$2:$V$30,MATCH($A8,'brioHR export'!$A$2:$A$30,0))),"Missing") -> 19500 | G8: =IFERROR(N(INDEX('brioHR export'!$W$2:$W$30,MATCH($A8,'brioHR export'!$A$2:$A$30,0))),"Missing") -> 2148 | H8: =IFERROR(N(INDEX('brioHR export'!$X$2:$X$30,MATCH($A8,'brioHR export'!$A$2:$A$30,0))),"Missing") -> 97.5 | I8: =IFERROR(N(INDEX('brioHR export'!$Y$2:$Y$30,MATCH($A8,'brioHR export'!$A$2:$A$30,0))),"Missing") -> 39 | J8: =IFERROR(N(INDEX('brioHR export'!$Z$2:$Z$30,MATCH($A8,'brioHR export'!$A$2:$A$30,0))),"Missing") -> 0 | K8: =IFERROR(N(INDEX('brioHR export'!$AD$2:$AD$30,MATCH($A8,'brioHR export'!$A$2:$A$30,0))),"Missing") -> 17215.5 | L8: =IFERROR(N(INDEX('brioHR export'!$AE$2:$AE$30,MATCH($A8,'brioHR export'!$A$2:$A$30,0))),"Missing") -> 2538 | M8: =IFERROR(N(INDEX('brioHR export'!$AF$2:$AF$30,MATCH($A8,'brioHR export'!$A$2:$A$30,0))),"Missing") -> 341.4 | N8: =IFERROR(N(INDEX('brioHR export'!$AG$2:$AG$30,MATCH($A8,'brioHR export'!$A$2:$A$30,0))),"Missing") -> 39 | O8: =IFERROR(N(INDEX('brioHR export'!$AH$2:$AH$30,MATCH($A8,'brioHR export'!$A$2:$A$30,0))),"Missing") -> 195 | P8: ='Old system (cleaned)'!D5 -> 18600 | Q8: ='Old system (cleaned)'!I5 -> 0 | R8: ='Old system (cleaned)'!K5 -> 19500 | S8: ='Old system (cleaned)'!L5 -> 2148 | T8: ='Old system (cleaned)'!N5 -> 97.5 | U8: ='Old system (cleaned)'!O5 -> 39 | V8: ='Old system (cleaned)'!P5 -> 0 | W8: ='Old system (cleaned)'!R5 -> 17215.5 | X8: ='Old system (cleaned)'!S5 -> 2538 | Y8: ='Old system (cleaned)'!U5 -> 341.4 | Z8: ='Old system (cleaned)'!V5 -> 39 | AA8: ='Old system (cleaned)'!W5 -> 195 | AB8: =IF(ISNUMBER(D8),ROUND(D8-P8,2),"Missing") -> 0 | AC8: =IF(ISNUMBER(E8),ROUND(E8-Q8,2),"Missing") -> 0 | AD8: =IF(ISNUMBER(F8),ROUND(F8-R8,2),"Missing") -> 0 | AE8: =IF(ISNUMBER(G8),ROUND(G8-S8,2),"Missing") -> 0 | AF8: =IF(ISNUMBER(H8),ROUND(H8-T8,2),"Missing") -> 0 | AG8: =IF(ISNUMBER(I8),ROUND(I8-U8,2),"Missing") -> 0 | AH8: =IF(ISNUMBER(J8),ROUND(J8-V8,2),"Missing") -> 0 | AI8: =IF(ISNUMBER(K8),ROUND(K8-W8,2),"Missing") -> 0 | ... AM8: =IF(ISNUMBER(O8),ROUND(O8-AA8,2),"Missing") -> 0 | AN8: =IF(COUNTIF(AB8:AM8,"Missing")>0,"Missing in brioHR",IF(COUNTIF(AB8:AM8,"<>0")>0,"Check","OK")) -> OK
A9: ='Old system (cleaned)'!A6 -> 005 | B9: ='Old system (cleaned)'!B6 -> TAN MEI LING | C9: ='Old system (cleaned)'!C6 -> Accounts | D9: =IFERROR(N(INDEX('brioHR export'!$F$2:$F$30,MATCH($A9,'brioHR export'!$A$2:$A$30,0))),"Missing") -> 33600 | E9: =IFERROR(N(INDEX('brioHR export'!$I$2:$I$30,MATCH($A9,'brioHR export'!$A$2:$A$30,0))),"Missing") -> 5600 | F9: =IFERROR(N(INDEX('brioHR export'!$V$2:$V$30,MATCH($A9,'brioHR export'!$A$2:$A$30,0))),"Missing") -> 40700 | G9: =IFERROR(N(INDEX('brioHR export'!$W$2:$W$30,MATCH($A9,'brioHR export'!$A$2:$A$30,0))),"Missing") -> 3798 | H9: =IFERROR(N(INDEX('brioHR export'!$X$2:$X$30,MATCH($A9,'brioHR export'!$A$2:$A$30,0))),"Missing") -> 172.5 | I9: =IFERROR(N(INDEX('brioHR export'!$Y$2:$Y$30,MATCH($A9,'brioHR export'!$A$2:$A$30,0))),"Missing") -> 69 | J9: =IFERROR(N(INDEX('brioHR export'!$Z$2:$Z$30,MATCH($A9,'brioHR export'!$A$2:$A$30,0))),"Missing") -> 1696 | K9: =IFERROR(N(INDEX('brioHR export'!$AD$2:$AD$30,MATCH($A9,'brioHR export'!$A$2:$A$30,0))),"Missing") -> 34964.5 | L9: =IFERROR(N(INDEX('brioHR export'!$AE$2:$AE$30,MATCH($A9,'brioHR export'!$A$2:$A$30,0))),"Missing") -> 4140 | M9: =IFERROR(N(INDEX('brioHR export'!$AF$2:$AF$30,MATCH($A9,'brioHR export'!$A$2:$A$30,0))),"Missing") -> 603.9 | N9: =IFERROR(N(INDEX('brioHR export'!$AG$2:$AG$30,MATCH($A9,'brioHR export'!$A$2:$A$30,0))),"Missing") -> 69 | O9: =IFERROR(N(INDEX('brioHR export'!$AH$2:$AH$30,MATCH($A9,'brioHR export'!$A$2:$A$30,0))),"Missing") -> 345 | P9: ='Old system (cleaned)'!D6 -> 33600 | Q9: ='Old system (cleaned)'!I6 -> 5600 | R9: ='Old system (cleaned)'!K6 -> 40700 | S9: ='Old system (cleaned)'!L6 -> 4414 | T9: ='Old system (cleaned)'!N6 -> 172.5 | U9: ='Old system (cleaned)'!O6 -> 69 | V9: ='Old system (cleaned)'!P6 -> 1696 | W9: ='Old system (cleaned)'!R6 -> 34348.5 | X9: ='Old system (cleaned)'!S6 -> 4812 | Y9: ='Old system (cleaned)'!U6 -> 603.9 | Z9: ='Old system (cleaned)'!V6 -> 69 | AA9: ='Old system (cleaned)'!W6 -> 345 | AB9: =IF(ISNUMBER(D9),ROUND(D9-P9,2),"Missing") -> 0 | AC9: =IF(ISNUMBER(E9),ROUND(E9-Q9,2),"Missing") -> 0 | AD9: =IF(ISNUMBER(F9),ROUND(F9-R9,2),"Missing") -> 0 | AE9: =IF(ISNUMBER(G9),ROUND(G9-S9,2),"Missing") -> -616 | AF9: =IF(ISNUMBER(H9),ROUND(H9-T9,2),"Missing") -> 0 | AG9: =IF(ISNUMBER(I9),ROUND(I9-U9,2),"Missing") -> 0 | AH9: =IF(ISNUMBER(J9),ROUND(J9-V9,2),"Missing") -> 0 | AI9: =IF(ISNUMBER(K9),ROUND(K9-W9,2),"Missing") -> 616 | ... AM9: =IF(ISNUMBER(O9),ROUND(O9-AA9,2),"Missing") -> 0 | AN9: =IF(COUNTIF(AB9:AM9,"Missing")>0,"Missing in brioHR",IF(COUNTIF(AB9:AM9,"<>0")>0,"Check","OK")) -> Check
A10: ='Old system (cleaned)'!A7 -> 006 | B10: ='Old system (cleaned)'!B7 -> SITI HAJAR BINTI OSMAN | C10: ='Old system (cleaned)'!C7 -> Accounts | D10: =IFERROR(N(INDEX('brioHR export'!$F$2:$F$30,MATCH($A10,'brioHR export'!$A$2:$A$30,0))),"Missing") -> 16800 | E10: =IFERROR(N(INDEX('brioHR export'!$I$2:$I$30,MATCH($A10,'brioHR export'!$A$2:$A$30,0))),"Missing") -> 0 | F10: =IFERROR(N(INDEX('brioHR export'!$V$2:$V$30,MATCH($A10,'brioHR export'!$A$2:$A$30,0))),"Missing") -> 17484.62 | G10: =IFERROR(N(INDEX('brioHR export'!$W$2:$W$30,MATCH($A10,'brioHR export'!$A$2:$A$30,0))),"Missing") -> 1926 | H10: =IFERROR(N(INDEX('brioHR export'!$X$2:$X$30,MATCH($A10,'brioHR export'!$A$2:$A$30,0))),"Missing") -> 87.4 | I10: =IFERROR(N(INDEX('brioHR export'!$Y$2:$Y$30,MATCH($A10,'brioHR export'!$A$2:$A$30,0))),"Missing") -> 34.95 | J10: =IFERROR(N(INDEX('brioHR export'!$Z$2:$Z$30,MATCH($A10,'brioHR export'!$A$2:$A$30,0))),"Missing") -> 0 | K10: =IFERROR(N(INDEX('brioHR export'!$AD$2:$AD$30,MATCH($A10,'brioHR export'!$A$2:$A$30,0))),"Missing") -> 15436.27 | L10: =IFERROR(N(INDEX('brioHR export'!$AE$2:$AE$30,MATCH($A10,'brioHR export'!$A$2:$A$30,0))),"Missing") -> 2276 | M10: =IFERROR(N(INDEX('brioHR export'!$AF$2:$AF$30,MATCH($A10,'brioHR export'!$A$2:$A$30,0))),"Missing") -> 306.1 | N10: =IFERROR(N(INDEX('brioHR export'!$AG$2:$AG$30,MATCH($A10,'brioHR export'!$A$2:$A$30,0))),"Missing") -> 34.95 | O10: =IFERROR(N(INDEX('brioHR export'!$AH$2:$AH$30,MATCH($A10,'brioHR export'!$A$2:$A$30,0))),"Missing") -> 177 | P10: ='Old system (cleaned)'!D7 -> 16800 | Q10: ='Old system (cleaned)'!I7 -> 0 | R10: ='Old system (cleaned)'!K7 -> 17484.62 | S10: ='Old system (cleaned)'!L7 -> 1926 | T10: ='Old system (cleaned)'!N7 -> 87.4 | U10: ='Old system (cleaned)'!O7 -> 34.95 | V10: ='Old system (cleaned)'!P7 -> 0 | W10: ='Old system (cleaned)'!R7 -> 15436.27 | X10: ='Old system (cleaned)'!S7 -> 2276 | Y10: ='Old system (cleaned)'!U7 -> 306.1 | Z10: ='Old system (cleaned)'!V7 -> 34.95 | AA10: ='Old system (cleaned)'!W7 -> 177 | AB10: =IF(ISNUMBER(D10),ROUND(D10-P10,2),"Missing") -> 0 | AC10: =IF(ISNUMBER(E10),ROUND(E10-Q10,2),"Missing") -> 0 | AD10: =IF(ISNUMBER(F10),ROUND(F10-R10,2),"Missing") -> 0 | AE10: =IF(ISNUMBER(G10),ROUND(G10-S10,2),"Missing") -> 0 | AF10: =IF(ISNUMBER(H10),ROUND(H10-T10,2),"Missing") -> 0 | AG10: =IF(ISNUMBER(I10),ROUND(I10-U10,2),"Missing") -> 0 | AH10: =IF(ISNUMBER(J10),ROUND(J10-V10,2),"Missing") -> 0 | AI10: =IF(ISNUMBER(K10),ROUND(K10-W10,2),"Missing") -> 0 | ... AM10: =IF(ISNUMBER(O10),ROUND(O10-AA10,2),"Missing") -> 0 | AN10: =IF(COUNTIF(AB10:AM10,"Missing")>0,"Missing in brioHR",IF(COUNTIF(AB10:AM10,"<>0")>0,"Check","OK")) -> OK
A11: ='Old system (cleaned)'!A8 -> 007 | B11: ='Old system (cleaned)'!B8 -> DANIEL LIM JUN HAO | C11: ='Old system (cleaned)'!C8 -> Accounts | D11: =IFERROR(N(INDEX('brioHR export'!$F$2:$F$30,MATCH($A11,'brioHR export'!$A$2:$A$30,0))),"Missing") -> 21000 | E11: =IFERROR(N(INDEX('brioHR export'!$I$2:$I$30,MATCH($A11,'brioHR export'!$A$2:$A$30,0))),"Missing") -> 0 | F11: =IFERROR(N(INDEX('brioHR export'!$V$2:$V$30,MATCH($A11,'brioHR export'!$A$2:$A$30,0))),"Missing") -> 21900 | G11: =IFERROR(N(INDEX('brioHR export'!$W$2:$W$30,MATCH($A11,'brioHR export'!$A$2:$A$30,0))),"Missing") -> 2412 | H11: =IFERROR(N(INDEX('brioHR export'!$X$2:$X$30,MATCH($A11,'brioHR export'!$A$2:$A$30,0))),"Missing") -> 109.5 | I11: =IFERROR(N(INDEX('brioHR export'!$Y$2:$Y$30,MATCH($A11,'brioHR export'!$A$2:$A$30,0))),"Missing") -> 43.8 | J11: =IFERROR(N(INDEX('brioHR export'!$Z$2:$Z$30,MATCH($A11,'brioHR export'!$A$2:$A$30,0))),"Missing") -> 36.9 | K11: =IFERROR(N(INDEX('brioHR export'!$AD$2:$AD$30,MATCH($A11,'brioHR export'!$A$2:$A$30,0))),"Missing") -> 19297.8 | L11: =IFERROR(N(INDEX('brioHR export'!$AE$2:$AE$30,MATCH($A11,'brioHR export'!$A$2:$A$30,0))),"Missing") -> 2850 | M11: =IFERROR(N(INDEX('brioHR export'!$AF$2:$AF$30,MATCH($A11,'brioHR export'!$A$2:$A$30,0))),"Missing") -> 383.4 | N11: =IFERROR(N(INDEX('brioHR export'!$AG$2:$AG$30,MATCH($A11,'brioHR export'!$A$2:$A$30,0))),"Missing") -> 43.8 | O11: =IFERROR(N(INDEX('brioHR export'!$AH$2:$AH$30,MATCH($A11,'brioHR export'!$A$2:$A$30,0))),"Missing") -> 219 | P11: ='Old system (cleaned)'!D8 -> 21000 | Q11: ='Old system (cleaned)'!I8 -> 0 | R11: ='Old system (cleaned)'!K8 -> 21900 | S11: ='Old system (cleaned)'!L8 -> 2412 | T11: ='Old system (cleaned)'!N8 -> 109.5 | U11: ='Old system (cleaned)'!O8 -> 43.8 | V11: ='Old system (cleaned)'!P8 -> 36.9 | W11: ='Old system (cleaned)'!R8 -> 19297.8 | X11: ='Old system (cleaned)'!S8 -> 2850 | Y11: ='Old system (cleaned)'!U8 -> 383.4 | Z11: ='Old system (cleaned)'!V8 -> 43.8 | AA11: ='Old system (cleaned)'!W8 -> 219 | AB11: =IF(ISNUMBER(D11),ROUND(D11-P11,2),"Missing") -> 0 | AC11: =IF(ISNUMBER(E11),ROUND(E11-Q11,2),"Missing") -> 0 | AD11: =IF(ISNUMBER(F11),ROUND(F11-R11,2),"Missing") -> 0 | AE11: =IF(ISNUMBER(G11),ROUND(G11-S11,2),"Missing") -> 0 | AF11: =IF(ISNUMBER(H11),ROUND(H11-T11,2),"Missing") -> 0 | AG11: =IF(ISNUMBER(I11),ROUND(I11-U11,2),"Missing") -> 0 | AH11: =IF(ISNUMBER(J11),ROUND(J11-V11,2),"Missing") -> 0 | AI11: =IF(ISNUMBER(K11),ROUND(K11-W11,2),"Missing") -> 0 | ... AM11: =IF(ISNUMBER(O11),ROUND(O11-AA11,2),"Missing") -> 0 | AN11: =IF(COUNTIF(AB11:AM11,"Missing")>0,"Missing in brioHR",IF(COUNTIF(AB11:AM11,"<>0")>0,"Check","OK")) -> OK
A12: ='Old system (cleaned)'!A9 -> 008 | B12: ='Old system (cleaned)'!B9 -> FARAH BINTI ZULKIFLI | C12: ='Old system (cleaned)'!C9 -> Accounts | D12: =IFERROR(N(INDEX('brioHR export'!$F$2:$F$30,MATCH($A12,'brioHR export'!$A$2:$A$30,0))),"Missing") -> 15600 | E12: =IFERROR(N(INDEX('brioHR export'!$I$2:$I$30,MATCH($A12,'brioHR export'!$A$2:$A$30,0))),"Missing") -> 0 | F12: =IFERROR(N(INDEX('brioHR export'!$V$2:$V$30,MATCH($A12,'brioHR export'!$A$2:$A$30,0))),"Missing") -> 16500 | G12: =IFERROR(N(INDEX('brioHR export'!$W$2:$W$30,MATCH($A12,'brioHR export'!$A$2:$A$30,0))),"Missing") -> 1818 | H12: =IFERROR(N(INDEX('brioHR export'!$X$2:$X$30,MATCH($A12,'brioHR export'!$A$2:$A$30,0))),"Missing") -> 82.5 | I12: =IFERROR(N(INDEX('brioHR export'!$Y$2:$Y$30,MATCH($A12,'brioHR export'!$A$2:$A$30,0))),"Missing") -> 33 | J12: =IFERROR(N(INDEX('brioHR export'!$Z$2:$Z$30,MATCH($A12,'brioHR export'!$A$2:$A$30,0))),"Missing") -> 0 | K12: =IFERROR(N(INDEX('brioHR export'!$AD$2:$AD$30,MATCH($A12,'brioHR export'!$A$2:$A$30,0))),"Missing") -> 14566.5 | L12: =IFERROR(N(INDEX('brioHR export'!$AE$2:$AE$30,MATCH($A12,'brioHR export'!$A$2:$A$30,0))),"Missing") -> 2148 | M12: =IFERROR(N(INDEX('brioHR export'!$AF$2:$AF$30,MATCH($A12,'brioHR export'!$A$2:$A$30,0))),"Missing") -> 288.9 | N12: =IFERROR(N(INDEX('brioHR export'!$AG$2:$AG$30,MATCH($A12,'brioHR export'!$A$2:$A$30,0))),"Missing") -> 33 | O12: =IFERROR(N(INDEX('brioHR export'!$AH$2:$AH$30,MATCH($A12,'brioHR export'!$A$2:$A$30,0))),"Missing") -> 165 | P12: ='Old system (cleaned)'!D9 -> 15600 | Q12: ='Old system (cleaned)'!I9 -> 0 | R12: ='Old system (cleaned)'!K9 -> 16500 | S12: ='Old system (cleaned)'!L9 -> 1818 | T12: ='Old system (cleaned)'!N9 -> 82.5 | U12: ='Old system (cleaned)'!O9 -> 33 | V12: ='Old system (cleaned)'!P9 -> 0 | W12: ='Old system (cleaned)'!R9 -> 14566.5 | X12: ='Old system (cleaned)'!S9 -> 2148 | Y12: ='Old system (cleaned)'!U9 -> 288.9 | Z12: ='Old system (cleaned)'!V9 -> 33 | AA12: ='Old system (cleaned)'!W9 -> 165 | AB12: =IF(ISNUMBER(D12),ROUND(D12-P12,2),"Missing") -> 0 | AC12: =IF(ISNUMBER(E12),ROUND(E12-Q12,2),"Missing") -> 0 | AD12: =IF(ISNUMBER(F12),ROUND(F12-R12,2),"Missing") -> 0 | AE12: =IF(ISNUMBER(G12),ROUND(G12-S12,2),"Missing") -> 0 | AF12: =IF(ISNUMBER(H12),ROUND(H12-T12,2),"Missing") -> 0 | AG12: =IF(ISNUMBER(I12),ROUND(I12-U12,2),"Missing") -> 0 | AH12: =IF(ISNUMBER(J12),ROUND(J12-V12,2),"Missing") -> 0 | AI12: =IF(ISNUMBER(K12),ROUND(K12-W12,2),"Missing") -> 0 | ... AM12: =IF(ISNUMBER(O12),ROUND(O12-AA12,2),"Missing") -> 0 | AN12: =IF(COUNTIF(AB12:AM12,"Missing")>0,"Missing in brioHR",IF(COUNTIF(AB12:AM12,"<>0")>0,"Check","OK")) -> OK
A13: ='Old system (cleaned)'!A10 -> 009 | B13: ='Old system (cleaned)'!B10 -> MUTHU A/L KRISHNAN | C13: ='Old system (cleaned)'!C10 -> Operations | D13: =IFERROR(N(INDEX('brioHR export'!$F$2:$F$30,MATCH($A13,'brioHR export'!$A$2:$A$30,0))),"Missing") -> 14400 | E13: =IFERROR(N(INDEX('brioHR export'!$I$2:$I$30,MATCH($A13,'brioHR export'!$A$2:$A$30,0))),"Missing") -> 0 | F13: =IFERROR(N(INDEX('brioHR export'!$V$2:$V$30,MATCH($A13,'brioHR export'!$A$2:$A$30,0))),"Missing") -> 15519.23 | G13: =IFERROR(N(INDEX('brioHR export'!$W$2:$W$30,MATCH($A13,'brioHR export'!$A$2:$A$30,0))),"Missing") -> 1650 | H13: =IFERROR(N(INDEX('brioHR export'!$X$2:$X$30,MATCH($A13,'brioHR export'!$A$2:$A$30,0))),"Missing") -> 77.6 | I13: =IFERROR(N(INDEX('brioHR export'!$Y$2:$Y$30,MATCH($A13,'brioHR export'!$A$2:$A$30,0))),"Missing") -> 31.05 | J13: =IFERROR(N(INDEX('brioHR export'!$Z$2:$Z$30,MATCH($A13,'brioHR export'!$A$2:$A$30,0))),"Missing") -> 0 | K13: =IFERROR(N(INDEX('brioHR export'!$AD$2:$AD$30,MATCH($A13,'brioHR export'!$A$2:$A$30,0))),"Missing") -> 13760.58 | L13: =IFERROR(N(INDEX('brioHR export'!$AE$2:$AE$30,MATCH($A13,'brioHR export'!$A$2:$A$30,0))),"Missing") -> 1950 | M13: =IFERROR(N(INDEX('brioHR export'!$AF$2:$AF$30,MATCH($A13,'brioHR export'!$A$2:$A$30,0))),"Missing") -> 271.5 | N13: =IFERROR(N(INDEX('brioHR export'!$AG$2:$AG$30,MATCH($A13,'brioHR export'!$A$2:$A$30,0))),"Missing") -> 31.05 | O13: =IFERROR(N(INDEX('brioHR export'!$AH$2:$AH$30,MATCH($A13,'brioHR export'!$A$2:$A$30,0))),"Missing") -> 150 | P13: ='Old system (cleaned)'!D10 -> 14400 | Q13: ='Old system (cleaned)'!I10 -> 0 | R13: ='Old system (cleaned)'!K10 -> 15519.23 | S13: ='Old system (cleaned)'!L10 -> 1650 | T13: ='Old system (cleaned)'!N10 -> 77.6 | U13: ='Old system (cleaned)'!O10 -> 31.05 | V13: ='Old system (cleaned)'!P10 -> 0 | W13: ='Old system (cleaned)'!R10 -> 13760.58 | X13: ='Old system (cleaned)'!S10 -> 1950 | Y13: ='Old system (cleaned)'!U10 -> 271.5 | Z13: ='Old system (cleaned)'!V10 -> 31.05 | AA13: ='Old system (cleaned)'!W10 -> 150 | AB13: =IF(ISNUMBER(D13),ROUND(D13-P13,2),"Missing") -> 0 | AC13: =IF(ISNUMBER(E13),ROUND(E13-Q13,2),"Missing") -> 0 | AD13: =IF(ISNUMBER(F13),ROUND(F13-R13,2),"Missing") -> 0 | AE13: =IF(ISNUMBER(G13),ROUND(G13-S13,2),"Missing") -> 0 | AF13: =IF(ISNUMBER(H13),ROUND(H13-T13,2),"Missing") -> 0 | AG13: =IF(ISNUMBER(I13),ROUND(I13-U13,2),"Missing") -> 0 | AH13: =IF(ISNUMBER(J13),ROUND(J13-V13,2),"Missing") -> 0 | AI13: =IF(ISNUMBER(K13),ROUND(K13-W13,2),"Missing") -> 0 | ... AM13: =IF(ISNUMBER(O13),ROUND(O13-AA13,2),"Missing") -> 0 | AN13: =IF(COUNTIF(AB13:AM13,"Missing")>0,"Missing in brioHR",IF(COUNTIF(AB13:AM13,"<>0")>0,"Check","OK")) -> OK
A14: ='Old system (cleaned)'!A11 -> 010 | B14: ='Old system (cleaned)'!B11 -> HAFIZUDDIN BIN ROSLI | C14: ='Old system (cleaned)'!C11 -> Operations | D14: =IFERROR(N(INDEX('brioHR export'!$F$2:$F$30,MATCH($A14,'brioHR export'!$A$2:$A$30,0))),"Missing") -> 13800 | E14: =IFERROR(N(INDEX('brioHR export'!$I$2:$I$30,MATCH($A14,'brioHR export'!$A$2:$A$30,0))),"Missing") -> 0 | F14: =IFERROR(N(INDEX('brioHR export'!$V$2:$V$30,MATCH($A14,'brioHR export'!$A$2:$A$30,0))),"Missing") -> 14648.8 | G14: =IFERROR(N(INDEX('brioHR export'!$W$2:$W$30,MATCH($A14,'brioHR export'!$A$2:$A$30,0))),"Missing") -> 1584 | H14: =IFERROR(N(INDEX('brioHR export'!$X$2:$X$30,MATCH($A14,'brioHR export'!$A$2:$A$30,0))),"Missing") -> 73.25 | I14: =IFERROR(N(INDEX('brioHR export'!$Y$2:$Y$30,MATCH($A14,'brioHR export'!$A$2:$A$30,0))),"Missing") -> 29.3 | J14: =IFERROR(N(INDEX('brioHR export'!$Z$2:$Z$30,MATCH($A14,'brioHR export'!$A$2:$A$30,0))),"Missing") -> 0 | K14: =IFERROR(N(INDEX('brioHR export'!$AD$2:$AD$30,MATCH($A14,'brioHR export'!$A$2:$A$30,0))),"Missing") -> 12062.25 | L14: =IFERROR(N(INDEX('brioHR export'!$AE$2:$AE$30,MATCH($A14,'brioHR export'!$A$2:$A$30,0))),"Missing") -> 1872 | M14: =IFERROR(N(INDEX('brioHR export'!$AF$2:$AF$30,MATCH($A14,'brioHR export'!$A$2:$A$30,0))),"Missing") -> 256.35 | N14: =IFERROR(N(INDEX('brioHR export'!$AG$2:$AG$30,MATCH($A14,'brioHR export'!$A$2:$A$30,0))),"Missing") -> 29.3 | O14: =IFERROR(N(INDEX('brioHR export'!$AH$2:$AH$30,MATCH($A14,'brioHR export'!$A$2:$A$30,0))),"Missing") -> 144 | P14: ='Old system (cleaned)'!D11 -> 13800 | Q14: ='Old system (cleaned)'!I11 -> 0 | R14: ='Old system (cleaned)'!K11 -> 14648.8 | S14: ='Old system (cleaned)'!L11 -> 1584 | T14: ='Old system (cleaned)'!N11 -> 73.25 | U14: ='Old system (cleaned)'!O11 -> 29.3 | V14: ='Old system (cleaned)'!P11 -> 0 | W14: ='Old system (cleaned)'!R11 -> 12062.25 | X14: ='Old system (cleaned)'!S11 -> 1872 | Y14: ='Old system (cleaned)'!U11 -> 256.35 | Z14: ='Old system (cleaned)'!V11 -> 29.3 | AA14: ='Old system (cleaned)'!W11 -> 144 | AB14: =IF(ISNUMBER(D14),ROUND(D14-P14,2),"Missing") -> 0 | AC14: =IF(ISNUMBER(E14),ROUND(E14-Q14,2),"Missing") -> 0 | AD14: =IF(ISNUMBER(F14),ROUND(F14-R14,2),"Missing") -> 0 | AE14: =IF(ISNUMBER(G14),ROUND(G14-S14,2),"Missing") -> 0 | AF14: =IF(ISNUMBER(H14),ROUND(H14-T14,2),"Missing") -> 0 | AG14: =IF(ISNUMBER(I14),ROUND(I14-U14,2),"Missing") -> 0 | AH14: =IF(ISNUMBER(J14),ROUND(J14-V14,2),"Missing") -> 0 | AI14: =IF(ISNUMBER(K14),ROUND(K14-W14,2),"Missing") -> 0 | ... AM14: =IF(ISNUMBER(O14),ROUND(O14-AA14,2),"Missing") -> 0 | AN14: =IF(COUNTIF(AB14:AM14,"Missing")>0,"Missing in brioHR",IF(COUNTIF(AB14:AM14,"<>0")>0,"Check","OK")) -> OK
A15: ='Old system (cleaned)'!A12 -> 011 | B15: ='Old system (cleaned)'!B12 -> CHONG KAH SENG | C15: ='Old system (cleaned)'!C12 -> Operations | D15: =IFERROR(N(INDEX('brioHR export'!$F$2:$F$30,MATCH($A15,'brioHR export'!$A$2:$A$30,0))),"Missing") -> 17400 | E15: =IFERROR(N(INDEX('brioHR export'!$I$2:$I$30,MATCH($A15,'brioHR export'!$A$2:$A$30,0))),"Missing") -> 0 | F15: =IFERROR(N(INDEX('brioHR export'!$V$2:$V$30,MATCH($A15,'brioHR export'!$A$2:$A$30,0))),"Missing") -> 18188.22 | G15: =IFERROR(N(INDEX('brioHR export'!$W$2:$W$30,MATCH($A15,'brioHR export'!$A$2:$A$30,0))),"Missing") -> 1980 | H15: =IFERROR(N(INDEX('brioHR export'!$X$2:$X$30,MATCH($A15,'brioHR export'!$A$2:$A$30,0))),"Missing") -> 90.9 | I15: =IFERROR(N(INDEX('brioHR export'!$Y$2:$Y$30,MATCH($A15,'brioHR export'!$A$2:$A$30,0))),"Missing") -> 36.4 | J15: =IFERROR(N(INDEX('brioHR export'!$Z$2:$Z$30,MATCH($A15,'brioHR export'!$A$2:$A$30,0))),"Missing") -> 0 | K15: =IFERROR(N(INDEX('brioHR export'!$AD$2:$AD$30,MATCH($A15,'brioHR export'!$A$2:$A$30,0))),"Missing") -> 16080.92 | L15: =IFERROR(N(INDEX('brioHR export'!$AE$2:$AE$30,MATCH($A15,'brioHR export'!$A$2:$A$30,0))),"Missing") -> 2340 | M15: =IFERROR(N(INDEX('brioHR export'!$AF$2:$AF$30,MATCH($A15,'brioHR export'!$A$2:$A$30,0))),"Missing") -> 318.3 | N15: =IFERROR(N(INDEX('brioHR export'!$AG$2:$AG$30,MATCH($A15,'brioHR export'!$A$2:$A$30,0))),"Missing") -> 36.4 | O15: =IFERROR(N(INDEX('brioHR export'!$AH$2:$AH$30,MATCH($A15,'brioHR export'!$A$2:$A$30,0))),"Missing") -> 180 | P15: ='Old system (cleaned)'!D12 -> 17400 | Q15: ='Old system (cleaned)'!I12 -> 0 | R15: ='Old system (cleaned)'!K12 -> 18188.22 | S15: ='Old system (cleaned)'!L12 -> 1980 | T15: ='Old system (cleaned)'!N12 -> 90.9 | U15: ='Old system (cleaned)'!O12 -> 36.4 | V15: ='Old system (cleaned)'!P12 -> 0 | W15: ='Old system (cleaned)'!R12 -> 16080.92 | X15: ='Old system (cleaned)'!S12 -> 2340 | Y15: ='Old system (cleaned)'!U12 -> 318.3 | Z15: ='Old system (cleaned)'!V12 -> 36.4 | AA15: ='Old system (cleaned)'!W12 -> 180 | AB15: =IF(ISNUMBER(D15),ROUND(D15-P15,2),"Missing") -> 0 | AC15: =IF(ISNUMBER(E15),ROUND(E15-Q15,2),"Missing") -> 0 | AD15: =IF(ISNUMBER(F15),ROUND(F15-R15,2),"Missing") -> 0 | AE15: =IF(ISNUMBER(G15),ROUND(G15-S15,2),"Missing") -> 0 | AF15: =IF(ISNUMBER(H15),ROUND(H15-T15,2),"Missing") -> 0 | AG15: =IF(ISNUMBER(I15),ROUND(I15-U15,2),"Missing") -> 0 | AH15: =IF(ISNUMBER(J15),ROUND(J15-V15,2),"Missing") -> 0 | AI15: =IF(ISNUMBER(K15),ROUND(K15-W15,2),"Missing") -> 0 | ... AM15: =IF(ISNUMBER(O15),ROUND(O15-AA15,2),"Missing") -> 0 | AN15: =IF(COUNTIF(AB15:AM15,"Missing")>0,"Missing in brioHR",IF(COUNTIF(AB15:AM15,"<>0")>0,"Check","OK")) -> OK
A16: ='Old system (cleaned)'!A13 -> 012 | B16: ='Old system (cleaned)'!B13 -> AINA BINTI RAMLI | C16: ='Old system (cleaned)'!C13 -> Operations | D16: =IFERROR(N(INDEX('brioHR export'!$F$2:$F$30,MATCH($A16,'brioHR export'!$A$2:$A$30,0))),"Missing") -> 27750 | E16: =IFERROR(N(INDEX('brioHR export'!$I$2:$I$30,MATCH($A16,'brioHR export'!$A$2:$A$30,0))),"Missing") -> 0 | F16: =IFERROR(N(INDEX('brioHR export'!$V$2:$V$30,MATCH($A16,'brioHR export'!$A$2:$A$30,0))),"Missing") -> 28350 | G16: =IFERROR(N(INDEX('brioHR export'!$W$2:$W$30,MATCH($A16,'brioHR export'!$A$2:$A$30,0))),"Missing") -> 3090 | H16: =IFERROR(N(INDEX('brioHR export'!$X$2:$X$30,MATCH($A16,'brioHR export'!$A$2:$A$30,0))),"Missing") -> 140.4 | I16: =IFERROR(N(INDEX('brioHR export'!$Y$2:$Y$30,MATCH($A16,'brioHR export'!$A$2:$A$30,0))),"Missing") -> 56.1 | J16: =IFERROR(N(INDEX('brioHR export'!$Z$2:$Z$30,MATCH($A16,'brioHR export'!$A$2:$A$30,0))),"Missing") -> 544.8 | K16: =IFERROR(N(INDEX('brioHR export'!$AD$2:$AD$30,MATCH($A16,'brioHR export'!$A$2:$A$30,0))),"Missing") -> 24518.7 | L16: =IFERROR(N(INDEX('brioHR export'!$AE$2:$AE$30,MATCH($A16,'brioHR export'!$A$2:$A$30,0))),"Missing") -> 3654 | M16: =IFERROR(N(INDEX('brioHR export'!$AF$2:$AF$30,MATCH($A16,'brioHR export'!$A$2:$A$30,0))),"Missing") -> 491.4 | N16: =IFERROR(N(INDEX('brioHR export'!$AG$2:$AG$30,MATCH($A16,'brioHR export'!$A$2:$A$30,0))),"Missing") -> 56.1 | O16: =IFERROR(N(INDEX('brioHR export'!$AH$2:$AH$30,MATCH($A16,'brioHR export'!$A$2:$A$30,0))),"Missing") -> 280.8 | P16: ='Old system (cleaned)'!D13 -> 27480 | Q16: ='Old system (cleaned)'!I13 -> 0 | R16: ='Old system (cleaned)'!K13 -> 28080 | S16: ='Old system (cleaned)'!L13 -> 3090 | T16: ='Old system (cleaned)'!N13 -> 140.4 | U16: ='Old system (cleaned)'!O13 -> 56.1 | V16: ='Old system (cleaned)'!P13 -> 544.8 | W16: ='Old system (cleaned)'!R13 -> 24248.7 | X16: ='Old system (cleaned)'!S13 -> 3654 | Y16: ='Old system (cleaned)'!U13 -> 491.4 | Z16: ='Old system (cleaned)'!V13 -> 56.1 | AA16: ='Old system (cleaned)'!W13 -> 280.8 | AB16: =IF(ISNUMBER(D16),ROUND(D16-P16,2),"Missing") -> 270 | AC16: =IF(ISNUMBER(E16),ROUND(E16-Q16,2),"Missing") -> 0 | AD16: =IF(ISNUMBER(F16),ROUND(F16-R16,2),"Missing") -> 270 | AE16: =IF(ISNUMBER(G16),ROUND(G16-S16,2),"Missing") -> 0 | AF16: =IF(ISNUMBER(H16),ROUND(H16-T16,2),"Missing") -> 0 | AG16: =IF(ISNUMBER(I16),ROUND(I16-U16,2),"Missing") -> 0 | AH16: =IF(ISNUMBER(J16),ROUND(J16-V16,2),"Missing") -> 0 | AI16: =IF(ISNUMBER(K16),ROUND(K16-W16,2),"Missing") -> 270 | ... AM16: =IF(ISNUMBER(O16),ROUND(O16-AA16,2),"Missing") -> 0 | AN16: =IF(COUNTIF(AB16:AM16,"Missing")>0,"Missing in brioHR",IF(COUNTIF(AB16:AM16,"<>0")>0,"Check","OK")) -> Check
... A34: ='Old system (cleaned)'!A31 -> 030 | B34: ='Old system (cleaned)'!B31 -> LOW SHU FEN | C34: ='Old system (cleaned)'!C31 -> Sales | D34: =IFERROR(N(INDEX('brioHR export'!$F$2:$F$30,MATCH($A34,'brioHR export'!$A$2:$A$30,0))),"Missing") -> 48000 | E34: =IFERROR(N(INDEX('brioHR export'!$I$2:$I$30,MATCH($A34,'brioHR export'!$A$2:$A$30,0))),"Missing") -> 8000 | F34: =IFERROR(N(INDEX('brioHR export'!$V$2:$V$30,MATCH($A34,'brioHR export'!$A$2:$A$30,0))),"Missing") -> 65100 | G34: =IFERROR(N(INDEX('brioHR export'!$W$2:$W$30,MATCH($A34,'brioHR export'!$A$2:$A$30,0))),"Missing") -> 6217 | H34: =IFERROR(N(INDEX('brioHR export'!$X$2:$X$30,MATCH($A34,'brioHR export'!$A$2:$A$30,0))),"Missing") -> 180 | I34: =IFERROR(N(INDEX('brioHR export'!$Y$2:$Y$30,MATCH($A34,'brioHR export'!$A$2:$A$30,0))),"Missing") -> 72 | J34: =IFERROR(N(INDEX('brioHR export'!$Z$2:$Z$30,MATCH($A34,'brioHR export'!$A$2:$A$30,0))),"Missing") -> 6714.9 | K34: =IFERROR(N(INDEX('brioHR export'!$AD$2:$AD$30,MATCH($A34,'brioHR export'!$A$2:$A$30,0))),"Missing") -> 51916.1 | L34: =IFERROR(N(INDEX('brioHR export'!$AE$2:$AE$30,MATCH($A34,'brioHR export'!$A$2:$A$30,0))),"Missing") -> 6780 | M34: =IFERROR(N(INDEX('brioHR export'!$AF$2:$AF$30,MATCH($A34,'brioHR export'!$A$2:$A$30,0))),"Missing") -> 630 | N34: =IFERROR(N(INDEX('brioHR export'!$AG$2:$AG$30,MATCH($A34,'brioHR export'!$A$2:$A$30,0))),"Missing") -> 72 | O34: =IFERROR(N(INDEX('brioHR export'!$AH$2:$AH$30,MATCH($A34,'brioHR export'!$A$2:$A$30,0))),"Missing") -> 489 | P34: ='Old system (cleaned)'!D31 -> 48000 | Q34: ='Old system (cleaned)'!I31 -> 8000 | R34: ='Old system (cleaned)'!K31 -> 65100 | S34: ='Old system (cleaned)'!L31 -> 7097 | T34: ='Old system (cleaned)'!N31 -> 180 | U34: ='Old system (cleaned)'!O31 -> 72 | V34: ='Old system (cleaned)'!P31 -> 6714.9 | W34: ='Old system (cleaned)'!R31 -> 51036.1 | X34: ='Old system (cleaned)'!S31 -> 7740 | Y34: ='Old system (cleaned)'!U31 -> 630 | Z34: ='Old system (cleaned)'!V31 -> 72 | AA34: ='Old system (cleaned)'!W31 -> 489 | AB34: =IF(ISNUMBER(D34),ROUND(D34-P34,2),"Missing") -> 0 | AC34: =IF(ISNUMBER(E34),ROUND(E34-Q34,2),"Missing") -> 0 | AD34: =IF(ISNUMBER(F34),ROUND(F34-R34,2),"Missing") -> 0 | AE34: =IF(ISNUMBER(G34),ROUND(G34-S34,2),"Missing") -> -880 | AF34: =IF(ISNUMBER(H34),ROUND(H34-T34,2),"Missing") -> 0 | AG34: =IF(ISNUMBER(I34),ROUND(I34-U34,2),"Missing") -> 0 | AH34: =IF(ISNUMBER(J34),ROUND(J34-V34,2),"Missing") -> 0 | AI34: =IF(ISNUMBER(K34),ROUND(K34-W34,2),"Missing") -> 880 | ... AM34: =IF(ISNUMBER(O34),ROUND(O34-AA34,2),"Missing") -> 0 | AN34: =IF(COUNTIF(AB34:AM34,"Missing")>0,"Missing in brioHR",IF(COUNTIF(AB34:AM34,"<>0")>0,"Check","OK")) -> Check

Sheet Discrepancy list
A1: Step 7: discrepancy list for the IM (expected answer)
A3: Employee ID | B3: Name | C3: Field | D3: brioHR value | E3: Old system value | F3: Difference | G3: Pattern / likely cause
A4: 029 | B4: HAZIQ BIN NORDIN | C4: All fields | D4: Missing | E4: =Comparison!W33 -> 6816.95 | F4: Missing | G4: Missing from brioHR. Resigned 28 Feb 2026, so their Jan-Feb history was not migrated. Ask the IM to add it: it is needed for the year-end EA form and Form E.
A5: 001 | B5: NUR AISYAH BINTI KAMAL | C5: Ee EPF | D5: =Comparison!G5 -> 4590 | E5: =Comparison!S5 -> 5338 | F5: =Comparison!AE5 -> -748 | G5: Pattern: only the 7 employees paid a bonus in March are affected, and the EPF gap equals the EPF on the bonus. The EPF on the March bonus was left out of the migrated EPF figures. Net pay is higher by the same amount as Ee EPF.
A6: 001 | B6: NUR AISYAH BINTI KAMAL | C6: Er EPF | D6: =Comparison!L5 -> 5004 | E6: =Comparison!X5 -> 5820 | F6: =Comparison!AJ5 -> -816 | G6: Pattern: only the 7 employees paid a bonus in March are affected, and the EPF gap equals the EPF on the bonus. The EPF on the March bonus was left out of the migrated EPF figures. Net pay is higher by the same amount as Ee EPF.
A7: 001 | B7: NUR AISYAH BINTI KAMAL | C7: Net pay | D7: =Comparison!K5 -> 41078.1 | E7: =Comparison!W5 -> 40330.1 | F7: =Comparison!AI5 -> 748 | G7: Pattern: only the 7 employees paid a bonus in March are affected, and the EPF gap equals the EPF on the bonus. The EPF on the March bonus was left out of the migrated EPF figures. Net pay is higher by the same amount as Ee EPF.
A8: 005 | B8: TAN MEI LING | C8: Ee EPF | D8: =Comparison!G9 -> 3798 | E8: =Comparison!S9 -> 4414 | F8: =Comparison!AE9 -> -616 | G8: Pattern: only the 7 employees paid a bonus in March are affected, and the EPF gap equals the EPF on the bonus. The EPF on the March bonus was left out of the migrated EPF figures. Net pay is higher by the same amount as Ee EPF.
