Workbook

Sheet Read me
B1: Answer key: checking payroll data for a large headcount (Singapore practice)
B2: Bayu Tech Pte Ltd is a fictional company. All names, IDs and amounts are made up. CPF uses the 2026 rate bands for wages above $750; SHG and SDL amounts are simplified. Use the CPF Contribution Calculator for real figures.
B4: The practice files
B5: 1. Practice_SG_Previous_System_YTD_Payroll_Detail_Jan-Jun_2026.xlsx: the old payroll system's year-to-date report, Jan to Jun 2026, 30 employees, sorted by department.
B6: 2. Practice_SG_brioHR_Payroll_Report_Jan-Jun_2026.xlsx: the brioHR Payroll Report (Analytics > Report Builder) for the same period, after migration. It includes the Age and Tax Resident Category fields.
B8: Tabs in this answer key
B9: Old system (cleaned): the old report after clean-up: two-line columns split (CPF OW and CPF AW, E'SHG and FUND), group headings, subtotals and blank rows removed, one row per employee.
B10: brioHR export: the brioHR report as exported, without the Total row.
B11: Column mapping: which old system column matches which brioHR column.
B12: Totals check: Step 3 of the article. Compares headcount and column totals.
B13: Comparison: Step 4. Looks up each employee from the old system list in the brioHR export by Employee ID, and works out the differences. Age and residency come from brioHR, to help spot patterns (Step 5).
B14: Discrepancy list: Step 7. The list a client should send to their IM, with the pattern behind each difference.
... B17: Start the lookup from the old system list. An employee missing from brioHR then shows as Missing. If you start from the brioHR export, a missing employee simply isn't there, and only the headcount tells you.

Sheet Old system (cleaned)
A1: EMP NO. | B1: EMPLOYEE NAME | C1: DEPARTMENT | D1: BASIC | E1: NPL | F1: ADDPAY | G1: OT | H1: SHIFT | I1: BONUS | J1: OTHERS | K1: GROSS PAY | L1: CPF OW | M1: CPF AW | N1: E'CPF | O1: E'SHG | P1: FUND | Q1: OTHERS (DED) | R1: NETTPAY | S1: R'CPF | T1: R'SDL | U1: R'FWL
A2: 001 | B2: RACHEL TAN HUI MIN | C2: Accounts | D2: 37200 | E2: 0 | F2: 0 | G2: 0 | H2: 0 | I2: 6200 | J2: 0 | K2: 43400 | L2: 37200 | M2: 6200 | N2: 8680 | O2: 13 | P2: CDAC | Q2: 0 | R2: 34707 | S2: 7378 | T2: 67.5 | U2: 0
A3: 002 | B3: MUHAMMAD IRFAN BIN RAHMAT | C3: Accounts | D3: 25800 | E3: 0 | F3: 0 | G3: 0 | H3: 0 | I3: 0 | J3: 0 | K3: 25800 | L3: 25800 | M3: 0 | N3: 5160 | O3: 117 | P3: MBMF | Q3: 0 | R3: 20523 | S3: 4386 | T3: 64.5 | U3: 0
A4: 003 | B4: DEEPA D/O RAMASAMY | C4: Accounts | D4: 23400 | E4: 0 | F4: 0 | G4: 0 | H4: 0 | I4: 0 | J4: 0 | K4: 23400 | L4: 23400 | M4: 0 | N4: 4680 | O4: 42 | P4: SINDA | Q4: 900 | R4: 17778 | S4: 3978 | T4: 58.5 | U4: 0
A5: 004 | B5: GERALD LIM KOK WAH | C5: Accounts | D5: 44400 | E5: 0 | F5: 0 | G5: 0 | H5: 0 | I5: 0 | J5: 0 | K5: 44400 | L5: 44400 | M5: 0 | N5: 7992 | O5: 12 | P5: CDAC | Q5: 0 | R5: 36396 | S5: 7104 | T5: 67.5 | U5: 0
A6: 005 | B6: NUR SYAFIQAH BINTE ALI | C6: Accounts | D6: 21600 | E6: 327.27 | F6: 0 | G6: 0 | H6: 0 | I6: 0 | J6: 0 | K6: 21272.73 | L6: 21272.73 | M6: 0 | N6: 4254 | O6: 90 | P6: MBMF | Q6: 0 | R6: 16928.73 | S6: 3617 | T6: 53.18 | U6: 0
A7: 006 | B7: BENJAMIN KOH JUN WEI | C7: Accounts | D7: 31200 | E7: 0 | F7: 0 | G7: 0 | H7: 0 | I7: 5200 | J7: 0 | K7: 36400 | L7: 31200 | M7: 5200 | N7: 7280 | O7: 13 | P7: CDAC | Q7: 0 | R7: 29107 | S7: 6188 | T7: 67.5 | U7: 0
A8: 007 | B8: JOSEPHINE DE SOUZA | C8: Accounts | D8: 28800 | E8: 0 | F8: 0 | G8: 0 | H8: 0 | I8: 0 | J8: 0 | K8: 28800 | L8: 28800 | M8: 0 | N8: 5184 | O8: 72 | P8: ECF | Q8: 0 | R8: 23544 | S8: 4608 | T8: 67.5 | U8: 0
A9: 008 | B9: HIROSHI TANAKA | C9: Accounts | D9: 57000 | E9: 0 | F9: 0 | G9: 0 | H9: 0 | I9: 5000 | J9: 0 | K9: 62000 | L9: 0 | M9: 0 | N9: 0 | O9: 0 | P9: - | Q9: 0 | R9: 62000 | S9: 0 | T9: 67.5 | U9: 0
A10: 009 | B10: SITI AMINAH BINTE OSMAN | C10: Operations | D10: 14400 | E10: 0 | F10: 0 | G10: 566.44 | H10: 0 | I10: 0 | J10: 0 | K10: 14966.44 | L10: 14966.44 | M10: 0 | N10: 2991 | O10: 39 | P10: MBMF | Q10: 0 | R10: 11936.44 | S10: 2547 | T10: 37.42 | U10: 0
A11: 010 | B11: ONG BOON KEAT | C11: Operations | D11: 15600 | E11: 0 | F11: 0 | G11: 306.82 | H11: 0 | I11: 0 | J11: 0 | K11: 15906.82 | L11: 15906.82 | M11: 0 | N11: 2862 | O11: 6 | P11: CDAC | Q11: 0 | R11: 13038.82 | S11: 2547 | T11: 39.76 | U11: 0
A12: 011 | B12: RAJ S/O GANESAN | C12: Operations | D12: 17400 | E12: 0 | F12: 0 | G12: 205.33 | H12: 0 | I12: 0 | J12: 0 | K12: 17605.33 | L12: 17605.33 | M12: 0 | N12: 3520 | O12: 42 | P12: SINDA | Q12: 0 | R12: 14043.33 | S12: 2994 | T12: 44.01 | U12: 0
A13: 012 | B13: CHLOE NG PEI SHAN | C13: Operations | D13: 27900 | E13: 0 | F13: 0 | G13: 0 | H13: 0 | I13: 0 | J13: 0 | K13: 27900 | L13: 27900 | M13: 0 | N13: 5580 | O13: 9 | P13: CDAC | Q13: 0 | R13: 22311 | S13: 4746 | T13: 67.5 | U13: 0
... A31: 030 | B31: ISABEL CHONG MEI XIN | C31: Sales | D31: 49200 | E31: 0 | F31: 0 | G31: 0 | H31: 0 | I31: 5000 | J31: 8200 | K31: 62400 | L31: 48000 | M31: 5000 | N31: 10600 | O31: 18 | P31: CDAC | Q31: 0 | R31: 51782 | S31: 9010 | T31: 67.5 | U31: 0

Sheet brioHR export
A1: Internal Id | B1: First Name | C1: Last Name | D1: Email | E1: Payroll Center | F1: Basic Salary | G1: Gross Deductions | H1: Gross Additions | I1: Bonus | J1: Commission | K1: Mobile Allowance | L1: Overtime (Normal Day) | M1: Unpaid Leaves | N1: Overtime (Normal Day) Hours | O1: Total Remuneration | P1: Total Allowances | Q1: Total Additional Remuneration | R1: Total Overtime | S1: Gross Earnings | T1: Employee CPF | U1: Employee OW | V1: Employee AW | W1: Employee CDAC | X1: Employee ECF | Y1: Employee MBMF | Z1: Employee SINDA | AA1: Total Employee Deductions | AB1: Net Deductions | AC1: Net Additions | AD1: Net Pay | AE1: Employer CPF | AF1: Employer SDL | AG1: Employer FWL | AH1: Total Employer Deductions | AI1: Tax Resident Category | AJ1: PR Effective Date | AK1: Birth Date | AL1: Age | AM1: Department | AN1: Joined Date | AO1: Employment End Date | AP1: Active/Inactive
A2: 001 | B2: Rachel | C2: Tan Hui Min | D2: rachel.min@bayutech.example | E2: Bayu Tech Pte Ltd | F2: 37200 | H2: 6200 | I2: 6200 | O2: 37200 | Q2: 6200 | S2: 43400 | T2: 8680 | U2: 37200 | V2: 6200 | W2: 13 | AA2: 8693 | AD2: 34707 | AE2: 7378 | AF2: 67.5 | AH2: 7445.5 | AI2: Singapore Citizen | AK2: 1988-04-12 | AL2: 38 | AM2: Accounts | AN2: 2024-03-01 | AP2: Active
A3: 002 | B3: Muhammad Irfan | C3: Bin Rahmat | D3: muhammad.rahmat@bayutech.example | E3: Bayu Tech Pte Ltd | F3: 25800 | O3: 25800 | S3: 25800 | T3: 5160 | U3: 25800 | Y3: 117 | AA3: 5277 | AD3: 20523 | AE3: 4386 | AF3: 64.5 | AH3: 4450.5 | AI3: Singapore Citizen | AK3: 1993-09-03 | AL3: 32 | AM3: Accounts | AN3: 2024-03-01 | AP3: Active
A4: 003 | B4: Deepa | C4: D/O Ramasamy | D4: deepa.ramasamy@bayutech.example | E4: Bayu Tech Pte Ltd | F4: 23400 | O4: 23400 | S4: 23400 | T4: 4680 | U4: 23400 | Z4: 42 | AA4: 4722 | AB4: 900 | AD4: 17778 | AE4: 3978 | AF4: 58.5 | AH4: 4036.5 | AI4: Singapore Citizen | AK4: 1990-01-22 | AL4: 36 | AM4: Accounts | AN4: 2022-08-15 | AP4: Active
A5: 004 | B5: Gerald | C5: Lim Kok Wah | D5: gerald.wah@bayutech.example | E5: Bayu Tech Pte Ltd | F5: 44400 | O5: 44400 | S5: 44400 | T5: 7548 | U5: 44400 | W5: 12 | AA5: 7560 | AD5: 36840 | AE5: 6882 | AF5: 67.5 | AH5: 6949.5 | AI5: Singapore Citizen | AK5: 1968-06-30 | AL5: 58 | AM5: Accounts | AN5: 2024-03-01 | AP5: Active
A6: 005 | B6: Nur Syafiqah | C6: Binte Ali | D6: nur.ali@bayutech.example | E6: Bayu Tech Pte Ltd | F6: 21600 | G6: 327.27 | M6: 327.27 | O6: 21600 | S6: 21272.73 | T6: 4254 | U6: 21272.73 | Y6: 90 | AA6: 4344 | AD6: 16928.73 | AE6: 3617 | AF6: 53.18 | AH6: 3670.18 | AI6: Singapore Citizen | AK6: 1996-11-08 | AL6: 29 | AM6: Accounts | AN6: 2024-03-01 | AP6: Active
A7: 006 | B7: Benjamin | C7: Koh Jun Wei | D7: benjamin.wei@bayutech.example | E7: Bayu Tech Pte Ltd | F7: 31200 | H7: 5200 | I7: 5200 | O7: 31200 | Q7: 5200 | S7: 36400 | T7: 7280 | U7: 31200 | V7: 5200 | W7: 13 | AA7: 7293 | AD7: 29107 | AE7: 6188 | AF7: 67.5 | AH7: 6255.5 | AI7: Singapore Permanent Resident | AJ7: 2019-07-01 | AK7: 1985-02-17 | AL7: 41 | AM7: Accounts | AN7: 2022-08-15 | AP7: Active
A8: 007 | B8: Josephine | C8: De Souza | D8: josephine.souza@bayutech.example | E8: Bayu Tech Pte Ltd | F8: 28800 | O8: 28800 | S8: 28800 | T8: 4896 | U8: 28800 | X8: 72 | AA8: 4968 | AD8: 23832 | AE8: 4464 | AF8: 67.5 | AH8: 4531.5 | AI8: Singapore Citizen | AK8: 1965-10-05 | AL8: 60 | AM8: Accounts | AN8: 2024-03-01 | AP8: Active
A9: 008 | B9: Hiroshi | C9: Tanaka | D9: hiroshi.tanaka@bayutech.example | E9: Bayu Tech Pte Ltd | F9: 57000 | H9: 5000 | I9: 5000 | O9: 57000 | Q9: 5000 | S9: 62000 | AD9: 62000 | AF9: 67.5 | AH9: 67.5 | AI9: Foreigner | AK9: 1982-07-19 | AL9: 43 | AM9: Accounts | AN9: 2024-03-01 | AP9: Active
A10: 009 | B10: Siti Aminah | C10: Binte Osman | D10: siti.osman@bayutech.example | E10: Bayu Tech Pte Ltd | F10: 14400 | H10: 566.44 | L10: 566.44 | N10: 30 | O10: 14966.44 | R10: 566.44 | S10: 14966.44 | T10: 2991 | U10: 14966.44 | Y10: 39 | AA10: 3030 | AD10: 11936.44 | AE10: 2547 | AF10: 37.42 | AH10: 2584.42 | AI10: Singapore Citizen | AK10: 1999-03-14 | AL10: 27 | AM10: Operations | AN10: 2022-08-15 | AP10: Active
A11: 010 | B11: Ong | C11: Boon Keat | D11: ong.keat@bayutech.example | E11: Bayu Tech Pte Ltd | F11: 15600 | H11: 306.82 | L11: 306.82 | N11: 15 | O11: 15906.82 | R11: 306.82 | S11: 15906.82 | T11: 2701 | U11: 15906.82 | W11: 6 | AA11: 2707 | AD11: 13199.82 | AE11: 2469 | AF11: 39.76 | AH11: 2508.76 | AI11: Singapore Citizen | AK11: 1969-12-01 | AL11: 56 | AM11: Operations | AN11: 2024-03-01 | AP11: Active
A12: 011 | B12: Raj | C12: S/O Ganesan | D12: raj.ganesan@bayutech.example | E12: Bayu Tech Pte Ltd | F12: 17400 | H12: 205.33 | L12: 205.33 | N12: 9 | O12: 17605.33 | R12: 205.33 | S12: 17605.33 | T12: 3520 | U12: 17605.33 | Z12: 42 | AA12: 3562 | AD12: 14043.33 | AE12: 2994 | AF12: 44.01 | AH12: 3038.01 | AI12: Singapore Citizen | AK12: 1994-05-27 | AL12: 32 | AM12: Operations | AN12: 2024-03-01 | AP12: Active
A13: 012 | B13: Chloe | C13: Ng Pei Shan | D13: chloe.shan@bayutech.example | E13: Bayu Tech Pte Ltd | F13: 27810 | O13: 27810 | S13: 27810 | T13: 5580 | U13: 27900 | W13: 9 | AA13: 5589 | AD13: 22221 | AE13: 4746 | AF13: 67.5 | AH13: 4813.5 | AI13: Singapore Citizen | AK13: 1991-08-09 | AL13: 34 | AM13: Operations | AN13: 2022-08-15 | AP13: Active
A14: 013 | B14: Faizal | C14: Bin Hamid | D14: faizal.hamid@bayutech.example | E14: Bayu Tech Pte Ltd | F14: 15000 | G14: 113.64 | H14: 452.36 | L14: 452.36 | M14: 113.64 | N14: 23 | O14: 15452.36 | R14: 452.36 | S14: 15338.72 | T14: 1761 | U14: 15338.72 | Y14: 39 | AA14: 1800 | AD14: 13538.72 | AE14: 1845 | AF14: 38.36 | AH14: 1883.36 | AI14: Singapore Citizen | AK14: 1964-04-25 | AL14: 62 | AM14: Operations | AN14: 2024-03-01 | AP14: Active
A15: 014 | B15: Lee | C15: Wen Xuan | D15: lee.xuan@bayutech.example | E15: Bayu Tech Pte Ltd | F15: 19800 | O15: 19800 | S15: 19800 | T15: 3960 | U15: 19800 | W15: 6 | AA15: 3966 | AD15: 15834 | AE15: 3366 | AF15: 49.5 | AH15: 3415.5 | AI15: Singapore Citizen | AK15: 1997-01-30 | AL15: 29 | AM15: Operations | AN15: 2024-03-01 | AP15: Active
A16: 015 | B16: Kumar | C16: S/O Pillai | D16: kumar.pillai@bayutech.example | E16: Bayu Tech Pte Ltd | F16: 11500 | O16: 11500 | S16: 11500 | T16: 1955 | U16: 11500 | Z16: 25 | AA16: 1980 | AD16: 9520 | AE16: 1785 | AF16: 28.75 | AH16: 1813.75 | AI16: Singapore Citizen | AK16: 1967-09-16 | AL16: 58 | AM16: Operations | AN16: 2022-08-15 | AO16: 2026-05-31 | AP16: Inactive
A17: 016 | B17: Andrew | C17: Chua Ming Hao | D17: andrew.hao@bayutech.example | E17: Bayu Tech Pte Ltd | F17: 52800 | H17: 5000 | I17: 5000 | O17: 52800 | Q17: 5000 | S17: 57800 | T17: 10600 | U17: 48000 | V17: 5000 | W17: 18 | AA17: 10618 | AD17: 47182 | AE17: 9010 | AF17: 67.5 | AH17: 9077.5 | AI17: Singapore Citizen | AK17: 1979-03-03 | AL17: 47 | AM17: Operations | AN17: 2024-03-01 | AP17: Active
A18: 017 | B18: Aisyah | C18: Binte Kamal | D18: aisyah.kamal@bayutech.example | E18: Bayu Tech Pte Ltd | F18: 14700 | G18: 111.36 | H18: 327.67 | L18: 327.67 | M18: 111.36 | N18: 17 | O18: 15027.67 | R18: 327.67 | S18: 14916.31 | T18: 2982 | U18: 14916.31 | Y18: 39 | AA18: 3021 | AD18: 11895.31 | AE18: 2538 | AF18: 37.3 | AH18: 2575.3 | AI18: Singapore Citizen | AK18: 2000-06-21 | AL18: 26 | AM18: Operations | AN18: 2024-03-01 | AP18: Active
A19: 018 | B19: Goh | C19: Siew Hoon | D19: goh.hoon@bayutech.example | E19: Bayu Tech Pte Ltd | F19: 16500 | H19: 692.31 | L19: 692.31 | N19: 32 | O19: 17192.31 | R19: 692.31 | S19: 17192.31 | T19: 2919 | U19: 17192.31 | W19: 6 | AA19: 2925 | AD19: 14267.31 | AE19: 2669 | AF19: 42.99 | AH19: 2711.99 | AI19: Singapore Citizen | AK19: 1966-11-11 | AL19: 59 | AM19: Operations | AN19: 2022-08-15 | AP19: Active
A20: 019 | B20: Priya | C20: D/O Suresh | D20: priya.suresh@bayutech.example | E20: Bayu Tech Pte Ltd | F20: 22200 | O20: 22200 | S20: 22200 | T20: 4440 | U20: 22200 | Z20: 42 | AA20: 4482 | AD20: 17718 | AE20: 3774 | AF20: 55.5 | AH20: 3829.5 | AI20: Singapore Permanent Resident | AJ20: 2021-03-15 | AK20: 1992-02-02 | AL20: 34 | AM20: Operations | AN20: 2024-03-01 | AP20: Active
A21: 020 | B21: Marcus | C21: Yeo Jia Le | D21: marcus.le@bayutech.example | E21: Bayu Tech Pte Ltd | F21: 32400 | H21: 5400 | I21: 5400 | O21: 32400 | Q21: 5400 | S21: 37800 | T21: 7560 | U21: 32400 | V21: 5400 | W21: 13 | AA21: 7573 | AD21: 30227 | AE21: 6426 | AF21: 67.5 | AH21: 6493.5 | AI21: Singapore Citizen | AK21: 1986-10-28 | AL21: 39 | AM21: Operations | AN21: 2024-03-01 | AP21: Active
A22: 021 | B22: Joanne | C22: Teo Li Ting | D22: joanne.ting@bayutech.example | E22: Bayu Tech Pte Ltd | F22: 24600 | H22: 4300 | J22: 3700 | K22: 600 | O22: 24600 | P22: 600 | Q22: 3700 | S22: 28900 | T22: 5780 | U22: 28900 | W22: 9 | AA22: 5789 | AD22: 23111 | AE22: 4914 | AF22: 67.5 | AH22: 4981.5 | AI22: Singapore Citizen | AK22: 1989-12-19 | AL22: 36 | AM22: Sales | AN22: 2022-08-15 | AP22: Active
A23: 022 | B23: Hafiz | C23: Bin Salleh | D23: hafiz.salleh@bayutech.example | E23: Bayu Tech Pte Ltd | F23: 19800 | G23: 450 | H23: 2650 | J23: 2050 | K23: 600 | M23: 450 | O23: 19800 | P23: 600 | Q23: 2050 | S23: 22000 | T23: 4400 | U23: 22000 | Y23: 90 | AA23: 4490 | AD23: 17510 | AE23: 3742 | AF23: 55.02 | AH23: 3797.02 | AI23: Singapore Citizen | AK23: 1995-07-07 | AL23: 30 | AM23: Sales | AN23: 2024-03-01 | AP23: Active
A24: 023 | B24: Vanessa | C24: Ho Shu Ting | D24: vanessa.ting@bayutech.example | E24: Bayu Tech Pte Ltd | F24: 23400 | H24: 3800 | J24: 3200 | K24: 600 | O24: 23400 | P24: 600 | Q24: 3200 | S24: 27200 | T24: 5440 | U24: 27200 | W24: 9 | AA24: 5449 | AB24: 1200 | AD24: 20551 | AE24: 4625 | AF24: 67.25 | AH24: 4692.25 | AI24: Singapore Citizen | AK24: 1993-04-04 | AL24: 33 | AM24: Sales | AN24: 2024-03-01 | AP24: Active
A25: 024 | B25: Arvind | C25: S/O Menon | D25: arvind.menon@bayutech.example | E25: Bayu Tech Pte Ltd | F25: 58800 | H25: 14800 | I25: 5000 | J25: 9200 | K25: 600 | O25: 58800 | P25: 600 | Q25: 14200 | S25: 73600 | T25: 10600 | U25: 48000 | V25: 5000 | Z25: 120 | AA25: 10720 | AD25: 62880 | AE25: 9010 | AF25: 67.5 | AH25: 9077.5 | AI25: Singapore Permanent Resident | AJ25: 2018-11-01 | AK25: 1980-08-15 | AL25: 45 | AM25: Sales | AN25: 2022-08-15 | AP25: Active
A26: 025 | B26: Lim | C26: Ai Ling | D26: lim.ling@bayutech.example | E26: Bayu Tech Pte Ltd | F26: 18600 | H26: 2250 | J26: 1650 | K26: 600 | O26: 18600 | P26: 600 | Q26: 1650 | S26: 20850 | T26: 2395 | U26: 20850 | W26: 6.5 | AA26: 2401.5 | AD26: 18448.5 | AE26: 2506 | AF26: 52.14 | AH26: 2558.14 | AI26: Singapore Citizen | AK26: 1963-05-09 | AL26: 63 | AM26: Sales | AN26: 2024-03-01 | AP26: Active
A27: 026 | B27: Sean | C27: Wong Zhi Hao | D27: sean.hao@bayutech.example | E27: Bayu Tech Pte Ltd | F27: 37800 | H27: 12400 | I27: 6000 | J27: 5800 | K27: 600 | O27: 37800 | P27: 600 | Q27: 11800 | S27: 50200 | T27: 10040 | U27: 44200 | V27: 6000 | W27: 13 | AA27: 10053 | AD27: 40147 | AE27: 8535 | AF27: 67.5 | AH27: 8602.5 | AI27: Singapore Citizen | AK27: 1987-01-25 | AL27: 39 | AM27: Sales | AN27: 2024-03-01 | AP27: Active
A28: 027 | B28: Nadia | C28: Binte Yusof | D28: nadia.yusof@bayutech.example | E28: Bayu Tech Pte Ltd | F28: 17700 | H28: 2100 | J28: 1500 | K28: 600 | O28: 17700 | P28: 600 | Q28: 1500 | S28: 19800 | T28: 3960 | U28: 19800 | Y28: 90 | AA28: 4050 | AD28: 15750 | AE28: 3368 | AF28: 49.52 | AH28: 3417.52 | AI28: Singapore Citizen | AK28: 1998-09-30 | AL28: 27 | AM28: Sales | AN28: 2022-08-15 | AP28: Active
A29: 028 | B29: Daniel | C29: Fernandez | D29: daniel.fernandez@bayutech.example | E29: Bayu Tech Pte Ltd | F29: 13800 | H29: 1550 | J29: 1250 | K29: 300 | O29: 13800 | P29: 300 | Q29: 1250 | S29: 15350 | T29: 3070 | U29: 15350 | X29: 36 | AA29: 3106 | AD29: 12244 | AE29: 2610 | AF29: 33.75 | AH29: 2643.75 | AI29: Singapore Citizen | AK29: 1991-03-18 | AL29: 35 | AM29: Sales | AN29: 2026-04-01 | AP29: Active
A30: 030 | B30: Isabel | C30: Chong Mei Xin | D30: isabel.xin@bayutech.example | E30: Bayu Tech Pte Ltd | F30: 49200 | H30: 13200 | I30: 5000 | J30: 7600 | K30: 600 | O30: 49200 | P30: 600 | Q30: 12600 | S30: 62400 | T30: 10600 | U30: 48000 | V30: 5000 | W30: 18 | AA30: 10618 | AD30: 51782 | AE30: 9010 | AF30: 67.5 | AH30: 9077.5 | AI30: Singapore Citizen | AK30: 1984-06-06 | AL30: 42 | AM30: Sales | AN30: 2022-08-15 | AP30: Active

Sheet Column mapping
A1: What it is | B1: Old system column(s) | C1: brioHR column(s) | D1: Note
A2: Basic salary | B2: BASIC | C2: Basic Salary
A3: Unpaid leave | B3: NPL | C3: Unpaid Leaves
A4: Overtime | B4: OT | C4: Total Overtime
A5: Bonus | B5: BONUS | C5: Bonus
A6: Allowances and commission | B6: OTHERS | C6: Total Allowances + Commission | D6: Old OTHERS = mobile allowance + commission.
A7: Gross pay | B7: GROSS PAY | C7: Gross Earnings
A8: CPF Ordinary Wages | B8: CPF OW | C8: Employee OW | D8: OW subject to CPF, capped at $8,000 a month.
A9: CPF Additional Wages | B9: CPF AW | C9: Employee AW | D9: Second row under CPF OW in the old report.
A10: Employee CPF | B10: E'CPF | C10: Employee CPF
A11: SHG contributions | B11: E'SHG | C11: Employee CDAC + Employee ECF + Employee MBMF + Employee SINDA | D11: brioHR splits SHG by fund. Add the four columns, or compare fund by fund.
A12: Other deductions | B12: OTHERS (DED) | C12: Net Deductions | D12: Loan repayments in this example.
A13: Net pay | B13: NETTPAY | C13: Net Pay
A14: Employer CPF | B14: R'CPF | C14: Employer CPF
A15: SDL | B15: R'SDL | C15: Employer SDL
A16: FWL | B16: R'FWL | C16: Employer FWL | D16: No FWL in this example.

Sheet Totals check
A1: Step 3: compare the totals first
A3: Item | B3: Old system | C3: brioHR | D3: Difference | E3: Match?
A4: Headcount | B4: =COUNTA('Old system (cleaned)'!A2:A31) -> 30 | C4: =COUNTA('brioHR export'!A2:A30) -> 29 | D4: =C4-B4 -> -1 | E4: =IF(D4=0,"Yes","No") -> No
A5: Basic salary | B5: =SUM('Old system (cleaned)'!D2:D31) -> 800300 | C5: =SUM('brioHR export'!F2:F30) -> 793210 | D5: =ROUND(C5-B5,2) -> -7090 | E5: =IF(D5=0,"Yes","No") -> No
A6: Unpaid leave | B6: =SUM('Old system (cleaned)'!E2:E31) -> 1002.27 | C6: =SUM('brioHR export'!M2:M30) -> 1002.27 | D6: =ROUND(C6-B6,2) -> 0 | E6: =IF(D6=0,"Yes","No") -> Yes
A7: Overtime | B7: =SUM('Old system (cleaned)'!G2:G31) -> 2550.93 | C7: =SUM('brioHR export'!R2:R30) -> 2550.93 | D7: =ROUND(C7-B7,2) -> 0 | E7: =IF(D7=0,"Yes","No") -> Yes
A8: Bonus | B8: =SUM('Old system (cleaned)'!I2:I31) -> 42800 | C8: =SUM('brioHR export'!I2:I30) -> 42800 | D8: =ROUND(C8-B8,2) -> 0 | E8: =IF(D8=0,"Yes","No") -> Yes
A9: Allowances and commission | B9: =SUM('Old system (cleaned)'!J2:J31) -> 41900 | C9: =SUM('brioHR export'!P2:P30)+SUM('brioHR export'!J2:J30) -> 41050 | D9: =ROUND(C9-B9,2) -> -850 | E9: =IF(D9=0,"Yes","No") -> No
A10: Gross pay | B10: =SUM('Old system (cleaned)'!K2:K31) -> 886548.66 | C10: =SUM('brioHR export'!S2:S30) -> 878608.66 | D10: =ROUND(C10-B10,2) -> -7940 | E10: =IF(D10=0,"Yes","No") -> No
A11: CPF Ordinary Wages | B11: =SUM('Old system (cleaned)'!L2:L31) -> 751948.66 | C11: =SUM('brioHR export'!U2:U30) -> 744098.66 | D11: =ROUND(C11-B11,2) -> -7850 | E11: =IF(D11=0,"Yes","No") -> No
A12: CPF Additional Wages | B12: =SUM('Old system (cleaned)'!M2:M31) -> 37800 | C12: =SUM('brioHR export'!V2:V30) -> 37800 | D12: =ROUND(C12-B12,2) -> 0 | E12: =IF(D12=0,"Yes","No") -> Yes
A13: Employee CPF | B13: =SUM('Old system (cleaned)'!N2:N31) -> 152865 | C13: =SUM('brioHR export'!T2:T30) -> 149752 | D13: =ROUND(C13-B13,2) -> -3113 | E13: =IF(D13=0,"Yes","No") -> No
A14: SHG contributions | B14: =SUM('Old system (cleaned)'!O2:O31) -> 1037.5 | C14: =SUM('brioHR export'!W2:W30)+SUM('brioHR export'!X2:X30)+SUM('brioHR export'!Y2:Y30)+SUM('brioHR export'!Z2:Z30) -> 1034.5 | D14: =ROUND(C14-B14,2) -> -3 | E14: =IF(D14=0,"Yes","No") -> No
A15: Other deductions | B15: =SUM('Old system (cleaned)'!Q2:Q31) -> 2100 | C15: =SUM('brioHR export'!AB2:AB30) -> 2100 | D15: =ROUND(C15-B15,2) -> 0 | E15: =IF(D15=0,"Yes","No") -> Yes
A16: Net pay | B16: =SUM('Old system (cleaned)'!R2:R31) -> 730546.16 | C16: =SUM('brioHR export'!AD2:AD30) -> 725722.16 | D16: =ROUND(C16-B16,2) -> -4824 | E16: =IF(D16=0,"Yes","No") -> No
A17: Employer CPF | B17: =SUM('Old system (cleaned)'!S2:S31) -> 131481 | C17: =SUM('brioHR export'!AE2:AE30) -> 129382 | D17: =ROUND(C17-B17,2) -> -2099 | E17: =IF(D17=0,"Yes","No") -> No
A18: SDL | B18: =SUM('Old system (cleaned)'!T2:T31) -> 1637.08 | C18: =SUM('brioHR export'!AF2:AF30) -> 1617.45 | D18: =ROUND(C18-B18,2) -> -19.63 | E18: =IF(D18=0,"Yes","No") -> No
A19: FWL | B19: =SUM('Old system (cleaned)'!U2:U31) -> 0 | C19: =SUM('brioHR export'!AG2:AG30) -> 0 | D19: =ROUND(C19-B19,2) -> 0 | E19: =IF(D19=0,"Yes","No") -> Yes
A21: Headcount and several totals don't match, so go on to the Comparison tab to find which employees cause it.

Sheet Comparison
A1: Step 4: match employees by Employee ID and find the differences
A2: brioHR values are looked up from the brioHR export with INDEX and MATCH on the Employee ID. Filter the Status column to anything other than OK, then sort by Age (Step 5).
F3: brioHR | P3: Old system | Z3: Difference (brioHR minus old system)
A4: Employee ID | B4: Name | C4: Department | D4: Age (brioHR) | E4: Residency (brioHR) | F4: Basic | G4: Bonus | H4: Gross pay | I4: CPF OW | J4: CPF AW | K4: Ee CPF | L4: Ee SHG | M4: Net pay | N4: Er CPF | O4: SDL | P4: Basic | Q4: Bonus | R4: Gross pay | S4: CPF OW | T4: CPF AW | U4: Ee CPF | V4: Ee SHG | W4: Net pay | X4: Er CPF | Y4: SDL | Z4: Basic | AA4: Bonus | AB4: Gross pay | AC4: CPF OW | AD4: CPF AW | AE4: Ee CPF | AF4: Ee SHG | AG4: Net pay | AH4: Er CPF | AI4: SDL | AJ4: Status
A5: ='Old system (cleaned)'!A2 -> 001 | B5: ='Old system (cleaned)'!B2 -> RACHEL TAN HUI MIN | C5: ='Old system (cleaned)'!C2 -> Accounts | D5: =IFERROR(INDEX('brioHR export'!$AL$2:$AL$30,MATCH($A5,'brioHR export'!$A$2:$A$30,0)),"Missing") -> 38 | E5: =IFERROR(INDEX('brioHR export'!$AI$2:$AI$30,MATCH($A5,'brioHR export'!$A$2:$A$30,0)),"Missing") -> Singapore Citizen | F5: =IFERROR(N(INDEX('brioHR export'!$F$2:$F$30,MATCH($A5,'brioHR export'!$A$2:$A$30,0))),"Missing") -> 37200 | G5: =IFERROR(N(INDEX('brioHR export'!$I$2:$I$30,MATCH($A5,'brioHR export'!$A$2:$A$30,0))),"Missing") -> 6200 | H5: =IFERROR(N(INDEX('brioHR export'!$S$2:$S$30,MATCH($A5,'brioHR export'!$A$2:$A$30,0))),"Missing") -> 43400 | I5: =IFERROR(N(INDEX('brioHR export'!$U$2:$U$30,MATCH($A5,'brioHR export'!$A$2:$A$30,0))),"Missing") -> 37200 | J5: =IFERROR(N(INDEX('brioHR export'!$V$2:$V$30,MATCH($A5,'brioHR export'!$A$2:$A$30,0))),"Missing") -> 6200 | K5: =IFERROR(N(INDEX('brioHR export'!$T$2:$T$30,MATCH($A5,'brioHR export'!$A$2:$A$30,0))),"Missing") -> 8680 | L5: =IFERROR(N(INDEX('brioHR export'!$W$2:$W$30,MATCH($A5,'brioHR export'!$A$2:$A$30,0)))+N(INDEX('brioHR export'!$X$2:$X$30,MATCH($A5,'brioHR export'!$A$2:$A$30,0)))+N(INDEX('brioHR export'!$Y$2:$Y$30,MATCH($A5,'brioHR export'!$A$2:$A$30,0)))+N(INDEX('brioHR export'!$Z$2:$Z$30,MATCH($A5,'brioHR export'!$A$2:$A$30,0))),"Missing") -> 13 | M5: =IFERROR(N(INDEX('brioHR export'!$AD$2:$AD$30,MATCH($A5,'brioHR export'!$A$2:$A$30,0))),"Missing") -> 34707 | N5: =IFERROR(N(INDEX('brioHR export'!$AE$2:$AE$30,MATCH($A5,'brioHR export'!$A$2:$A$30,0))),"Missing") -> 7378 | O5: =IFERROR(N(INDEX('brioHR export'!$AF$2:$AF$30,MATCH($A5,'brioHR export'!$A$2:$A$30,0))),"Missing") -> 67.5 | P5: ='Old system (cleaned)'!D2 -> 37200 | Q5: ='Old system (cleaned)'!I2 -> 6200 | R5: ='Old system (cleaned)'!K2 -> 43400 | S5: ='Old system (cleaned)'!L2 -> 37200 | T5: ='Old system (cleaned)'!M2 -> 6200 | U5: ='Old system (cleaned)'!N2 -> 8680 | V5: ='Old system (cleaned)'!O2 -> 13 | W5: ='Old system (cleaned)'!R2 -> 34707 | X5: ='Old system (cleaned)'!S2 -> 7378 | Y5: ='Old system (cleaned)'!T2 -> 67.5 | Z5: =IF(ISNUMBER(F5),ROUND(F5-P5,2),"Missing") -> 0 | AA5: =IF(ISNUMBER(G5),ROUND(G5-Q5,2),"Missing") -> 0 | AB5: =IF(ISNUMBER(H5),ROUND(H5-R5,2),"Missing") -> 0 | AC5: =IF(ISNUMBER(I5),ROUND(I5-S5,2),"Missing") -> 0 | AD5: =IF(ISNUMBER(J5),ROUND(J5-T5,2),"Missing") -> 0 | AE5: =IF(ISNUMBER(K5),ROUND(K5-U5,2),"Missing") -> 0 | AF5: =IF(ISNUMBER(L5),ROUND(L5-V5,2),"Missing") -> 0 | AG5: =IF(ISNUMBER(M5),ROUND(M5-W5,2),"Missing") -> 0 | ... AI5: =IF(ISNUMBER(O5),ROUND(O5-Y5,2),"Missing") -> 0 | AJ5: =IF(COUNTIF(Z5:AI5,"Missing")>0,"Missing in brioHR",IF(COUNTIF(Z5:AI5,"<>0")>0,"Check","OK")) -> OK
A6: ='Old system (cleaned)'!A3 -> 002 | B6: ='Old system (cleaned)'!B3 -> MUHAMMAD IRFAN BIN RAHMAT | C6: ='Old system (cleaned)'!C3 -> Accounts | D6: =IFERROR(INDEX('brioHR export'!$AL$2:$AL$30,MATCH($A6,'brioHR export'!$A$2:$A$30,0)),"Missing") -> 32 | E6: =IFERROR(INDEX('brioHR export'!$AI$2:$AI$30,MATCH($A6,'brioHR export'!$A$2:$A$30,0)),"Missing") -> Singapore Citizen | F6: =IFERROR(N(INDEX('brioHR export'!$F$2:$F$30,MATCH($A6,'brioHR export'!$A$2:$A$30,0))),"Missing") -> 25800 | G6: =IFERROR(N(INDEX('brioHR export'!$I$2:$I$30,MATCH($A6,'brioHR export'!$A$2:$A$30,0))),"Missing") -> 0 | H6: =IFERROR(N(INDEX('brioHR export'!$S$2:$S$30,MATCH($A6,'brioHR export'!$A$2:$A$30,0))),"Missing") -> 25800 | I6: =IFERROR(N(INDEX('brioHR export'!$U$2:$U$30,MATCH($A6,'brioHR export'!$A$2:$A$30,0))),"Missing") -> 25800 | J6: =IFERROR(N(INDEX('brioHR export'!$V$2:$V$30,MATCH($A6,'brioHR export'!$A$2:$A$30,0))),"Missing") -> 0 | K6: =IFERROR(N(INDEX('brioHR export'!$T$2:$T$30,MATCH($A6,'brioHR export'!$A$2:$A$30,0))),"Missing") -> 5160 | L6: =IFERROR(N(INDEX('brioHR export'!$W$2:$W$30,MATCH($A6,'brioHR export'!$A$2:$A$30,0)))+N(INDEX('brioHR export'!$X$2:$X$30,MATCH($A6,'brioHR export'!$A$2:$A$30,0)))+N(INDEX('brioHR export'!$Y$2:$Y$30,MATCH($A6,'brioHR export'!$A$2:$A$30,0)))+N(INDEX('brioHR export'!$Z$2:$Z$30,MATCH($A6,'brioHR export'!$A$2:$A$30,0))),"Missing") -> 117 | M6: =IFERROR(N(INDEX('brioHR export'!$AD$2:$AD$30,MATCH($A6,'brioHR export'!$A$2:$A$30,0))),"Missing") -> 20523 | N6: =IFERROR(N(INDEX('brioHR export'!$AE$2:$AE$30,MATCH($A6,'brioHR export'!$A$2:$A$30,0))),"Missing") -> 4386 | O6: =IFERROR(N(INDEX('brioHR export'!$AF$2:$AF$30,MATCH($A6,'brioHR export'!$A$2:$A$30,0))),"Missing") -> 64.5 | P6: ='Old system (cleaned)'!D3 -> 25800 | Q6: ='Old system (cleaned)'!I3 -> 0 | R6: ='Old system (cleaned)'!K3 -> 25800 | S6: ='Old system (cleaned)'!L3 -> 25800 | T6: ='Old system (cleaned)'!M3 -> 0 | U6: ='Old system (cleaned)'!N3 -> 5160 | V6: ='Old system (cleaned)'!O3 -> 117 | W6: ='Old system (cleaned)'!R3 -> 20523 | X6: ='Old system (cleaned)'!S3 -> 4386 | Y6: ='Old system (cleaned)'!T3 -> 64.5 | Z6: =IF(ISNUMBER(F6),ROUND(F6-P6,2),"Missing") -> 0 | AA6: =IF(ISNUMBER(G6),ROUND(G6-Q6,2),"Missing") -> 0 | AB6: =IF(ISNUMBER(H6),ROUND(H6-R6,2),"Missing") -> 0 | AC6: =IF(ISNUMBER(I6),ROUND(I6-S6,2),"Missing") -> 0 | AD6: =IF(ISNUMBER(J6),ROUND(J6-T6,2),"Missing") -> 0 | AE6: =IF(ISNUMBER(K6),ROUND(K6-U6,2),"Missing") -> 0 | AF6: =IF(ISNUMBER(L6),ROUND(L6-V6,2),"Missing") -> 0 | AG6: =IF(ISNUMBER(M6),ROUND(M6-W6,2),"Missing") -> 0 | ... AI6: =IF(ISNUMBER(O6),ROUND(O6-Y6,2),"Missing") -> 0 | AJ6: =IF(COUNTIF(Z6:AI6,"Missing")>0,"Missing in brioHR",IF(COUNTIF(Z6:AI6,"<>0")>0,"Check","OK")) -> OK
A7: ='Old system (cleaned)'!A4 -> 003 | B7: ='Old system (cleaned)'!B4 -> DEEPA D/O RAMASAMY | C7: ='Old system (cleaned)'!C4 -> Accounts | D7: =IFERROR(INDEX('brioHR export'!$AL$2:$AL$30,MATCH($A7,'brioHR export'!$A$2:$A$30,0)),"Missing") -> 36 | E7: =IFERROR(INDEX('brioHR export'!$AI$2:$AI$30,MATCH($A7,'brioHR export'!$A$2:$A$30,0)),"Missing") -> Singapore Citizen | F7: =IFERROR(N(INDEX('brioHR export'!$F$2:$F$30,MATCH($A7,'brioHR export'!$A$2:$A$30,0))),"Missing") -> 23400 | G7: =IFERROR(N(INDEX('brioHR export'!$I$2:$I$30,MATCH($A7,'brioHR export'!$A$2:$A$30,0))),"Missing") -> 0 | H7: =IFERROR(N(INDEX('brioHR export'!$S$2:$S$30,MATCH($A7,'brioHR export'!$A$2:$A$30,0))),"Missing") -> 23400 | I7: =IFERROR(N(INDEX('brioHR export'!$U$2:$U$30,MATCH($A7,'brioHR export'!$A$2:$A$30,0))),"Missing") -> 23400 | J7: =IFERROR(N(INDEX('brioHR export'!$V$2:$V$30,MATCH($A7,'brioHR export'!$A$2:$A$30,0))),"Missing") -> 0 | K7: =IFERROR(N(INDEX('brioHR export'!$T$2:$T$30,MATCH($A7,'brioHR export'!$A$2:$A$30,0))),"Missing") -> 4680 | L7: =IFERROR(N(INDEX('brioHR export'!$W$2:$W$30,MATCH($A7,'brioHR export'!$A$2:$A$30,0)))+N(INDEX('brioHR export'!$X$2:$X$30,MATCH($A7,'brioHR export'!$A$2:$A$30,0)))+N(INDEX('brioHR export'!$Y$2:$Y$30,MATCH($A7,'brioHR export'!$A$2:$A$30,0)))+N(INDEX('brioHR export'!$Z$2:$Z$30,MATCH($A7,'brioHR export'!$A$2:$A$30,0))),"Missing") -> 42 | M7: =IFERROR(N(INDEX('brioHR export'!$AD$2:$AD$30,MATCH($A7,'brioHR export'!$A$2:$A$30,0))),"Missing") -> 17778 | N7: =IFERROR(N(INDEX('brioHR export'!$AE$2:$AE$30,MATCH($A7,'brioHR export'!$A$2:$A$30,0))),"Missing") -> 3978 | O7: =IFERROR(N(INDEX('brioHR export'!$AF$2:$AF$30,MATCH($A7,'brioHR export'!$A$2:$A$30,0))),"Missing") -> 58.5 | P7: ='Old system (cleaned)'!D4 -> 23400 | Q7: ='Old system (cleaned)'!I4 -> 0 | R7: ='Old system (cleaned)'!K4 -> 23400 | S7: ='Old system (cleaned)'!L4 -> 23400 | T7: ='Old system (cleaned)'!M4 -> 0 | U7: ='Old system (cleaned)'!N4 -> 4680 | V7: ='Old system (cleaned)'!O4 -> 42 | W7: ='Old system (cleaned)'!R4 -> 17778 | X7: ='Old system (cleaned)'!S4 -> 3978 | Y7: ='Old system (cleaned)'!T4 -> 58.5 | Z7: =IF(ISNUMBER(F7),ROUND(F7-P7,2),"Missing") -> 0 | AA7: =IF(ISNUMBER(G7),ROUND(G7-Q7,2),"Missing") -> 0 | AB7: =IF(ISNUMBER(H7),ROUND(H7-R7,2),"Missing") -> 0 | AC7: =IF(ISNUMBER(I7),ROUND(I7-S7,2),"Missing") -> 0 | AD7: =IF(ISNUMBER(J7),ROUND(J7-T7,2),"Missing") -> 0 | AE7: =IF(ISNUMBER(K7),ROUND(K7-U7,2),"Missing") -> 0 | AF7: =IF(ISNUMBER(L7),ROUND(L7-V7,2),"Missing") -> 0 | AG7: =IF(ISNUMBER(M7),ROUND(M7-W7,2),"Missing") -> 0 | ... AI7: =IF(ISNUMBER(O7),ROUND(O7-Y7,2),"Missing") -> 0 | AJ7: =IF(COUNTIF(Z7:AI7,"Missing")>0,"Missing in brioHR",IF(COUNTIF(Z7:AI7,"<>0")>0,"Check","OK")) -> OK
A8: ='Old system (cleaned)'!A5 -> 004 | B8: ='Old system (cleaned)'!B5 -> GERALD LIM KOK WAH | C8: ='Old system (cleaned)'!C5 -> Accounts | D8: =IFERROR(INDEX('brioHR export'!$AL$2:$AL$30,MATCH($A8,'brioHR export'!$A$2:$A$30,0)),"Missing") -> 58 | E8: =IFERROR(INDEX('brioHR export'!$AI$2:$AI$30,MATCH($A8,'brioHR export'!$A$2:$A$30,0)),"Missing") -> Singapore Citizen | F8: =IFERROR(N(INDEX('brioHR export'!$F$2:$F$30,MATCH($A8,'brioHR export'!$A$2:$A$30,0))),"Missing") -> 44400 | G8: =IFERROR(N(INDEX('brioHR export'!$I$2:$I$30,MATCH($A8,'brioHR export'!$A$2:$A$30,0))),"Missing") -> 0 | H8: =IFERROR(N(INDEX('brioHR export'!$S$2:$S$30,MATCH($A8,'brioHR export'!$A$2:$A$30,0))),"Missing") -> 44400 | I8: =IFERROR(N(INDEX('brioHR export'!$U$2:$U$30,MATCH($A8,'brioHR export'!$A$2:$A$30,0))),"Missing") -> 44400 | J8: =IFERROR(N(INDEX('brioHR export'!$V$2:$V$30,MATCH($A8,'brioHR export'!$A$2:$A$30,0))),"Missing") -> 0 | K8: =IFERROR(N(INDEX('brioHR export'!$T$2:$T$30,MATCH($A8,'brioHR export'!$A$2:$A$30,0))),"Missing") -> 7548 | L8: =IFERROR(N(INDEX('brioHR export'!$W$2:$W$30,MATCH($A8,'brioHR export'!$A$2:$A$30,0)))+N(INDEX('brioHR export'!$X$2:$X$30,MATCH($A8,'brioHR export'!$A$2:$A$30,0)))+N(INDEX('brioHR export'!$Y$2:$Y$30,MATCH($A8,'brioHR export'!$A$2:$A$30,0)))+N(INDEX('brioHR export'!$Z$2:$Z$30,MATCH($A8,'brioHR export'!$A$2:$A$30,0))),"Missing") -> 12 | M8: =IFERROR(N(INDEX('brioHR export'!$AD$2:$AD$30,MATCH($A8,'brioHR export'!$A$2:$A$30,0))),"Missing") -> 36840 | N8: =IFERROR(N(INDEX('brioHR export'!$AE$2:$AE$30,MATCH($A8,'brioHR export'!$A$2:$A$30,0))),"Missing") -> 6882 | O8: =IFERROR(N(INDEX('brioHR export'!$AF$2:$AF$30,MATCH($A8,'brioHR export'!$A$2:$A$30,0))),"Missing") -> 67.5 | P8: ='Old system (cleaned)'!D5 -> 44400 | Q8: ='Old system (cleaned)'!I5 -> 0 | R8: ='Old system (cleaned)'!K5 -> 44400 | S8: ='Old system (cleaned)'!L5 -> 44400 | T8: ='Old system (cleaned)'!M5 -> 0 | U8: ='Old system (cleaned)'!N5 -> 7992 | V8: ='Old system (cleaned)'!O5 -> 12 | W8: ='Old system (cleaned)'!R5 -> 36396 | X8: ='Old system (cleaned)'!S5 -> 7104 | Y8: ='Old system (cleaned)'!T5 -> 67.5 | Z8: =IF(ISNUMBER(F8),ROUND(F8-P8,2),"Missing") -> 0 | AA8: =IF(ISNUMBER(G8),ROUND(G8-Q8,2),"Missing") -> 0 | AB8: =IF(ISNUMBER(H8),ROUND(H8-R8,2),"Missing") -> 0 | AC8: =IF(ISNUMBER(I8),ROUND(I8-S8,2),"Missing") -> 0 | AD8: =IF(ISNUMBER(J8),ROUND(J8-T8,2),"Missing") -> 0 | AE8: =IF(ISNUMBER(K8),ROUND(K8-U8,2),"Missing") -> -444 | AF8: =IF(ISNUMBER(L8),ROUND(L8-V8,2),"Missing") -> 0 | AG8: =IF(ISNUMBER(M8),ROUND(M8-W8,2),"Missing") -> 444 | ... AI8: =IF(ISNUMBER(O8),ROUND(O8-Y8,2),"Missing") -> 0 | AJ8: =IF(COUNTIF(Z8:AI8,"Missing")>0,"Missing in brioHR",IF(COUNTIF(Z8:AI8,"<>0")>0,"Check","OK")) -> Check
A9: ='Old system (cleaned)'!A6 -> 005 | B9: ='Old system (cleaned)'!B6 -> NUR SYAFIQAH BINTE ALI | C9: ='Old system (cleaned)'!C6 -> Accounts | D9: =IFERROR(INDEX('brioHR export'!$AL$2:$AL$30,MATCH($A9,'brioHR export'!$A$2:$A$30,0)),"Missing") -> 29 | E9: =IFERROR(INDEX('brioHR export'!$AI$2:$AI$30,MATCH($A9,'brioHR export'!$A$2:$A$30,0)),"Missing") -> Singapore Citizen | F9: =IFERROR(N(INDEX('brioHR export'!$F$2:$F$30,MATCH($A9,'brioHR export'!$A$2:$A$30,0))),"Missing") -> 21600 | G9: =IFERROR(N(INDEX('brioHR export'!$I$2:$I$30,MATCH($A9,'brioHR export'!$A$2:$A$30,0))),"Missing") -> 0 | H9: =IFERROR(N(INDEX('brioHR export'!$S$2:$S$30,MATCH($A9,'brioHR export'!$A$2:$A$30,0))),"Missing") -> 21272.73 | I9: =IFERROR(N(INDEX('brioHR export'!$U$2:$U$30,MATCH($A9,'brioHR export'!$A$2:$A$30,0))),"Missing") -> 21272.73 | J9: =IFERROR(N(INDEX('brioHR export'!$V$2:$V$30,MATCH($A9,'brioHR export'!$A$2:$A$30,0))),"Missing") -> 0 | K9: =IFERROR(N(INDEX('brioHR export'!$T$2:$T$30,MATCH($A9,'brioHR export'!$A$2:$A$30,0))),"Missing") -> 4254 | L9: =IFERROR(N(INDEX('brioHR export'!$W$2:$W$30,MATCH($A9,'brioHR export'!$A$2:$A$30,0)))+N(INDEX('brioHR export'!$X$2:$X$30,MATCH($A9,'brioHR export'!$A$2:$A$30,0)))+N(INDEX('brioHR export'!$Y$2:$Y$30,MATCH($A9,'brioHR export'!$A$2:$A$30,0)))+N(INDEX('brioHR export'!$Z$2:$Z$30,MATCH($A9,'brioHR export'!$A$2:$A$30,0))),"Missing") -> 90 | M9: =IFERROR(N(INDEX('brioHR export'!$AD$2:$AD$30,MATCH($A9,'brioHR export'!$A$2:$A$30,0))),"Missing") -> 16928.73 | N9: =IFERROR(N(INDEX('brioHR export'!$AE$2:$AE$30,MATCH($A9,'brioHR export'!$A$2:$A$30,0))),"Missing") -> 3617 | O9: =IFERROR(N(INDEX('brioHR export'!$AF$2:$AF$30,MATCH($A9,'brioHR export'!$A$2:$A$30,0))),"Missing") -> 53.18 | P9: ='Old system (cleaned)'!D6 -> 21600 | Q9: ='Old system (cleaned)'!I6 -> 0 | R9: ='Old system (cleaned)'!K6 -> 21272.73 | S9: ='Old system (cleaned)'!L6 -> 21272.73 | T9: ='Old system (cleaned)'!M6 -> 0 | U9: ='Old system (cleaned)'!N6 -> 4254 | V9: ='Old system (cleaned)'!O6 -> 90 | W9: ='Old system (cleaned)'!R6 -> 16928.73 | X9: ='Old system (cleaned)'!S6 -> 3617 | Y9: ='Old system (cleaned)'!T6 -> 53.18 | Z9: =IF(ISNUMBER(F9),ROUND(F9-P9,2),"Missing") -> 0 | AA9: =IF(ISNUMBER(G9),ROUND(G9-Q9,2),"Missing") -> 0 | AB9: =IF(ISNUMBER(H9),ROUND(H9-R9,2),"Missing") -> 0 | AC9: =IF(ISNUMBER(I9),ROUND(I9-S9,2),"Missing") -> 0 | AD9: =IF(ISNUMBER(J9),ROUND(J9-T9,2),"Missing") -> 0 | AE9: =IF(ISNUMBER(K9),ROUND(K9-U9,2),"Missing") -> 0 | AF9: =IF(ISNUMBER(L9),ROUND(L9-V9,2),"Missing") -> 0 | AG9: =IF(ISNUMBER(M9),ROUND(M9-W9,2),"Missing") -> 0 | ... AI9: =IF(ISNUMBER(O9),ROUND(O9-Y9,2),"Missing") -> 0 | AJ9: =IF(COUNTIF(Z9:AI9,"Missing")>0,"Missing in brioHR",IF(COUNTIF(Z9:AI9,"<>0")>0,"Check","OK")) -> OK
A10: ='Old system (cleaned)'!A7 -> 006 | B10: ='Old system (cleaned)'!B7 -> BENJAMIN KOH JUN WEI | C10: ='Old system (cleaned)'!C7 -> Accounts | D10: =IFERROR(INDEX('brioHR export'!$AL$2:$AL$30,MATCH($A10,'brioHR export'!$A$2:$A$30,0)),"Missing") -> 41 | E10: =IFERROR(INDEX('brioHR export'!$AI$2:$AI$30,MATCH($A10,'brioHR export'!$A$2:$A$30,0)),"Missing") -> Singapore Permanent Resident | F10: =IFERROR(N(INDEX('brioHR export'!$F$2:$F$30,MATCH($A10,'brioHR export'!$A$2:$A$30,0))),"Missing") -> 31200 | G10: =IFERROR(N(INDEX('brioHR export'!$I$2:$I$30,MATCH($A10,'brioHR export'!$A$2:$A$30,0))),"Missing") -> 5200 | H10: =IFERROR(N(INDEX('brioHR export'!$S$2:$S$30,MATCH($A10,'brioHR export'!$A$2:$A$30,0))),"Missing") -> 36400 | I10: =IFERROR(N(INDEX('brioHR export'!$U$2:$U$30,MATCH($A10,'brioHR export'!$A$2:$A$30,0))),"Missing") -> 31200 | J10: =IFERROR(N(INDEX('brioHR export'!$V$2:$V$30,MATCH($A10,'brioHR export'!$A$2:$A$30,0))),"Missing") -> 5200 | K10: =IFERROR(N(INDEX('brioHR export'!$T$2:$T$30,MATCH($A10,'brioHR export'!$A$2:$A$30,0))),"Missing") -> 7280 | L10: =IFERROR(N(INDEX('brioHR export'!$W$2:$W$30,MATCH($A10,'brioHR export'!$A$2:$A$30,0)))+N(INDEX('brioHR export'!$X$2:$X$30,MATCH($A10,'brioHR export'!$A$2:$A$30,0)))+N(INDEX('brioHR export'!$Y$2:$Y$30,MATCH($A10,'brioHR export'!$A$2:$A$30,0)))+N(INDEX('brioHR export'!$Z$2:$Z$30,MATCH($A10,'brioHR export'!$A$2:$A$30,0))),"Missing") -> 13 | M10: =IFERROR(N(INDEX('brioHR export'!$AD$2:$AD$30,MATCH($A10,'brioHR export'!$A$2:$A$30,0))),"Missing") -> 29107 | N10: =IFERROR(N(INDEX('brioHR export'!$AE$2:$AE$30,MATCH($A10,'brioHR export'!$A$2:$A$30,0))),"Missing") -> 6188 | O10: =IFERROR(N(INDEX('brioHR export'!$AF$2:$AF$30,MATCH($A10,'brioHR export'!$A$2:$A$30,0))),"Missing") -> 67.5 | P10: ='Old system (cleaned)'!D7 -> 31200 | Q10: ='Old system (cleaned)'!I7 -> 5200 | R10: ='Old system (cleaned)'!K7 -> 36400 | S10: ='Old system (cleaned)'!L7 -> 31200 | T10: ='Old system (cleaned)'!M7 -> 5200 | U10: ='Old system (cleaned)'!N7 -> 7280 | V10: ='Old system (cleaned)'!O7 -> 13 | W10: ='Old system (cleaned)'!R7 -> 29107 | X10: ='Old system (cleaned)'!S7 -> 6188 | Y10: ='Old system (cleaned)'!T7 -> 67.5 | Z10: =IF(ISNUMBER(F10),ROUND(F10-P10,2),"Missing") -> 0 | AA10: =IF(ISNUMBER(G10),ROUND(G10-Q10,2),"Missing") -> 0 | AB10: =IF(ISNUMBER(H10),ROUND(H10-R10,2),"Missing") -> 0 | AC10: =IF(ISNUMBER(I10),ROUND(I10-S10,2),"Missing") -> 0 | AD10: =IF(ISNUMBER(J10),ROUND(J10-T10,2),"Missing") -> 0 | AE10: =IF(ISNUMBER(K10),ROUND(K10-U10,2),"Missing") -> 0 | AF10: =IF(ISNUMBER(L10),ROUND(L10-V10,2),"Missing") -> 0 | AG10: =IF(ISNUMBER(M10),ROUND(M10-W10,2),"Missing") -> 0 | ... AI10: =IF(ISNUMBER(O10),ROUND(O10-Y10,2),"Missing") -> 0 | AJ10: =IF(COUNTIF(Z10:AI10,"Missing")>0,"Missing in brioHR",IF(COUNTIF(Z10:AI10,"<>0")>0,"Check","OK")) -> OK
A11: ='Old system (cleaned)'!A8 -> 007 | B11: ='Old system (cleaned)'!B8 -> JOSEPHINE DE SOUZA | C11: ='Old system (cleaned)'!C8 -> Accounts | D11: =IFERROR(INDEX('brioHR export'!$AL$2:$AL$30,MATCH($A11,'brioHR export'!$A$2:$A$30,0)),"Missing") -> 60 | E11: =IFERROR(INDEX('brioHR export'!$AI$2:$AI$30,MATCH($A11,'brioHR export'!$A$2:$A$30,0)),"Missing") -> Singapore Citizen | F11: =IFERROR(N(INDEX('brioHR export'!$F$2:$F$30,MATCH($A11,'brioHR export'!$A$2:$A$30,0))),"Missing") -> 28800 | G11: =IFERROR(N(INDEX('brioHR export'!$I$2:$I$30,MATCH($A11,'brioHR export'!$A$2:$A$30,0))),"Missing") -> 0 | H11: =IFERROR(N(INDEX('brioHR export'!$S$2:$S$30,MATCH($A11,'brioHR export'!$A$2:$A$30,0))),"Missing") -> 28800 | I11: =IFERROR(N(INDEX('brioHR export'!$U$2:$U$30,MATCH($A11,'brioHR export'!$A$2:$A$30,0))),"Missing") -> 28800 | J11: =IFERROR(N(INDEX('brioHR export'!$V$2:$V$30,MATCH($A11,'brioHR export'!$A$2:$A$30,0))),"Missing") -> 0 | K11: =IFERROR(N(INDEX('brioHR export'!$T$2:$T$30,MATCH($A11,'brioHR export'!$A$2:$A$30,0))),"Missing") -> 4896 | L11: =IFERROR(N(INDEX('brioHR export'!$W$2:$W$30,MATCH($A11,'brioHR export'!$A$2:$A$30,0)))+N(INDEX('brioHR export'!$X$2:$X$30,MATCH($A11,'brioHR export'!$A$2:$A$30,0)))+N(INDEX('brioHR export'!$Y$2:$Y$30,MATCH($A11,'brioHR export'!$A$2:$A$30,0)))+N(INDEX('brioHR export'!$Z$2:$Z$30,MATCH($A11,'brioHR export'!$A$2:$A$30,0))),"Missing") -> 72 | M11: =IFERROR(N(INDEX('brioHR export'!$AD$2:$AD$30,MATCH($A11,'brioHR export'!$A$2:$A$30,0))),"Missing") -> 23832 | N11: =IFERROR(N(INDEX('brioHR export'!$AE$2:$AE$30,MATCH($A11,'brioHR export'!$A$2:$A$30,0))),"Missing") -> 4464 | O11: =IFERROR(N(INDEX('brioHR export'!$AF$2:$AF$30,MATCH($A11,'brioHR export'!$A$2:$A$30,0))),"Missing") -> 67.5 | P11: ='Old system (cleaned)'!D8 -> 28800 | Q11: ='Old system (cleaned)'!I8 -> 0 | R11: ='Old system (cleaned)'!K8 -> 28800 | S11: ='Old system (cleaned)'!L8 -> 28800 | T11: ='Old system (cleaned)'!M8 -> 0 | U11: ='Old system (cleaned)'!N8 -> 5184 | V11: ='Old system (cleaned)'!O8 -> 72 | W11: ='Old system (cleaned)'!R8 -> 23544 | X11: ='Old system (cleaned)'!S8 -> 4608 | Y11: ='Old system (cleaned)'!T8 -> 67.5 | Z11: =IF(ISNUMBER(F11),ROUND(F11-P11,2),"Missing") -> 0 | AA11: =IF(ISNUMBER(G11),ROUND(G11-Q11,2),"Missing") -> 0 | AB11: =IF(ISNUMBER(H11),ROUND(H11-R11,2),"Missing") -> 0 | AC11: =IF(ISNUMBER(I11),ROUND(I11-S11,2),"Missing") -> 0 | AD11: =IF(ISNUMBER(J11),ROUND(J11-T11,2),"Missing") -> 0 | AE11: =IF(ISNUMBER(K11),ROUND(K11-U11,2),"Missing") -> -288 | AF11: =IF(ISNUMBER(L11),ROUND(L11-V11,2),"Missing") -> 0 | AG11: =IF(ISNUMBER(M11),ROUND(M11-W11,2),"Missing") -> 288 | ... AI11: =IF(ISNUMBER(O11),ROUND(O11-Y11,2),"Missing") -> 0 | AJ11: =IF(COUNTIF(Z11:AI11,"Missing")>0,"Missing in brioHR",IF(COUNTIF(Z11:AI11,"<>0")>0,"Check","OK")) -> Check
A12: ='Old system (cleaned)'!A9 -> 008 | B12: ='Old system (cleaned)'!B9 -> HIROSHI TANAKA | C12: ='Old system (cleaned)'!C9 -> Accounts | D12: =IFERROR(INDEX('brioHR export'!$AL$2:$AL$30,MATCH($A12,'brioHR export'!$A$2:$A$30,0)),"Missing") -> 43 | E12: =IFERROR(INDEX('brioHR export'!$AI$2:$AI$30,MATCH($A12,'brioHR export'!$A$2:$A$30,0)),"Missing") -> Foreigner | F12: =IFERROR(N(INDEX('brioHR export'!$F$2:$F$30,MATCH($A12,'brioHR export'!$A$2:$A$30,0))),"Missing") -> 57000 | G12: =IFERROR(N(INDEX('brioHR export'!$I$2:$I$30,MATCH($A12,'brioHR export'!$A$2:$A$30,0))),"Missing") -> 5000 | H12: =IFERROR(N(INDEX('brioHR export'!$S$2:$S$30,MATCH($A12,'brioHR export'!$A$2:$A$30,0))),"Missing") -> 62000 | I12: =IFERROR(N(INDEX('brioHR export'!$U$2:$U$30,MATCH($A12,'brioHR export'!$A$2:$A$30,0))),"Missing") -> 0 | J12: =IFERROR(N(INDEX('brioHR export'!$V$2:$V$30,MATCH($A12,'brioHR export'!$A$2:$A$30,0))),"Missing") -> 0 | K12: =IFERROR(N(INDEX('brioHR export'!$T$2:$T$30,MATCH($A12,'brioHR export'!$A$2:$A$30,0))),"Missing") -> 0 | L12: =IFERROR(N(INDEX('brioHR export'!$W$2:$W$30,MATCH($A12,'brioHR export'!$A$2:$A$30,0)))+N(INDEX('brioHR export'!$X$2:$X$30,MATCH($A12,'brioHR export'!$A$2:$A$30,0)))+N(INDEX('brioHR export'!$Y$2:$Y$30,MATCH($A12,'brioHR export'!$A$2:$A$30,0)))+N(INDEX('brioHR export'!$Z$2:$Z$30,MATCH($A12,'brioHR export'!$A$2:$A$30,0))),"Missing") -> 0 | M12: =IFERROR(N(INDEX('brioHR export'!$AD$2:$AD$30,MATCH($A12,'brioHR export'!$A$2:$A$30,0))),"Missing") -> 62000 | N12: =IFERROR(N(INDEX('brioHR export'!$AE$2:$AE$30,MATCH($A12,'brioHR export'!$A$2:$A$30,0))),"Missing") -> 0 | O12: =IFERROR(N(INDEX('brioHR export'!$AF$2:$AF$30,MATCH($A12,'brioHR export'!$A$2:$A$30,0))),"Missing") -> 67.5 | P12: ='Old system (cleaned)'!D9 -> 57000 | Q12: ='Old system (cleaned)'!I9 -> 5000 | R12: ='Old system (cleaned)'!K9 -> 62000 | S12: ='Old system (cleaned)'!L9 -> 0 | T12: ='Old system (cleaned)'!M9 -> 0 | U12: ='Old system (cleaned)'!N9 -> 0 | V12: ='Old system (cleaned)'!O9 -> 0 | W12: ='Old system (cleaned)'!R9 -> 62000 | X12: ='Old system (cleaned)'!S9 -> 0 | Y12: ='Old system (cleaned)'!T9 -> 67.5 | Z12: =IF(ISNUMBER(F12),ROUND(F12-P12,2),"Missing") -> 0 | AA12: =IF(ISNUMBER(G12),ROUND(G12-Q12,2),"Missing") -> 0 | AB12: =IF(ISNUMBER(H12),ROUND(H12-R12,2),"Missing") -> 0 | AC12: =IF(ISNUMBER(I12),ROUND(I12-S12,2),"Missing") -> 0 | AD12: =IF(ISNUMBER(J12),ROUND(J12-T12,2),"Missing") -> 0 | AE12: =IF(ISNUMBER(K12),ROUND(K12-U12,2),"Missing") -> 0 | AF12: =IF(ISNUMBER(L12),ROUND(L12-V12,2),"Missing") -> 0 | AG12: =IF(ISNUMBER(M12),ROUND(M12-W12,2),"Missing") -> 0 | ... AI12: =IF(ISNUMBER(O12),ROUND(O12-Y12,2),"Missing") -> 0 | AJ12: =IF(COUNTIF(Z12:AI12,"Missing")>0,"Missing in brioHR",IF(COUNTIF(Z12:AI12,"<>0")>0,"Check","OK")) -> OK
A13: ='Old system (cleaned)'!A10 -> 009 | B13: ='Old system (cleaned)'!B10 -> SITI AMINAH BINTE OSMAN | C13: ='Old system (cleaned)'!C10 -> Operations | D13: =IFERROR(INDEX('brioHR export'!$AL$2:$AL$30,MATCH($A13,'brioHR export'!$A$2:$A$30,0)),"Missing") -> 27 | E13: =IFERROR(INDEX('brioHR export'!$AI$2:$AI$30,MATCH($A13,'brioHR export'!$A$2:$A$30,0)),"Missing") -> Singapore Citizen | F13: =IFERROR(N(INDEX('brioHR export'!$F$2:$F$30,MATCH($A13,'brioHR export'!$A$2:$A$30,0))),"Missing") -> 14400 | G13: =IFERROR(N(INDEX('brioHR export'!$I$2:$I$30,MATCH($A13,'brioHR export'!$A$2:$A$30,0))),"Missing") -> 0 | H13: =IFERROR(N(INDEX('brioHR export'!$S$2:$S$30,MATCH($A13,'brioHR export'!$A$2:$A$30,0))),"Missing") -> 14966.44 | I13: =IFERROR(N(INDEX('brioHR export'!$U$2:$U$30,MATCH($A13,'brioHR export'!$A$2:$A$30,0))),"Missing") -> 14966.44 | J13: =IFERROR(N(INDEX('brioHR export'!$V$2:$V$30,MATCH($A13,'brioHR export'!$A$2:$A$30,0))),"Missing") -> 0 | K13: =IFERROR(N(INDEX('brioHR export'!$T$2:$T$30,MATCH($A13,'brioHR export'!$A$2:$A$30,0))),"Missing") -> 2991 | L13: =IFERROR(N(INDEX('brioHR export'!$W$2:$W$30,MATCH($A13,'brioHR export'!$A$2:$A$30,0)))+N(INDEX('brioHR export'!$X$2:$X$30,MATCH($A13,'brioHR export'!$A$2:$A$30,0)))+N(INDEX('brioHR export'!$Y$2:$Y$30,MATCH($A13,'brioHR export'!$A$2:$A$30,0)))+N(INDEX('brioHR export'!$Z$2:$Z$30,MATCH($A13,'brioHR export'!$A$2:$A$30,0))),"Missing") -> 39 | M13: =IFERROR(N(INDEX('brioHR export'!$AD$2:$AD$30,MATCH($A13,'brioHR export'!$A$2:$A$30,0))),"Missing") -> 11936.44 | N13: =IFERROR(N(INDEX('brioHR export'!$AE$2:$AE$30,MATCH($A13,'brioHR export'!$A$2:$A$30,0))),"Missing") -> 2547 | O13: =IFERROR(N(INDEX('brioHR export'!$AF$2:$AF$30,MATCH($A13,'brioHR export'!$A$2:$A$30,0))),"Missing") -> 37.42 | P13: ='Old system (cleaned)'!D10 -> 14400 | Q13: ='Old system (cleaned)'!I10 -> 0 | R13: ='Old system (cleaned)'!K10 -> 14966.44 | S13: ='Old system (cleaned)'!L10 -> 14966.44 | T13: ='Old system (cleaned)'!M10 -> 0 | U13: ='Old system (cleaned)'!N10 -> 2991 | V13: ='Old system (cleaned)'!O10 -> 39 | W13: ='Old system (cleaned)'!R10 -> 11936.44 | X13: ='Old system (cleaned)'!S10 -> 2547 | Y13: ='Old system (cleaned)'!T10 -> 37.42 | Z13: =IF(ISNUMBER(F13),ROUND(F13-P13,2),"Missing") -> 0 | AA13: =IF(ISNUMBER(G13),ROUND(G13-Q13,2),"Missing") -> 0 | AB13: =IF(ISNUMBER(H13),ROUND(H13-R13,2),"Missing") -> 0 | AC13: =IF(ISNUMBER(I13),ROUND(I13-S13,2),"Missing") -> 0 | AD13: =IF(ISNUMBER(J13),ROUND(J13-T13,2),"Missing") -> 0 | AE13: =IF(ISNUMBER(K13),ROUND(K13-U13,2),"Missing") -> 0 | AF13: =IF(ISNUMBER(L13),ROUND(L13-V13,2),"Missing") -> 0 | AG13: =IF(ISNUMBER(M13),ROUND(M13-W13,2),"Missing") -> 0 | ... AI13: =IF(ISNUMBER(O13),ROUND(O13-Y13,2),"Missing") -> 0 | AJ13: =IF(COUNTIF(Z13:AI13,"Missing")>0,"Missing in brioHR",IF(COUNTIF(Z13:AI13,"<>0")>0,"Check","OK")) -> OK
A14: ='Old system (cleaned)'!A11 -> 010 | B14: ='Old system (cleaned)'!B11 -> ONG BOON KEAT | C14: ='Old system (cleaned)'!C11 -> Operations | D14: =IFERROR(INDEX('brioHR export'!$AL$2:$AL$30,MATCH($A14,'brioHR export'!$A$2:$A$30,0)),"Missing") -> 56 | E14: =IFERROR(INDEX('brioHR export'!$AI$2:$AI$30,MATCH($A14,'brioHR export'!$A$2:$A$30,0)),"Missing") -> Singapore Citizen | F14: =IFERROR(N(INDEX('brioHR export'!$F$2:$F$30,MATCH($A14,'brioHR export'!$A$2:$A$30,0))),"Missing") -> 15600 | G14: =IFERROR(N(INDEX('brioHR export'!$I$2:$I$30,MATCH($A14,'brioHR export'!$A$2:$A$30,0))),"Missing") -> 0 | H14: =IFERROR(N(INDEX('brioHR export'!$S$2:$S$30,MATCH($A14,'brioHR export'!$A$2:$A$30,0))),"Missing") -> 15906.82 | I14: =IFERROR(N(INDEX('brioHR export'!$U$2:$U$30,MATCH($A14,'brioHR export'!$A$2:$A$30,0))),"Missing") -> 15906.82 | J14: =IFERROR(N(INDEX('brioHR export'!$V$2:$V$30,MATCH($A14,'brioHR export'!$A$2:$A$30,0))),"Missing") -> 0 | K14: =IFERROR(N(INDEX('brioHR export'!$T$2:$T$30,MATCH($A14,'brioHR export'!$A$2:$A$30,0))),"Missing") -> 2701 | L14: =IFERROR(N(INDEX('brioHR export'!$W$2:$W$30,MATCH($A14,'brioHR export'!$A$2:$A$30,0)))+N(INDEX('brioHR export'!$X$2:$X$30,MATCH($A14,'brioHR export'!$A$2:$A$30,0)))+N(INDEX('brioHR export'!$Y$2:$Y$30,MATCH($A14,'brioHR export'!$A$2:$A$30,0)))+N(INDEX('brioHR export'!$Z$2:$Z$30,MATCH($A14,'brioHR export'!$A$2:$A$30,0))),"Missing") -> 6 | M14: =IFERROR(N(INDEX('brioHR export'!$AD$2:$AD$30,MATCH($A14,'brioHR export'!$A$2:$A$30,0))),"Missing") -> 13199.82 | N14: =IFERROR(N(INDEX('brioHR export'!$AE$2:$AE$30,MATCH($A14,'brioHR export'!$A$2:$A$30,0))),"Missing") -> 2469 | O14: =IFERROR(N(INDEX('brioHR export'!$AF$2:$AF$30,MATCH($A14,'brioHR export'!$A$2:$A$30,0))),"Missing") -> 39.76 | P14: ='Old system (cleaned)'!D11 -> 15600 | Q14: ='Old system (cleaned)'!I11 -> 0 | R14: ='Old system (cleaned)'!K11 -> 15906.82 | S14: ='Old system (cleaned)'!L11 -> 15906.82 | T14: ='Old system (cleaned)'!M11 -> 0 | U14: ='Old system (cleaned)'!N11 -> 2862 | V14: ='Old system (cleaned)'!O11 -> 6 | W14: ='Old system (cleaned)'!R11 -> 13038.82 | X14: ='Old system (cleaned)'!S11 -> 2547 | Y14: ='Old system (cleaned)'!T11 -> 39.76 | Z14: =IF(ISNUMBER(F14),ROUND(F14-P14,2),"Missing") -> 0 | AA14: =IF(ISNUMBER(G14),ROUND(G14-Q14,2),"Missing") -> 0 | AB14: =IF(ISNUMBER(H14),ROUND(H14-R14,2),"Missing") -> 0 | AC14: =IF(ISNUMBER(I14),ROUND(I14-S14,2),"Missing") -> 0 | AD14: =IF(ISNUMBER(J14),ROUND(J14-T14,2),"Missing") -> 0 | AE14: =IF(ISNUMBER(K14),ROUND(K14-U14,2),"Missing") -> -161 | AF14: =IF(ISNUMBER(L14),ROUND(L14-V14,2),"Missing") -> 0 | AG14: =IF(ISNUMBER(M14),ROUND(M14-W14,2),"Missing") -> 161 | ... AI14: =IF(ISNUMBER(O14),ROUND(O14-Y14,2),"Missing") -> 0 | AJ14: =IF(COUNTIF(Z14:AI14,"Missing")>0,"Missing in brioHR",IF(COUNTIF(Z14:AI14,"<>0")>0,"Check","OK")) -> Check
A15: ='Old system (cleaned)'!A12 -> 011 | B15: ='Old system (cleaned)'!B12 -> RAJ S/O GANESAN | C15: ='Old system (cleaned)'!C12 -> Operations | D15: =IFERROR(INDEX('brioHR export'!$AL$2:$AL$30,MATCH($A15,'brioHR export'!$A$2:$A$30,0)),"Missing") -> 32 | E15: =IFERROR(INDEX('brioHR export'!$AI$2:$AI$30,MATCH($A15,'brioHR export'!$A$2:$A$30,0)),"Missing") -> Singapore Citizen | F15: =IFERROR(N(INDEX('brioHR export'!$F$2:$F$30,MATCH($A15,'brioHR export'!$A$2:$A$30,0))),"Missing") -> 17400 | G15: =IFERROR(N(INDEX('brioHR export'!$I$2:$I$30,MATCH($A15,'brioHR export'!$A$2:$A$30,0))),"Missing") -> 0 | H15: =IFERROR(N(INDEX('brioHR export'!$S$2:$S$30,MATCH($A15,'brioHR export'!$A$2:$A$30,0))),"Missing") -> 17605.33 | I15: =IFERROR(N(INDEX('brioHR export'!$U$2:$U$30,MATCH($A15,'brioHR export'!$A$2:$A$30,0))),"Missing") -> 17605.33 | J15: =IFERROR(N(INDEX('brioHR export'!$V$2:$V$30,MATCH($A15,'brioHR export'!$A$2:$A$30,0))),"Missing") -> 0 | K15: =IFERROR(N(INDEX('brioHR export'!$T$2:$T$30,MATCH($A15,'brioHR export'!$A$2:$A$30,0))),"Missing") -> 3520 | L15: =IFERROR(N(INDEX('brioHR export'!$W$2:$W$30,MATCH($A15,'brioHR export'!$A$2:$A$30,0)))+N(INDEX('brioHR export'!$X$2:$X$30,MATCH($A15,'brioHR export'!$A$2:$A$30,0)))+N(INDEX('brioHR export'!$Y$2:$Y$30,MATCH($A15,'brioHR export'!$A$2:$A$30,0)))+N(INDEX('brioHR export'!$Z$2:$Z$30,MATCH($A15,'brioHR export'!$A$2:$A$30,0))),"Missing") -> 42 | M15: =IFERROR(N(INDEX('brioHR export'!$AD$2:$AD$30,MATCH($A15,'brioHR export'!$A$2:$A$30,0))),"Missing") -> 14043.33 | N15: =IFERROR(N(INDEX('brioHR export'!$AE$2:$AE$30,MATCH($A15,'brioHR export'!$A$2:$A$30,0))),"Missing") -> 2994 | O15: =IFERROR(N(INDEX('brioHR export'!$AF$2:$AF$30,MATCH($A15,'brioHR export'!$A$2:$A$30,0))),"Missing") -> 44.01 | P15: ='Old system (cleaned)'!D12 -> 17400 | Q15: ='Old system (cleaned)'!I12 -> 0 | R15: ='Old system (cleaned)'!K12 -> 17605.33 | S15: ='Old system (cleaned)'!L12 -> 17605.33 | T15: ='Old system (cleaned)'!M12 -> 0 | U15: ='Old system (cleaned)'!N12 -> 3520 | V15: ='Old system (cleaned)'!O12 -> 42 | W15: ='Old system (cleaned)'!R12 -> 14043.33 | X15: ='Old system (cleaned)'!S12 -> 2994 | Y15: ='Old system (cleaned)'!T12 -> 44.01 | Z15: =IF(ISNUMBER(F15),ROUND(F15-P15,2),"Missing") -> 0 | AA15: =IF(ISNUMBER(G15),ROUND(G15-Q15,2),"Missing") -> 0 | AB15: =IF(ISNUMBER(H15),ROUND(H15-R15,2),"Missing") -> 0 | AC15: =IF(ISNUMBER(I15),ROUND(I15-S15,2),"Missing") -> 0 | AD15: =IF(ISNUMBER(J15),ROUND(J15-T15,2),"Missing") -> 0 | AE15: =IF(ISNUMBER(K15),ROUND(K15-U15,2),"Missing") -> 0 | AF15: =IF(ISNUMBER(L15),ROUND(L15-V15,2),"Missing") -> 0 | AG15: =IF(ISNUMBER(M15),ROUND(M15-W15,2),"Missing") -> 0 | ... AI15: =IF(ISNUMBER(O15),ROUND(O15-Y15,2),"Missing") -> 0 | AJ15: =IF(COUNTIF(Z15:AI15,"Missing")>0,"Missing in brioHR",IF(COUNTIF(Z15:AI15,"<>0")>0,"Check","OK")) -> OK
A16: ='Old system (cleaned)'!A13 -> 012 | B16: ='Old system (cleaned)'!B13 -> CHLOE NG PEI SHAN | C16: ='Old system (cleaned)'!C13 -> Operations | D16: =IFERROR(INDEX('brioHR export'!$AL$2:$AL$30,MATCH($A16,'brioHR export'!$A$2:$A$30,0)),"Missing") -> 34 | E16: =IFERROR(INDEX('brioHR export'!$AI$2:$AI$30,MATCH($A16,'brioHR export'!$A$2:$A$30,0)),"Missing") -> Singapore Citizen | F16: =IFERROR(N(INDEX('brioHR export'!$F$2:$F$30,MATCH($A16,'brioHR export'!$A$2:$A$30,0))),"Missing") -> 27810 | G16: =IFERROR(N(INDEX('brioHR export'!$I$2:$I$30,MATCH($A16,'brioHR export'!$A$2:$A$30,0))),"Missing") -> 0 | H16: =IFERROR(N(INDEX('brioHR export'!$S$2:$S$30,MATCH($A16,'brioHR export'!$A$2:$A$30,0))),"Missing") -> 27810 | I16: =IFERROR(N(INDEX('brioHR export'!$U$2:$U$30,MATCH($A16,'brioHR export'!$A$2:$A$30,0))),"Missing") -> 27900 | J16: =IFERROR(N(INDEX('brioHR export'!$V$2:$V$30,MATCH($A16,'brioHR export'!$A$2:$A$30,0))),"Missing") -> 0 | K16: =IFERROR(N(INDEX('brioHR export'!$T$2:$T$30,MATCH($A16,'brioHR export'!$A$2:$A$30,0))),"Missing") -> 5580 | L16: =IFERROR(N(INDEX('brioHR export'!$W$2:$W$30,MATCH($A16,'brioHR export'!$A$2:$A$30,0)))+N(INDEX('brioHR export'!$X$2:$X$30,MATCH($A16,'brioHR export'!$A$2:$A$30,0)))+N(INDEX('brioHR export'!$Y$2:$Y$30,MATCH($A16,'brioHR export'!$A$2:$A$30,0)))+N(INDEX('brioHR export'!$Z$2:$Z$30,MATCH($A16,'brioHR export'!$A$2:$A$30,0))),"Missing") -> 9 | M16: =IFERROR(N(INDEX('brioHR export'!$AD$2:$AD$30,MATCH($A16,'brioHR export'!$A$2:$A$30,0))),"Missing") -> 22221 | N16: =IFERROR(N(INDEX('brioHR export'!$AE$2:$AE$30,MATCH($A16,'brioHR export'!$A$2:$A$30,0))),"Missing") -> 4746 | O16: =IFERROR(N(INDEX('brioHR export'!$AF$2:$AF$30,MATCH($A16,'brioHR export'!$A$2:$A$30,0))),"Missing") -> 67.5 | P16: ='Old system (cleaned)'!D13 -> 27900 | Q16: ='Old system (cleaned)'!I13 -> 0 | R16: ='Old system (cleaned)'!K13 -> 27900 | S16: ='Old system (cleaned)'!L13 -> 27900 | T16: ='Old system (cleaned)'!M13 -> 0 | U16: ='Old system (cleaned)'!N13 -> 5580 | V16: ='Old system (cleaned)'!O13 -> 9 | W16: ='Old system (cleaned)'!R13 -> 22311 | X16: ='Old system (cleaned)'!S13 -> 4746 | Y16: ='Old system (cleaned)'!T13 -> 67.5 | Z16: =IF(ISNUMBER(F16),ROUND(F16-P16,2),"Missing") -> -90 | AA16: =IF(ISNUMBER(G16),ROUND(G16-Q16,2),"Missing") -> 0 | AB16: =IF(ISNUMBER(H16),ROUND(H16-R16,2),"Missing") -> -90 | AC16: =IF(ISNUMBER(I16),ROUND(I16-S16,2),"Missing") -> 0 | AD16: =IF(ISNUMBER(J16),ROUND(J16-T16,2),"Missing") -> 0 | AE16: =IF(ISNUMBER(K16),ROUND(K16-U16,2),"Missing") -> 0 | AF16: =IF(ISNUMBER(L16),ROUND(L16-V16,2),"Missing") -> 0 | AG16: =IF(ISNUMBER(M16),ROUND(M16-W16,2),"Missing") -> -90 | ... AI16: =IF(ISNUMBER(O16),ROUND(O16-Y16,2),"Missing") -> 0 | AJ16: =IF(COUNTIF(Z16:AI16,"Missing")>0,"Missing in brioHR",IF(COUNTIF(Z16:AI16,"<>0")>0,"Check","OK")) -> Check
... A34: ='Old system (cleaned)'!A31 -> 030 | B34: ='Old system (cleaned)'!B31 -> ISABEL CHONG MEI XIN | C34: ='Old system (cleaned)'!C31 -> Sales | D34: =IFERROR(INDEX('brioHR export'!$AL$2:$AL$30,MATCH($A34,'brioHR export'!$A$2:$A$30,0)),"Missing") -> 42 | E34: =IFERROR(INDEX('brioHR export'!$AI$2:$AI$30,MATCH($A34,'brioHR export'!$A$2:$A$30,0)),"Missing") -> Singapore Citizen | F34: =IFERROR(N(INDEX('brioHR export'!$F$2:$F$30,MATCH($A34,'brioHR export'!$A$2:$A$30,0))),"Missing") -> 49200 | G34: =IFERROR(N(INDEX('brioHR export'!$I$2:$I$30,MATCH($A34,'brioHR export'!$A$2:$A$30,0))),"Missing") -> 5000 | H34: =IFERROR(N(INDEX('brioHR export'!$S$2:$S$30,MATCH($A34,'brioHR export'!$A$2:$A$30,0))),"Missing") -> 62400 | I34: =IFERROR(N(INDEX('brioHR export'!$U$2:$U$30,MATCH($A34,'brioHR export'!$A$2:$A$30,0))),"Missing") -> 48000 | J34: =IFERROR(N(INDEX('brioHR export'!$V$2:$V$30,MATCH($A34,'brioHR export'!$A$2:$A$30,0))),"Missing") -> 5000 | K34: =IFERROR(N(INDEX('brioHR export'!$T$2:$T$30,MATCH($A34,'brioHR export'!$A$2:$A$30,0))),"Missing") -> 10600 | L34: =IFERROR(N(INDEX('brioHR export'!$W$2:$W$30,MATCH($A34,'brioHR export'!$A$2:$A$30,0)))+N(INDEX('brioHR export'!$X$2:$X$30,MATCH($A34,'brioHR export'!$A$2:$A$30,0)))+N(INDEX('brioHR export'!$Y$2:$Y$30,MATCH($A34,'brioHR export'!$A$2:$A$30,0)))+N(INDEX('brioHR export'!$Z$2:$Z$30,MATCH($A34,'brioHR export'!$A$2:$A$30,0))),"Missing") -> 18 | M34: =IFERROR(N(INDEX('brioHR export'!$AD$2:$AD$30,MATCH($A34,'brioHR export'!$A$2:$A$30,0))),"Missing") -> 51782 | N34: =IFERROR(N(INDEX('brioHR export'!$AE$2:$AE$30,MATCH($A34,'brioHR export'!$A$2:$A$30,0))),"Missing") -> 9010 | O34: =IFERROR(N(INDEX('brioHR export'!$AF$2:$AF$30,MATCH($A34,'brioHR export'!$A$2:$A$30,0))),"Missing") -> 67.5 | P34: ='Old system (cleaned)'!D31 -> 49200 | Q34: ='Old system (cleaned)'!I31 -> 5000 | R34: ='Old system (cleaned)'!K31 -> 62400 | S34: ='Old system (cleaned)'!L31 -> 48000 | T34: ='Old system (cleaned)'!M31 -> 5000 | U34: ='Old system (cleaned)'!N31 -> 10600 | V34: ='Old system (cleaned)'!O31 -> 18 | W34: ='Old system (cleaned)'!R31 -> 51782 | X34: ='Old system (cleaned)'!S31 -> 9010 | Y34: ='Old system (cleaned)'!T31 -> 67.5 | Z34: =IF(ISNUMBER(F34),ROUND(F34-P34,2),"Missing") -> 0 | AA34: =IF(ISNUMBER(G34),ROUND(G34-Q34,2),"Missing") -> 0 | AB34: =IF(ISNUMBER(H34),ROUND(H34-R34,2),"Missing") -> 0 | AC34: =IF(ISNUMBER(I34),ROUND(I34-S34,2),"Missing") -> 0 | AD34: =IF(ISNUMBER(J34),ROUND(J34-T34,2),"Missing") -> 0 | AE34: =IF(ISNUMBER(K34),ROUND(K34-U34,2),"Missing") -> 0 | AF34: =IF(ISNUMBER(L34),ROUND(L34-V34,2),"Missing") -> 0 | AG34: =IF(ISNUMBER(M34),ROUND(M34-W34,2),"Missing") -> 0 | ... AI34: =IF(ISNUMBER(O34),ROUND(O34-Y34,2),"Missing") -> 0 | AJ34: =IF(COUNTIF(Z34:AI34,"Missing")>0,"Missing in brioHR",IF(COUNTIF(Z34:AI34,"<>0")>0,"Check","OK")) -> OK

Sheet Discrepancy list
A1: Step 7: discrepancy list for the IM (expected answer)
A3: Employee ID | B3: Name | C3: Field | D3: brioHR value | E3: Old system value | F3: Difference | G3: Pattern / likely cause
A4: 029 | B4: ELIJAH CHEN YI XUAN | C4: All fields | D4: Missing | E4: =Comparison!W33 -> 6277 | F4: Missing | G4: Missing from brioHR. Resigned 28 Feb 2026, so their Jan-Feb history was not migrated. Ask the IM to add it: it is needed for the year-end IR8A.
A5: 004 | B5: GERALD LIM KOK WAH | C5: Ee CPF | D5: =Comparison!K8 -> 7548 | E5: =Comparison!U8 -> 7992 | F5: =Comparison!AE8 -> -444 | G5: Pattern: only the 7 employees aged above 55 to 65 are affected (this one is 58). Their CPF matches the 2025 rates, not the rates from 1 Jan 2026, so the CPF was migrated at the old rates. Net pay is higher by the same amount as Ee CPF.
